Workbook

Sheet Hinweise
B2: Erläuterungen zum Ausfüllen der Meldedatei
B4: Bitte jede Altersklasse in das entsprechende Tabellenblatt eintragen!
B5: Bitte nur Name, Vorname, Jahrgang, Geschlecht, Teamname und Verein eintragen (d.h. Spalten C,D,E,F,G,H)!
B6: Pro Team bitte namentlich einen Riegenführer melden (Spalte M und N).
B7: Bitte auf die zulässigen Jahrgänge achten!

Sheet U8
A1: # | B1: StNr | C1: Name | D1: Vorname | E1: Jahrgang | F1: Geschlecht | G1: Team | H1: Verein | I1: Riege | J1: U8 | M1: Name | N1: Vorname
A2: 1 | J2: Team 1 | L2: Riegenführer
A3: 2 | I3: =IF(C3<> "",I$2,"") | L3: Riegenführer
A4: 3 | H4: =IF(C4<> "",H3,"") | I4: =IF(C4<> "",I$2,"") | L4: Riegenführer
A5: 4 | G5: =IF(C5<> "",G2,"") | H5: =IF(C5<> "",H4,"") | I5: =IF(C5<> "",I$2,"") | L5: Riegenführer
A6: 5 | G6: =IF(C6<> "",G2,"") | H6: =IF(C6<> "",H5,"") | I6: =IF(C6<> "",I$2,"") | L6: Riegenführer
A7: 6 | G7: =IF(C7<> "",G2,"") | H7: =IF(C7<> "",H6,"") | I7: =IF(C7<> "",I$2,"") | L7: Riegenführer
A8: 7 | G8: =IF(C8<> "",G2,"") | H8: =IF(C8<> "",H7,"") | I8: =IF(C8<> "",I$2,"") | L8: Riegenführer
A9: 8 | G9: =IF(C9<> "",G2,"") | H9: =IF(C9<> "",H8,"") | I9: =IF(C9<> "",I$2,"") | L9: Riegenführer
A10: 9 | G10: =IF(C10<> "",G2,"") | H10: =IF(C10<> "",H9,"") | I10: =IF(C10<> "",I$2,"") | L10: Riegenführer
A11: 10 | G11: =IF(C11<> "",G2,"") | H11: =IF(C11<> "",H10,"") | I11: =IF(C11<> "",I$2,"") | L11: Riegenführer
A12: 11 | G12: =IF(C12<> "",G2,"") | H12: =IF(C12<> "",H11,"") | I12: =IF(C12<> "",I$2,"") | L12: Riegenführer
A13: 1 | J13: Team 2
A14: 2 | G14: =IF(C14<> "",G13,"") | I14: =IF(C14<> "",I$13,"") | L14: Jahrgänge 2012/2013 (2014 möglich)
A15: 3 | G15: =IF(C15<> "",G13,"") | I15: =IF(C15<> "",I$13,"")
A16: 4 | G16: =IF(C16<> "",G13,"") | I16: =IF(C16<> "",I$13,"")
A17: 5 | G17: =IF(C17<> "",G13,"") | I17: =IF(C17<> "",I$13,"")
A18: 6 | G18: =IF(C18<> "",G13,"") | I18: =IF(C18<> "",I$13,"")
A19: 7 | G19: =IF(C19<> "",G13,"") | I19: =IF(C19<> "",I$13,"")
A20: 8 | G20: =IF(C20<> "",G13,"") | I20: =IF(C20<> "",I$13,"")
A21: 9 | G21: =IF(C21<> "",G13,"") | I21: =IF(C21<> "",I$13,"")
A22: 10 | G22: =IF(C22<> "",G13,"") | I22: =IF(C22<> "",I$13,"")
A23: 11 | G23: =IF(C23<> "",G13,"") | I23: =IF(C23<> "",I$13,"")
A24: 1 | J24: Team 3
A25: 2 | G25: =IF(C25<> "",G24,"") | I25: =IF(C25<> "",I$24,"")
A26: 3 | G26: =IF(C26<> "",G24,"") | I26: =IF(C26<> "",I$24,"")
A27: 4 | G27: =IF(C27<> "",G24,"") | I27: =IF(C27<> "",I$24,"")
A28: 5 | G28: =IF(C28<> "",G24,"") | I28: =IF(C28<> "",I$24,"")
A29: 6 | G29: =IF(C29<> "",G24,"") | I29: =IF(C29<> "",I$24,"")
A30: 7 | G30: =IF(C30<> "",G24,"") | I30: =IF(C30<> "",I$24,"")
A31: 8 | G31: =IF(C31<> "",G24,"") | I31: =IF(C31<> "",I$24,"")
A32: 9 | G32: =IF(C32<> "",G24,"") | I32: =IF(C32<> "",I$24,"")
A33: 10 | G33: =IF(C33<> "",G24,"") | I33: =IF(C33<> "",I$24,"")
A34: 11 | G34: =IF(C34<> "",G24,"") | I34: =IF(C34<> "",I$24,"")
A35: 1 | J35: Team 4
A36: 2 | G36: =IF(C36<> "",G35,"") | I36: =IF(C36<> "",I$35,"")
A37: 3 | G37: =IF(C37<> "",G35,"") | I37: =IF(C37<> "",I$35,"")
A38: 4 | G38: =IF(C38<> "",G35,"") | I38: =IF(C38<> "",I$35,"")
A39: 5 | G39: =IF(C39<> "",G35,"") | I39: =IF(C39<> "",I$35,"")
A40: 6 | G40: =IF(C40<> "",G35,"") | I40: =IF(C40<> "",I$35,"")
A41: 7 | G41: =IF(C41<> "",G35,"") | I41: =IF(C41<> "",I$35,"")
A42: 8 | G42: =IF(C42<> "",G35,"") | I42: =IF(C42<> "",I$35,"")
A43: 9 | G43: =IF(C43<> "",G35,"") | I43: =IF(C43<> "",I$35,"")
A44: 10 | G44: =IF(C44<> "",G35,"") | I44: =IF(C44<> "",I$35,"")
A45: 11 | G45: =IF(C45<> "",G35,"") | I45: =IF(C45<> "",I$35,"")
A46: 1 | J46: Team 5
A47: 2 | G47: =IF(C47<> "",G46,"") | I47: =IF(C47<> "",I$46,"")
A48: 3 | G48: =IF(C48<> "",G46,"") | I48: =IF(C48<> "",I$46,"")
A49: 4 | G49: =IF(C49<> "",G46,"") | I49: =IF(C49<> "",I$46,"")
A50: 5 | G50: =IF(C50<> "",G46,"") | I50: =IF(C50<> "",I$46,"")
A51: 6 | G51: =IF(C51<> "",G46,"") | I51: =IF(C51<> "",I$46,"")
A52: 7 | G52: =IF(C52<> "",G46,"") | I52: =IF(C52<> "",I$46,"")
A53: 8 | G53: =IF(C53<> "",G46,"") | I53: =IF(C53<> "",I$46,"")
A54: 9 | G54: =IF(C54<> "",G46,"") | I54: =IF(C54<> "",I$46,"")
A55: 10 | G55: =IF(C55<> "",G46,"") | I55: =IF(C55<> "",I$46,"")
A56: 11 | G56: =IF(C56<> "",G46,"") | I56: =IF(C56<> "",I$46,"")
A57: 1 | J57: Team 6
A58: 2 | G58: =IF(C58<> "",G57,"") | I58: =IF(C58<> "",I$57,"")
A59: 3 | G59: =IF(C59<> "",G57,"") | I59: =IF(C59<> "",I$57,"")
A60: 4 | G60: =IF(C60<> "",G57,"") | I60: =IF(C60<> "",I$57,"")
A61: 5 | G61: =IF(C61<> "",G57,"") | I61: =IF(C61<> "",I$57,"")
A62: 6 | G62: =IF(C62<> "",G57,"") | I62: =IF(C62<> "",I$57,"")
A63: 7 | G63: =IF(C63<> "",G57,"") | I63: =IF(C63<> "",I$57,"")
A64: 8 | G64: =IF(C64<> "",G57,"") | I64: =IF(C64<> "",I$57,"")
A65: 9 | G65: =IF(C65<> "",G57,"") | I65: =IF(C65<> "",I$57,"")
A66: 10 | G66: =IF(C66<> "",G57,"") | I66: =IF(C66<> "",I$57,"")
A67: 11 | G67: =IF(C67<> "",G57,"") | I67: =IF(C67<> "",I$57,"")
A68: 1 | J68: Team 7
A69: 2 | G69: =IF(C69<> "",G68,"") | I69: =IF(C69<> "",I$68,"")
A70: 3 | G70: =IF(C70<> "",G68,"") | I70: =IF(C70<> "",I$68,"")
A71: 4 | G71: =IF(C71<> "",G68,"") | I71: =IF(C71<> "",I$68,"")
A72: 5 | G72: =IF(C72<> "",G68,"") | I72: =IF(C72<> "",I$68,"")
A73: 6 | G73: =IF(C73<> "",G68,"") | I73: =IF(C73<> "",I$68,"")
A74: 7 | G74: =IF(C74<> "",G68,"") | I74: =IF(C74<> "",I$68,"")
A75: 8 | G75: =IF(C75<> "",G68,"") | I75: =IF(C75<> "",I$68,"")
A76: 9 | G76: =IF(C76<> "",G68,"") | I76: =IF(C76<> "",I$68,"")
A77: 10 | G77: =IF(C77<> "",G68,"") | I77: =IF(C77<> "",I$68,"")
A78: 11 | G78: =IF(C78<> "",G68,"") | I78: =IF(C78<> "",I$68,"")
A79: 1 | J79: Team 8
A80: 2 | G80: =IF(C80<> "",G79,"") | I80: =IF(C80<> "",I$79,"")
A81: 3 | G81: =IF(C81<> "",G79,"") | I81: =IF(C81<> "",I$79,"")
A82: 4 | G82: =IF(C82<> "",G79,"") | I82: =IF(C82<> "",I$79,"")
A83: 5 | G83: =IF(C83<> "",G79,"") | I83: =IF(C83<> "",I$79,"")
A84: 6 | G84: =IF(C84<> "",G79,"") | I84: =IF(C84<> "",I$79,"")
A85: 7 | G85: =IF(C85<> "",G79,"") | I85: =IF(C85<> "",I$79,"")
A86: 8 | G86: =IF(C86<> "",G79,"") | I86: =IF(C86<> "",I$79,"")
A87: 9 | G87: =IF(C87<> "",G79,"") | I87: =IF(C87<> "",I$79,"")
A88: 10 | G88: =IF(C88<> "",G79,"") | I88: =IF(C88<> "",I$79,"")
A89: 11 | G89: =IF(C89<> "",G79,"") | I89: =IF(C89<> "",I$79,"")
A90: 1 | J90: Team 9
A91: 2 | G91: =IF(C91<> "",G90,"") | I91: =IF(C91<> "",I$90,"")
A92: 3 | G92: =IF(C92<> "",G90,"") | I92: =IF(C92<> "",I$90,"")
A93: 4 | G93: =IF(C93<> "",G90,"") | I93: =IF(C93<> "",I$90,"")
A94: 5 | G94: =IF(C94<> "",G90,"") | I94: =IF(C94<> "",I$90,"")
A95: 6 | G95: =IF(C95<> "",G90,"") | I95: =IF(C95<> "",I$90,"")
A96: 7 | G96: =IF(C96<> "",G90,"") | I96: =IF(C96<> "",I$90,"")
A97: 8 | G97: =IF(C97<> "",G90,"") | I97: =IF(C97<> "",I$90,"")
A98: 9 | G98: =IF(C98<> "",G90,"") | I98: =IF(C98<> "",I$90,"")
A99: 10 | G99: =IF(C99<> "",G90,"") | I99: =IF(C99<> "",I$90,"")
A100: 11 | G100: =IF(C100<> "",G90,"") | I100: =IF(C100<> "",I$90,"")
...

Sheet U10
A1: # | B1: StNr | C1: Name | D1: Vorname | E1: Jahrgang | F1: Geschlecht | G1: Team | H1: Verein | I1: Riege | J1: U10 | M1: Name | N1: Vorname
A2: 1 | J2: Team 1 | L2: Riegenführer
A3: 2 | G3: =IF(C3<> "",G2,"") | H3: =IF(C3<> "",H2,"") | I3: =IF(C3<> "",I$2,"") | L3: Riegenführer
A4: 3 | G4: =IF(C4<> "",G2,"") | H4: =IF(C4<> "",H3,"") | I4: =IF(C4<> "",I$2,"") | L4: Riegenführer
A5: 4 | G5: =IF(C5<> "",G2,"") | H5: =IF(C5<> "",H4,"") | I5: =IF(C5<> "",I$2,"") | L5: Riegenführer
A6: 5 | G6: =IF(C6<> "",G2,"") | H6: =IF(C6<> "",H5,"") | I6: =IF(C6<> "",I$2,"") | L6: Riegenführer
A7: 6 | G7: =IF(C7<> "",G2,"") | H7: =IF(C7<> "",H6,"") | I7: =IF(C7<> "",I$2,"") | L7: Riegenführer
A8: 7 | G8: =IF(C8<> "",G2,"") | H8: =IF(C8<> "",H7,"") | I8: =IF(C8<> "",I$2,"") | L8: Riegenführer
A9: 8 | G9: =IF(C9<> "",G2,"") | H9: =IF(C9<> "",H8,"") | I9: =IF(C9<> "",I$2,"") | L9: Riegenführer
A10: 9 | G10: =IF(C10<> "",G2,"") | H10: =IF(C10<> "",H9,"") | I10: =IF(C10<> "",I$2,"") | L10: Riegenführer
A11: 10 | G11: =IF(C11<> "",G2,"") | H11: =IF(C11<> "",H10,"") | I11: =IF(C11<> "",I$2,"") | L11: Riegenführer
A12: 11 | G12: =IF(C12<> "",G2,"") | H12: =IF(C12<> "",H11,"") | I12: =IF(C12<> "",I$2,"") | L12: Riegenführer
A13: 1 | J13: Team 2
A14: 2 | G14: =IF(C14<> "",G13,"") | I14: =IF(C14<> "",I$13,"") | L14: Jahrgänge 2010/2011 (2012 möglich)
A15: 3 | G15: =IF(C15<> "",G13,"") | I15: =IF(C15<> "",I$13,"")
A16: 4 | G16: =IF(C16<> "",G13,"") | I16: =IF(C16<> "",I$13,"")
A17: 5 | G17: =IF(C17<> "",G13,"") | I17: =IF(C17<> "",I$13,"")
A18: 6 | G18: =IF(C18<> "",G13,"") | I18: =IF(C18<> "",I$13,"")
A19: 7 | G19: =IF(C19<> "",G13,"") | I19: =IF(C19<> "",I$13,"")
A20: 8 | G20: =IF(C20<> "",G13,"") | I20: =IF(C20<> "",I$13,"")
A21: 9 | G21: =IF(C21<> "",G13,"") | I21: =IF(C21<> "",I$13,"")
A22: 10 | G22: =IF(C22<> "",G13,"") | I22: =IF(C22<> "",I$13,"")
A23: 11 | G23: =IF(C23<> "",G13,"") | I23: =IF(C23<> "",I$13,"")
A24: 1 | J24: Team 3
A25: 2 | G25: =IF(C25<> "",G24,"") | I25: =IF(C25<> "",I$24,"")
A26: 3 | G26: =IF(C26<> "",G24,"") | I26: =IF(C26<> "",I$24,"")
A27: 4 | G27: =IF(C27<> "",G24,"") | I27: =IF(C27<> "",I$24,"")
A28: 5 | G28: =IF(C28<> "",G24,"") | I28: =IF(C28<> "",I$24,"")
A29: 6 | G29: =IF(C29<> "",G24,"") | I29: =IF(C29<> "",I$24,"")
A30: 7 | G30: =IF(C30<> "",G24,"") | I30: =IF(C30<> "",I$24,"")
A31: 8 | G31: =IF(C31<> "",G24,"") | I31: =IF(C31<> "",I$24,"")
A32: 9 | G32: =IF(C32<> "",G24,"") | I32: =IF(C32<> "",I$24,"")
A33: 10 | G33: =IF(C33<> "",G24,"") | I33: =IF(C33<> "",I$24,"")
A34: 11 | G34: =IF(C34<> "",G24,"") | I34: =IF(C34<> "",I$24,"")
A35: 1 | J35: Team 4
A36: 2 | G36: =IF(C36<> "",G35,"") | I36: =IF(C36<> "",I$35,"")
A37: 3 | G37: =IF(C37<> "",G35,"") | I37: =IF(C37<> "",I$35,"")
A38: 4 | G38: =IF(C38<> "",G35,"") | I38: =IF(C38<> "",I$35,"")
A39: 5 | G39: =IF(C39<> "",G35,"") | I39: =IF(C39<> "",I$35,"")
A40: 6 | G40: =IF(C40<> "",G35,"") | I40: =IF(C40<> "",I$35,"")
A41: 7 | G41: =IF(C41<> "",G35,"") | I41: =IF(C41<> "",I$35,"")
A42: 8 | G42: =IF(C42<> "",G35,"") | I42: =IF(C42<> "",I$35,"")
A43: 9 | G43: =IF(C43<> "",G35,"") | I43: =IF(C43<> "",I$35,"")
A44: 10 | G44: =IF(C44<> "",G35,"") | I44: =IF(C44<> "",I$35,"")
A45: 11 | G45: =IF(C45<> "",G35,"") | I45: =IF(C45<> "",I$35,"")
A46: 1 | J46: Team 5
A47: 2 | G47: =IF(C47<> "",G46,"") | I47: =IF(C47<> "",I$46,"")
A48: 3 | G48: =IF(C48<> "",G46,"") | I48: =IF(C48<> "",I$46,"")
A49: 4 | G49: =IF(C49<> "",G46,"") | I49: =IF(C49<> "",I$46,"")
A50: 5 | G50: =IF(C50<> "",G46,"") | I50: =IF(C50<> "",I$46,"")
A51: 6 | G51: =IF(C51<> "",G46,"") | I51: =IF(C51<> "",I$46,"")
A52: 7 | G52: =IF(C52<> "",G46,"") | I52: =IF(C52<> "",I$46,"")
A53: 8 | G53: =IF(C53<> "",G46,"") | I53: =IF(C53<> "",I$46,"")
A54: 9 | G54: =IF(C54<> "",G46,"") | I54: =IF(C54<> "",I$46,"")
A55: 10 | G55: =IF(C55<> "",G46,"") | I55: =IF(C55<> "",I$46,"")
A56: 11 | G56: =IF(C56<> "",G46,"") | I56: =IF(C56<> "",I$46,"")
A57: 1 | J57: Team 6
A58: 2 | G58: =IF(C58<> "",G57,"") | I58: =IF(C58<> "",I$57,"")
A59: 3 | G59: =IF(C59<> "",G57,"") | I59: =IF(C59<> "",I$57,"")
A60: 4 | G60: =IF(C60<> "",G57,"") | I60: =IF(C60<> "",I$57,"")
A61: 5 | G61: =IF(C61<> "",G57,"") | I61: =IF(C61<> "",I$57,"")
A62: 6 | G62: =IF(C62<> "",G57,"") | I62: =IF(C62<> "",I$57,"")
A63: 7 | G63: =IF(C63<> "",G57,"") | I63: =IF(C63<> "",I$57,"")
A64: 8 | G64: =IF(C64<> "",G57,"") | I64: =IF(C64<> "",I$57,"")
A65: 9 | G65: =IF(C65<> "",G57,"") | I65: =IF(C65<> "",I$57,"")
A66: 10 | G66: =IF(C66<> "",G57,"") | I66: =IF(C66<> "",I$57,"")
A67: 11 | G67: =IF(C67<> "",G57,"") | I67: =IF(C67<> "",I$57,"")
A68: 1 | J68: Team 7
A69: 2 | G69: =IF(C69<> "",G68,"") | I69: =IF(C69<> "",I$68,"")
A70: 3 | G70: =IF(C70<> "",G68,"") | I70: =IF(C70<> "",I$68,"")
A71: 4 | G71: =IF(C71<> "",G68,"") | I71: =IF(C71<> "",I$68,"")
A72: 5 | G72: =IF(C72<> "",G68,"") | I72: =IF(C72<> "",I$68,"")
A73: 6 | G73: =IF(C73<> "",G68,"") | I73: =IF(C73<> "",I$68,"")
A74: 7 | G74: =IF(C74<> "",G68,"") | I74: =IF(C74<> "",I$68,"")
A75: 8 | G75: =IF(C75<> "",G68,"") | I75: =IF(C75<> "",I$68,"")
A76: 9 | G76: =IF(C76<> "",G68,"") | I76: =IF(C76<> "",I$68,"")
A77: 10 | G77: =IF(C77<> "",G68,"") | I77: =IF(C77<> "",I$68,"")
A78: 11 | G78: =IF(C78<> "",G68,"") | I78: =IF(C78<> "",I$68,"")
A79: 1 | J79: Team 8
A80: 2 | G80: =IF(C80<> "",G79,"") | I80: =IF(C80<> "",I$79,"")
A81: 3 | G81: =IF(C81<> "",G79,"") | I81: =IF(C81<> "",I$79,"")
A82: 4 | G82: =IF(C82<> "",G79,"") | I82: =IF(C82<> "",I$79,"")
A83: 5 | G83: =IF(C83<> "",G79,"") | I83: =IF(C83<> "",I$79,"")
A84: 6 | G84: =IF(C84<> "",G79,"") | I84: =IF(C84<> "",I$79,"")
A85: 7 | G85: =IF(C85<> "",G79,"") | I85: =IF(C85<> "",I$79,"")
A86: 8 | G86: =IF(C86<> "",G79,"") | I86: =IF(C86<> "",I$79,"")
A87: 9 | G87: =IF(C87<> "",G79,"") | I87: =IF(C87<> "",I$79,"")
A88: 10 | G88: =IF(C88<> "",G79,"") | I88: =IF(C88<> "",I$79,"")
A89: 11 | G89: =IF(C89<> "",G79,"") | I89: =IF(C89<> "",I$79,"")
A90: 1 | J90: Team 9
A91: 2 | G91: =IF(C91<> "",G90,"") | I91: =IF(C91<> "",I$90,"")
A92: 3 | G92: =IF(C92<> "",G90,"") | I92: =IF(C92<> "",I$90,"")
A93: 4 | G93: =IF(C93<> "",G90,"") | I93: =IF(C93<> "",I$90,"")
A94: 5 | G94: =IF(C94<> "",G90,"") | I94: =IF(C94<> "",I$90,"")
A95: 6 | G95: =IF(C95<> "",G90,"") | I95: =IF(C95<> "",I$90,"")
A96: 7 | G96: =IF(C96<> "",G90,"") | I96: =IF(C96<> "",I$90,"")
A97: 8 | G97: =IF(C97<> "",G90,"") | I97: =IF(C97<> "",I$90,"")
A98: 9 | G98: =IF(C98<> "",G90,"") | I98: =IF(C98<> "",I$90,"")
A99: 10 | G99: =IF(C99<> "",G90,"") | I99: =IF(C99<> "",I$90,"")
A100: 11 | G100: =IF(C100<> "",G90,"") | I100: =IF(C100<> "",I$90,"")
...

Sheet U12
A1: # | B1: StNr | C1: Name | D1: Vorname | E1: Jahrgang | F1: Geschlecht | G1: Team | H1: Verein | I1: Riege | J1: U12 | M1: Name | N1: Vorname
A2: 1 | J2: Team 1 | L2: Riegenführer
A3: 2 | G3: =IF(C3<> "",G2,"") | H3: =IF(C3<> "",H2,"") | I3: =IF(C3<> "",I$2,"") | L3: Riegenführer
A4: 3 | G4: =IF(C4<> "",G2,"") | H4: =IF(C4<> "",H3,"") | I4: =IF(C4<> "",I$2,"") | L4: Riegenführer
A5: 4 | G5: =IF(C5<> "",G2,"") | H5: =IF(C5<> "",H4,"") | I5: =IF(C5<> "",I$2,"") | L5: Riegenführer
A6: 5 | G6: =IF(C6<> "",G2,"") | H6: =IF(C6<> "",H5,"") | I6: =IF(C6<> "",I$2,"") | L6: Riegenführer
A7: 6 | G7: =IF(C7<> "",G2,"") | H7: =IF(C7<> "",H6,"") | I7: =IF(C7<> "",I$2,"") | L7: Riegenführer
A8: 7 | G8: =IF(C8<> "",G2,"") | H8: =IF(C8<> "",H7,"") | I8: =IF(C8<> "",I$2,"") | L8: Riegenführer
A9: 8 | G9: =IF(C9<> "",G2,"") | H9: =IF(C9<> "",H8,"") | I9: =IF(C9<> "",I$2,"") | L9: Riegenführer
A10: 9 | G10: =IF(C10<> "",G2,"") | H10: =IF(C10<> "",H9,"") | I10: =IF(C10<> "",I$2,"") | L10: Riegenführer
A11: 10 | G11: =IF(C11<> "",G2,"") | H11: =IF(C11<> "",H10,"") | I11: =IF(C11<> "",I$2,"") | L11: Riegenführer
A12: 11 | G12: =IF(C12<> "",G2,"") | H12: =IF(C12<> "",H11,"") | I12: =IF(C12<> "",I$2,"") | L12: Riegenführer
A13: 1 | J13: Team 2
A14: 2 | G14: =IF(C14<> "",G13,"") | I14: =IF(C14<> "",I$13,"") | L14: Jahrgänge 2008/2009 (2010 möglich)
A15: 3 | G15: =IF(C15<> "",G13,"") | I15: =IF(C15<> "",I$13,"")
A16: 4 | G16: =IF(C16<> "",G13,"") | I16: =IF(C16<> "",I$13,"")
A17: 5 | G17: =IF(C17<> "",G13,"") | I17: =IF(C17<> "",I$13,"")
A18: 6 | G18: =IF(C18<> "",G13,"") | I18: =IF(C18<> "",I$13,"")
A19: 7 | G19: =IF(C19<> "",G13,"") | I19: =IF(C19<> "",I$13,"")
A20: 8 | G20: =IF(C20<> "",G13,"") | I20: =IF(C20<> "",I$13,"")
A21: 9 | G21: =IF(C21<> "",G13,"") | I21: =IF(C21<> "",I$13,"")
A22: 10 | G22: =IF(C22<> "",G13,"") | I22: =IF(C22<> "",I$13,"")
A23: 11 | G23: =IF(C23<> "",G13,"") | I23: =IF(C23<> "",I$13,"")
A24: 1 | J24: Team 3
A25: 2 | G25: =IF(C25<> "",G24,"") | I25: =IF(C25<> "",I$24,"")
A26: 3 | G26: =IF(C26<> "",G24,"") | I26: =IF(C26<> "",I$24,"")
A27: 4 | G27: =IF(C27<> "",G24,"") | I27: =IF(C27<> "",I$24,"")
A28: 5 | G28: =IF(C28<> "",G24,"") | I28: =IF(C28<> "",I$24,"")
A29: 6 | G29: =IF(C29<> "",G24,"") | I29: =IF(C29<> "",I$24,"")
A30: 7 | G30: =IF(C30<> "",G24,"") | I30: =IF(C30<> "",I$24,"")
A31: 8 | G31: =IF(C31<> "",G24,"") | I31: =IF(C31<> "",I$24,"")
A32: 9 | G32: =IF(C32<> "",G24,"") | I32: =IF(C32<> "",I$24,"")
A33: 10 | G33: =IF(C33<> "",G24,"") | I33: =IF(C33<> "",I$24,"")
A34: 11 | G34: =IF(C34<> "",G24,"") | I34: =IF(C34<> "",I$24,"")
A35: 1 | J35: Team 4
A36: 2 | G36: =IF(C36<> "",G35,"") | I36: =IF(C36<> "",I$35,"")
A37: 3 | G37: =IF(C37<> "",G35,"") | I37: =IF(C37<> "",I$35,"")
A38: 4 | G38: =IF(C38<> "",G35,"") | I38: =IF(C38<> "",I$35,"")
A39: 5 | G39: =IF(C39<> "",G35,"") | I39: =IF(C39<> "",I$35,"")
A40: 6 | G40: =IF(C40<> "",G35,"") | I40: =IF(C40<> "",I$35,"")
A41: 7 | G41: =IF(C41<> "",G35,"") | I41: =IF(C41<> "",I$35,"")
A42: 8 | G42: =IF(C42<> "",G35,"") | I42: =IF(C42<> "",I$35,"")
A43: 9 | G43: =IF(C43<> "",G35,"") | I43: =IF(C43<> "",I$35,"")
A44: 10 | G44: =IF(C44<> "",G35,"") | I44: =IF(C44<> "",I$35,"")
A45: 11 | G45: =IF(C45<> "",G35,"") | I45: =IF(C45<> "",I$35,"")
A46: 1 | J46: Team 5
A47: 2 | G47: =IF(C47<> "",G46,"") | I47: =IF(C47<> "",I$46,"")
A48: 3 | G48: =IF(C48<> "",G46,"") | I48: =IF(C48<> "",I$46,"")
A49: 4 | G49: =IF(C49<> "",G46,"") | I49: =IF(C49<> "",I$46,"")
A50: 5 | G50: =IF(C50<> "",G46,"") | I50: =IF(C50<> "",I$46,"")
A51: 6 | G51: =IF(C51<> "",G46,"") | I51: =IF(C51<> "",I$46,"")
A52: 7 | G52: =IF(C52<> "",G46,"") | I52: =IF(C52<> "",I$46,"")
A53: 8 | G53: =IF(C53<> "",G46,"") | I53: =IF(C53<> "",I$46,"")
A54: 9 | G54: =IF(C54<> "",G46,"") | I54: =IF(C54<> "",I$46,"")
A55: 10 | G55: =IF(C55<> "",G46,"") | I55: =IF(C55<> "",I$46,"")
A56: 11 | G56: =IF(C56<> "",G46,"") | I56: =IF(C56<> "",I$46,"")
A57: 1 | J57: Team 6
A58: 2 | G58: =IF(C58<> "",G57,"") | I58: =IF(C58<> "",I$57,"")
A59: 3 | G59: =IF(C59<> "",G57,"") | I59: =IF(C59<> "",I$57,"")
A60: 4 | G60: =IF(C60<> "",G57,"") | I60: =IF(C60<> "",I$57,"")
A61: 5 | G61: =IF(C61<> "",G57,"") | I61: =IF(C61<> "",I$57,"")
A62: 6 | G62: =IF(C62<> "",G57,"") | I62: =IF(C62<> "",I$57,"")
A63: 7 | G63: =IF(C63<> "",G57,"") | I63: =IF(C63<> "",I$57,"")
A64: 8 | G64: =IF(C64<> "",G57,"") | I64: =IF(C64<> "",I$57,"")
A65: 9 | G65: =IF(C65<> "",G57,"") | I65: =IF(C65<> "",I$57,"")
A66: 10 | G66: =IF(C66<> "",G57,"") | I66: =IF(C66<> "",I$57,"")
A67: 11 | G67: =IF(C67<> "",G57,"") | I67: =IF(C67<> "",I$57,"")
A68: 1 | J68: Team 7
A69: 2 | G69: =IF(C69<> "",G68,"") | I69: =IF(C69<> "",I$68,"")
A70: 3 | G70: =IF(C70<> "",G68,"") | I70: =IF(C70<> "",I$68,"")
A71: 4 | G71: =IF(C71<> "",G68,"") | I71: =IF(C71<> "",I$68,"")
A72: 5 | G72: =IF(C72<> "",G68,"") | I72: =IF(C72<> "",I$68,"")
A73: 6 | G73: =IF(C73<> "",G68,"") | I73: =IF(C73<> "",I$68,"")
A74: 7 | G74: =IF(C74<> "",G68,"") | I74: =IF(C74<> "",I$68,"")
A75: 8 | G75: =IF(C75<> "",G68,"") | I75: =IF(C75<> "",I$68,"")
A76: 9 | G76: =IF(C76<> "",G68,"") | I76: =IF(C76<> "",I$68,"")
A77: 10 | G77: =IF(C77<> "",G68,"") | I77: =IF(C77<> "",I$68,"")
A78: 11 | G78: =IF(C78<> "",G68,"") | I78: =IF(C78<> "",I$68,"")
A79: 1 | J79: Team 8
A80: 2 | G80: =IF(C80<> "",G79,"") | I80: =IF(C80<> "",I$79,"")
A81: 3 | G81: =IF(C81<> "",G79,"") | I81: =IF(C81<> "",I$79,"")
A82: 4 | G82: =IF(C82<> "",G79,"") | I82: =IF(C82<> "",I$79,"")
A83: 5 | G83: =IF(C83<> "",G79,"") | I83: =IF(C83<> "",I$79,"")
A84: 6 | G84: =IF(C84<> "",G79,"") | I84: =IF(C84<> "",I$79,"")
A85: 7 | G85: =IF(C85<> "",G79,"") | I85: =IF(C85<> "",I$79,"")
A86: 8 | G86: =IF(C86<> "",G79,"") | I86: =IF(C86<> "",I$79,"")
A87: 9 | G87: =IF(C87<> "",G79,"") | I87: =IF(C87<> "",I$79,"")
A88: 10 | G88: =IF(C88<> "",G79,"") | I88: =IF(C88<> "",I$79,"")
A89: 11 | G89: =IF(C89<> "",G79,"") | I89: =IF(C89<> "",I$79,"")
A90: 1 | J90: Team 9
A91: 2 | G91: =IF(C91<> "",G90,"") | I91: =IF(C91<> "",I$90,"")
A92: 3 | G92: =IF(C92<> "",G90,"") | I92: =IF(C92<> "",I$90,"")
A93: 4 | G93: =IF(C93<> "",G90,"") | I93: =IF(C93<> "",I$90,"")
A94: 5 | G94: =IF(C94<> "",G90,"") | I94: =IF(C94<> "",I$90,"")
A95: 6 | G95: =IF(C95<> "",G90,"") | I95: =IF(C95<> "",I$90,"")
A96: 7 | G96: =IF(C96<> "",G90,"") | I96: =IF(C96<> "",I$90,"")
A97: 8 | G97: =IF(C97<> "",G90,"") | I97: =IF(C97<> "",I$90,"")
A98: 9 | G98: =IF(C98<> "",G90,"") | I98: =IF(C98<> "",I$90,"")
A99: 10 | G99: =IF(C99<> "",G90,"") | I99: =IF(C99<> "",I$90,"")
A100: 11 | G100: =IF(C100<> "",G90,"") | I100: =IF(C100<> "",I$90,"")
...

Sheet Hilfe
A1: {=IF(ROWS($1:1)>SUBTOTAL(3,#REF!),"",SMALL(IF(SUBTOTAL(3,INDIRECT("'Einzelwertung U12'!G"&ROW($2:$177))),#REF!),ROWS($1:1)))} -> #REF! | B1: {=IF(ROWS($1:1)>SUBTOTAL(3,#REF!),"",SMALL(IF(SUBTOTAL(3,INDIRECT("'Einzelwertung U12'!I"&ROW($2:$177))),#REF!),ROWS($1:1)))} -> #REF! | C1: {=IF(ROWS($1:1)>SUBTOTAL(3,#REF!),"",SMALL(IF(SUBTOTAL(3,INDIRECT("'Einzelwertung U12'!K"&ROW($2:$177))),#REF!),ROWS($1:1)))} -> #REF! | D1: {=IF(ROWS($1:1)>SUBTOTAL(3,#REF!),"",SMALL(IF(SUBTOTAL(3,INDIRECT("'Einzelwertung U12'!M"&ROW($2:$177))),#REF!),ROWS($1:1)))} -> #REF! | E1: {=IF(ROWS($1:1)>SUBTOTAL(3,#REF!),"",SMALL(IF(SUBTOTAL(3,INDIRECT("'Einzelwertung U12'!O"&ROW($2:$177))),#REF!),ROWS($1:1)))} -> #REF! | F1: {=IF(ROWS($1:1)>SUBTOTAL(3,#REF!),"",SMALL(IF(SUBTOTAL(3,INDIRECT("'Einzelwertung U12'!Q"&ROW($2:$177))),#REF!),ROWS($1:1)))} -> #REF! | G1: {=IF(ROWS($1:1)>SUBTOTAL(3,#REF!),"",IF(OR(A1<>"",B1<>"",C1<>"",D1<>"",E1<>"",F1<>""),SMALL(IF(SUBTOTAL(3,INDIRECT("'Einzelwertung U12'!S"&ROW($2:$177))),#REF!),ROWS($1:1)),""))} -> #REF!
A2: {=IF(ROWS($1:2)>SUBTOTAL(3,#REF!),"",SMALL(IF(SUBTOTAL(3,INDIRECT("'Einzelwertung U12'!G"&ROW($2:$177))),#REF!),ROWS($1:2)))} -> #REF! | B2: {=IF(ROWS($1:2)>SUBTOTAL(3,#REF!),"",SMALL(IF(SUBTOTAL(3,INDIRECT("'Einzelwertung U12'!I"&ROW($2:$177))),#REF!),ROWS($1:2)))} -> #REF! | C2: {=IF(ROWS($1:2)>SUBTOTAL(3,#REF!),"",SMALL(IF(SUBTOTAL(3,INDIRECT("'Einzelwertung U12'!K"&ROW($2:$177))),#REF!),ROWS($1:2)))} -> #REF! | D2: {=IF(ROWS($1:2)>SUBTOTAL(3,#REF!),"",SMALL(IF(SUBTOTAL(3,INDIRECT("'Einzelwertung U12'!M"&ROW($2:$177))),#REF!),ROWS($1:2)))} -> #REF! | E2: {=IF(ROWS($1:2)>SUBTOTAL(3,#REF!),"",SMALL(IF(SUBTOTAL(3,INDIRECT("'Einzelwertung U12'!O"&ROW($2:$177))),#REF!),ROWS($1:2)))} -> #REF! | F2: {=IF(ROWS($1:2)>SUBTOTAL(3,#REF!),"",SMALL(IF(SUBTOTAL(3,INDIRECT("'Einzelwertung U12'!Q"&ROW($2:$177))),#REF!),ROWS($1:2)))} -> #REF! | G2: {=IF(ROWS($1:2)>SUBTOTAL(3,#REF!),"",IF(OR(A2<>"",B2<>"",C2<>"",D2<>"",E2<>"",F2<>""),SMALL(IF(SUBTOTAL(3,INDIRECT("'Einzelwertung U12'!S"&ROW($2:$177))),#REF!),ROWS($1:2)),""))} -> #REF!
A3: {=IF(ROWS($1:3)>SUBTOTAL(3,#REF!),"",SMALL(IF(SUBTOTAL(3,INDIRECT("'Einzelwertung U12'!G"&ROW($2:$177))),#REF!),ROWS($1:3)))} -> #REF! | B3: {=IF(ROWS($1:3)>SUBTOTAL(3,#REF!),"",SMALL(IF(SUBTOTAL(3,INDIRECT("'Einzelwertung U12'!I"&ROW($2:$177))),#REF!),ROWS($1:3)))} -> #REF! | C3: {=IF(ROWS($1:3)>SUBTOTAL(3,#REF!),"",SMALL(IF(SUBTOTAL(3,INDIRECT("'Einzelwertung U12'!K"&ROW($2:$177))),#REF!),ROWS($1:3)))} -> #REF! | D3: {=IF(ROWS($1:3)>SUBTOTAL(3,#REF!),"",SMALL(IF(SUBTOTAL(3,INDIRECT("'Einzelwertung U12'!M"&ROW($2:$177))),#REF!),ROWS($1:3)))} -> #REF! | E3: {=IF(ROWS($1:3)>SUBTOTAL(3,#REF!),"",SMALL(IF(SUBTOTAL(3,INDIRECT("'Einzelwertung U12'!O"&ROW($2:$177))),#REF!),ROWS($1:3)))} -> #REF! | F3: {=IF(ROWS($1:3)>SUBTOTAL(3,#REF!),"",SMALL(IF(SUBTOTAL(3,INDIRECT("'Einzelwertung U12'!Q"&ROW($2:$177))),#REF!),ROWS($1:3)))} -> #REF! | G3: {=IF(ROWS($1:3)>SUBTOTAL(3,#REF!),"",IF(OR(A3<>"",B3<>"",C3<>"",D3<>"",E3<>"",F3<>""),SMALL(IF(SUBTOTAL(3,INDIRECT("'Einzelwertung U12'!S"&ROW($2:$177))),#REF!),ROWS($1:3)),""))} -> #REF!
A4: {=IF(ROWS($1:4)>SUBTOTAL(3,#REF!),"",SMALL(IF(SUBTOTAL(3,INDIRECT("'Einzelwertung U12'!G"&ROW($2:$177))),#REF!),ROWS($1:4)))} -> #REF! | B4: {=IF(ROWS($1:4)>SUBTOTAL(3,#REF!),"",SMALL(IF(SUBTOTAL(3,INDIRECT("'Einzelwertung U12'!I"&ROW($2:$177))),#REF!),ROWS($1:4)))} -> #REF! | C4: {=IF(ROWS($1:4)>SUBTOTAL(3,#REF!),"",SMALL(IF(SUBTOTAL(3,INDIRECT("'Einzelwertung U12'!K"&ROW($2:$177))),#REF!),ROWS($1:4)))} -> #REF! | D4: {=IF(ROWS($1:4)>SUBTOTAL(3,#REF!),"",SMALL(IF(SUBTOTAL(3,INDIRECT("'Einzelwertung U12'!M"&ROW($2:$177))),#REF!),ROWS($1:4)))} -> #REF! | E4: {=IF(ROWS($1:4)>SUBTOTAL(3,#REF!),"",SMALL(IF(SUBTOTAL(3,INDIRECT("'Einzelwertung U12'!O"&ROW($2:$177))),#REF!),ROWS($1:4)))} -> #REF! | F4: {=IF(ROWS($1:4)>SUBTOTAL(3,#REF!),"",SMALL(IF(SUBTOTAL(3,INDIRECT("'Einzelwertung U12'!Q"&ROW($2:$177))),#REF!),ROWS($1:4)))} -> #REF! | G4: {=IF(ROWS($1:4)>SUBTOTAL(3,#REF!),"",IF(OR(A4<>"",B4<>"",C4<>"",D4<>"",E4<>"",F4<>""),SMALL(IF(SUBTOTAL(3,INDIRECT("'Einzelwertung U12'!S"&ROW($2:$177))),#REF!),ROWS($1:4)),""))} -> #REF!
A5: {=IF(ROWS($1:5)>SUBTOTAL(3,#REF!),"",SMALL(IF(SUBTOTAL(3,INDIRECT("'Einzelwertung U12'!G"&ROW($2:$177))),#REF!),ROWS($1:5)))} -> #REF! | B5: {=IF(ROWS($1:5)>SUBTOTAL(3,#REF!),"",SMALL(IF(SUBTOTAL(3,INDIRECT("'Einzelwertung U12'!I"&ROW($2:$177))),#REF!),ROWS($1:5)))} -> #REF! | C5: {=IF(ROWS($1:5)>SUBTOTAL(3,#REF!),"",SMALL(IF(SUBTOTAL(3,INDIRECT("'Einzelwertung U12'!K"&ROW($2:$177))),#REF!),ROWS($1:5)))} -> #REF! | D5: {=IF(ROWS($1:5)>SUBTOTAL(3,#REF!),"",SMALL(IF(SUBTOTAL(3,INDIRECT("'Einzelwertung U12'!M"&ROW($2:$177))),#REF!),ROWS($1:5)))} -> #REF! | E5: {=IF(ROWS($1:5)>SUBTOTAL(3,#REF!),"",SMALL(IF(SUBTOTAL(3,INDIRECT("'Einzelwertung U12'!O"&ROW($2:$177))),#REF!),ROWS($1:5)))} -> #REF! | F5: {=IF(ROWS($1:5)>SUBTOTAL(3,#REF!),"",SMALL(IF(SUBTOTAL(3,INDIRECT("'Einzelwertung U12'!Q"&ROW($2:$177))),#REF!),ROWS($1:5)))} -> #REF! | G5: {=IF(ROWS($1:5)>SUBTOTAL(3,#REF!),"",IF(OR(A5<>"",B5<>"",C5<>"",D5<>"",E5<>"",F5<>""),SMALL(IF(SUBTOTAL(3,INDIRECT("'Einzelwertung U12'!S"&ROW($2:$177))),#REF!),ROWS($1:5)),""))} -> #REF!
A6: {=IF(ROWS($1:6)>SUBTOTAL(3,#REF!),"",SMALL(IF(SUBTOTAL(3,INDIRECT("'Einzelwertung U12'!G"&ROW($2:$177))),#REF!),ROWS($1:6)))} -> #REF! | B6: {=IF(ROWS($1:6)>SUBTOTAL(3,#REF!),"",SMALL(IF(SUBTOTAL(3,INDIRECT("'Einzelwertung U12'!I"&ROW($2:$177))),#REF!),ROWS($1:6)))} -> #REF! | C6: {=IF(ROWS($1:6)>SUBTOTAL(3,#REF!),"",SMALL(IF(SUBTOTAL(3,INDIRECT("'Einzelwertung U12'!K"&ROW($2:$177))),#REF!),ROWS($1:6)))} -> #REF! | D6: {=IF(ROWS($1:6)>SUBTOTAL(3,#REF!),"",SMALL(IF(SUBTOTAL(3,INDIRECT("'Einzelwertung U12'!M"&ROW($2:$177))),#REF!),ROWS($1:6)))} -> #REF! | E6: {=IF(ROWS($1:6)>SUBTOTAL(3,#REF!),"",SMALL(IF(SUBTOTAL(3,INDIRECT("'Einzelwertung U12'!O"&ROW($2:$177))),#REF!),ROWS($1:6)))} -> #REF! | F6: {=IF(ROWS($1:6)>SUBTOTAL(3,#REF!),"",SMALL(IF(SUBTOTAL(3,INDIRECT("'Einzelwertung U12'!Q"&ROW($2:$177))),#REF!),ROWS($1:6)))} -> #REF! | G6: {=IF(ROWS($1:6)>SUBTOTAL(3,#REF!),"",IF(OR(A6<>"",B6<>"",C6<>"",D6<>"",E6<>"",F6<>""),SMALL(IF(SUBTOTAL(3,INDIRECT("'Einzelwertung U12'!S"&ROW($2:$177))),#REF!),ROWS($1:6)),""))} -> #REF!
A7: {=IF(ROWS($1:7)>SUBTOTAL(3,#REF!),"",SMALL(IF(SUBTOTAL(3,INDIRECT("'Einzelwertung U12'!G"&ROW($2:$177))),#REF!),ROWS($1:7)))} -> #REF! | B7: {=IF(ROWS($1:7)>SUBTOTAL(3,#REF!),"",SMALL(IF(SUBTOTAL(3,INDIRECT("'Einzelwertung U12'!I"&ROW($2:$177))),#REF!),ROWS($1:7)))} -> #REF! | C7: {=IF(ROWS($1:7)>SUBTOTAL(3,#REF!),"",SMALL(IF(SUBTOTAL(3,INDIRECT("'Einzelwertung U12'!K"&ROW($2:$177))),#REF!),ROWS($1:7)))} -> #REF! | D7: {=IF(ROWS($1:7)>SUBTOTAL(3,#REF!),"",SMALL(IF(SUBTOTAL(3,INDIRECT("'Einzelwertung U12'!M"&ROW($2:$177))),#REF!),ROWS($1:7)))} -> #REF! | E7: {=IF(ROWS($1:7)>SUBTOTAL(3,#REF!),"",SMALL(IF(SUBTOTAL(3,INDIRECT("'Einzelwertung U12'!O"&ROW($2:$177))),#REF!),ROWS($1:7)))} -> #REF! | F7: {=IF(ROWS($1:7)>SUBTOTAL(3,#REF!),"",SMALL(IF(SUBTOTAL(3,INDIRECT("'Einzelwertung U12'!Q"&ROW($2:$177))),#REF!),ROWS($1:7)))} -> #REF! | G7: {=IF(ROWS($1:7)>SUBTOTAL(3,#REF!),"",IF(OR(A7<>"",B7<>"",C7<>"",D7<>"",E7<>"",F7<>""),SMALL(IF(SUBTOTAL(3,INDIRECT("'Einzelwertung U12'!S"&ROW($2:$177))),#REF!),ROWS($1:7)),""))} -> #REF!
A8: {=IF(ROWS($1:8)>SUBTOTAL(3,#REF!),"",SMALL(IF(SUBTOTAL(3,INDIRECT("'Einzelwertung U12'!G"&ROW($2:$177))),#REF!),ROWS($1:8)))} -> #REF! | B8: {=IF(ROWS($1:8)>SUBTOTAL(3,#REF!),"",SMALL(IF(SUBTOTAL(3,INDIRECT("'Einzelwertung U12'!I"&ROW($2:$177))),#REF!),ROWS($1:8)))} -> #REF! | C8: {=IF(ROWS($1:8)>SUBTOTAL(3,#REF!),"",SMALL(IF(SUBTOTAL(3,INDIRECT("'Einzelwertung U12'!K"&ROW($2:$177))),#REF!),ROWS($1:8)))} -> #REF! | D8: {=IF(ROWS($1:8)>SUBTOTAL(3,#REF!),"",SMALL(IF(SUBTOTAL(3,INDIRECT("'Einzelwertung U12'!M"&ROW($2:$177))),#REF!),ROWS($1:8)))} -> #REF! | E8: {=IF(ROWS($1:8)>SUBTOTAL(3,#REF!),"",SMALL(IF(SUBTOTAL(3,INDIRECT("'Einzelwertung U12'!O"&ROW($2:$177))),#REF!),ROWS($1:8)))} -> #REF! | F8: {=IF(ROWS($1:8)>SUBTOTAL(3,#REF!),"",SMALL(IF(SUBTOTAL(3,INDIRECT("'Einzelwertung U12'!Q"&ROW($2:$177))),#REF!),ROWS($1:8)))} -> #REF! | G8: {=IF(ROWS($1:8)>SUBTOTAL(3,#REF!),"",IF(OR(A8<>"",B8<>"",C8<>"",D8<>"",E8<>"",F8<>""),SMALL(IF(SUBTOTAL(3,INDIRECT("'Einzelwertung U12'!S"&ROW($2:$177))),#REF!),ROWS($1:8)),""))} -> #REF!
A9: {=IF(ROWS($1:9)>SUBTOTAL(3,#REF!),"",SMALL(IF(SUBTOTAL(3,INDIRECT("'Einzelwertung U12'!G"&ROW($2:$177))),#REF!),ROWS($1:9)))} -> #REF! | B9: {=IF(ROWS($1:9)>SUBTOTAL(3,#REF!),"",SMALL(IF(SUBTOTAL(3,INDIRECT("'Einzelwertung U12'!I"&ROW($2:$177))),#REF!),ROWS($1:9)))} -> #REF! | C9: {=IF(ROWS($1:9)>SUBTOTAL(3,#REF!),"",SMALL(IF(SUBTOTAL(3,INDIRECT("'Einzelwertung U12'!K"&ROW($2:$177))),#REF!),ROWS($1:9)))} -> #REF! | D9: {=IF(ROWS($1:9)>SUBTOTAL(3,#REF!),"",SMALL(IF(SUBTOTAL(3,INDIRECT("'Einzelwertung U12'!M"&ROW($2:$177))),#REF!),ROWS($1:9)))} -> #REF! | E9: {=IF(ROWS($1:9)>SUBTOTAL(3,#REF!),"",SMALL(IF(SUBTOTAL(3,INDIRECT("'Einzelwertung U12'!O"&ROW($2:$177))),#REF!),ROWS($1:9)))} -> #REF! | F9: {=IF(ROWS($1:9)>SUBTOTAL(3,#REF!),"",SMALL(IF(SUBTOTAL(3,INDIRECT("'Einzelwertung U12'!Q"&ROW($2:$177))),#REF!),ROWS($1:9)))} -> #REF! | G9: {=IF(ROWS($1:9)>SUBTOTAL(3,#REF!),"",IF(OR(A9<>"",B9<>"",C9<>"",D9<>"",E9<>"",F9<>""),SMALL(IF(SUBTOTAL(3,INDIRECT("'Einzelwertung U12'!S"&ROW($2:$177))),#REF!),ROWS($1:9)),""))} -> #REF!
A10: {=IF(ROWS($1:10)>SUBTOTAL(3,#REF!),"",SMALL(IF(SUBTOTAL(3,INDIRECT("'Einzelwertung U12'!G"&ROW($2:$177))),#REF!),ROWS($1:10)))} -> #REF! | B10: {=IF(ROWS($1:10)>SUBTOTAL(3,#REF!),"",SMALL(IF(SUBTOTAL(3,INDIRECT("'Einzelwertung U12'!I"&ROW($2:$177))),#REF!),ROWS($1:10)))} -> #REF! | C10: {=IF(ROWS($1:10)>SUBTOTAL(3,#REF!),"",SMALL(IF(SUBTOTAL(3,INDIRECT("'Einzelwertung U12'!K"&ROW($2:$177))),#REF!),ROWS($1:10)))} -> #REF! | D10: {=IF(ROWS($1:10)>SUBTOTAL(3,#REF!),"",SMALL(IF(SUBTOTAL(3,INDIRECT("'Einzelwertung U12'!M"&ROW($2:$177))),#REF!),ROWS($1:10)))} -> #REF! | E10: {=IF(ROWS($1:10)>SUBTOTAL(3,#REF!),"",SMALL(IF(SUBTOTAL(3,INDIRECT("'Einzelwertung U12'!O"&ROW($2:$177))),#REF!),ROWS($1:10)))} -> #REF! | F10: {=IF(ROWS($1:10)>SUBTOTAL(3,#REF!),"",SMALL(IF(SUBTOTAL(3,INDIRECT("'Einzelwertung U12'!Q"&ROW($2:$177))),#REF!),ROWS($1:10)))} -> #REF! | G10: {=IF(ROWS($1:10)>SUBTOTAL(3,#REF!),"",IF(OR(A10<>"",B10<>"",C10<>"",D10<>"",E10<>"",F10<>""),SMALL(IF(SUBTOTAL(3,INDIRECT("'Einzelwertung U12'!S"&ROW($2:$177))),#REF!),ROWS($1:10)),""))} -> #REF!
A11: {=IF(ROWS($1:11)>SUBTOTAL(3,#REF!),"",SMALL(IF(SUBTOTAL(3,INDIRECT("'Einzelwertung U12'!G"&ROW($2:$177))),#REF!),ROWS($1:11)))} -> #REF! | B11: {=IF(ROWS($1:11)>SUBTOTAL(3,#REF!),"",SMALL(IF(SUBTOTAL(3,INDIRECT("'Einzelwertung U12'!I"&ROW($2:$177))),#REF!),ROWS($1:11)))} -> #REF! | C11: {=IF(ROWS($1:11)>SUBTOTAL(3,#REF!),"",SMALL(IF(SUBTOTAL(3,INDIRECT("'Einzelwertung U12'!K"&ROW($2:$177))),#REF!),ROWS($1:11)))} -> #REF! | D11: {=IF(ROWS($1:11)>SUBTOTAL(3,#REF!),"",SMALL(IF(SUBTOTAL(3,INDIRECT("'Einzelwertung U12'!M"&ROW($2:$177))),#REF!),ROWS($1:11)))} -> #REF! | E11: {=IF(ROWS($1:11)>SUBTOTAL(3,#REF!),"",SMALL(IF(SUBTOTAL(3,INDIRECT("'Einzelwertung U12'!O"&ROW($2:$177))),#REF!),ROWS($1:11)))} -> #REF! | F11: {=IF(ROWS($1:11)>SUBTOTAL(3,#REF!),"",SMALL(IF(SUBTOTAL(3,INDIRECT("'Einzelwertung U12'!Q"&ROW($2:$177))),#REF!),ROWS($1:11)))} -> #REF! | G11: {=IF(ROWS($1:11)>SUBTOTAL(3,#REF!),"",IF(OR(A11<>"",B11<>"",C11<>"",D11<>"",E11<>"",F11<>""),SMALL(IF(SUBTOTAL(3,INDIRECT("'Einzelwertung U12'!S"&ROW($2:$177))),#REF!),ROWS($1:11)),""))} -> #REF!
A12: {=IF(ROWS($1:12)>SUBTOTAL(3,#REF!),"",SMALL(IF(SUBTOTAL(3,INDIRECT("'Einzelwertung U12'!G"&ROW($2:$177))),#REF!),ROWS($1:12)))} -> #REF! | B12: {=IF(ROWS($1:12)>SUBTOTAL(3,#REF!),"",SMALL(IF(SUBTOTAL(3,INDIRECT("'Einzelwertung U12'!I"&ROW($2:$177))),#REF!),ROWS($1:12)))} -> #REF! | C12: {=IF(ROWS($1:12)>SUBTOTAL(3,#REF!),"",SMALL(IF(SUBTOTAL(3,INDIRECT("'Einzelwertung U12'!K"&ROW($2:$177))),#REF!),ROWS($1:12)))} -> #REF! | D12: {=IF(ROWS($1:12)>SUBTOTAL(3,#REF!),"",SMALL(IF(SUBTOTAL(3,INDIRECT("'Einzelwertung U12'!M"&ROW($2:$177))),#REF!),ROWS($1:12)))} -> #REF! | E12: {=IF(ROWS($1:12)>SUBTOTAL(3,#REF!),"",SMALL(IF(SUBTOTAL(3,INDIRECT("'Einzelwertung U12'!O"&ROW($2:$177))),#REF!),ROWS($1:12)))} -> #REF! | F12: {=IF(ROWS($1:12)>SUBTOTAL(3,#REF!),"",SMALL(IF(SUBTOTAL(3,INDIRECT("'Einzelwertung U12'!Q"&ROW($2:$177))),#REF!),ROWS($1:12)))} -> #REF! | G12: {=IF(ROWS($1:12)>SUBTOTAL(3,#REF!),"",IF(OR(A12<>"",B12<>"",C12<>"",D12<>"",E12<>"",F12<>""),SMALL(IF(SUBTOTAL(3,INDIRECT("'Einzelwertung U12'!S"&ROW($2:$177))),#REF!),ROWS($1:12)),""))} -> #REF!
A13: {=IF(ROWS($1:13)>SUBTOTAL(3,#REF!),"",SMALL(IF(SUBTOTAL(3,INDIRECT("'Einzelwertung U12'!G"&ROW($2:$177))),#REF!),ROWS($1:13)))} -> #REF! | B13: {=IF(ROWS($1:13)>SUBTOTAL(3,#REF!),"",SMALL(IF(SUBTOTAL(3,INDIRECT("'Einzelwertung U12'!I"&ROW($2:$177))),#REF!),ROWS($1:13)))} -> #REF! | C13: {=IF(ROWS($1:13)>SUBTOTAL(3,#REF!),"",SMALL(IF(SUBTOTAL(3,INDIRECT("'Einzelwertung U12'!K"&ROW($2:$177))),#REF!),ROWS($1:13)))} -> #REF! | D13: {=IF(ROWS($1:13)>SUBTOTAL(3,#REF!),"",SMALL(IF(SUBTOTAL(3,INDIRECT("'Einzelwertung U12'!M"&ROW($2:$177))),#REF!),ROWS($1:13)))} -> #REF! | E13: {=IF(ROWS($1:13)>SUBTOTAL(3,#REF!),"",SMALL(IF(SUBTOTAL(3,INDIRECT("'Einzelwertung U12'!O"&ROW($2:$177))),#REF!),ROWS($1:13)))} -> #REF! | F13: {=IF(ROWS($1:13)>SUBTOTAL(3,#REF!),"",SMALL(IF(SUBTOTAL(3,INDIRECT("'Einzelwertung U12'!Q"&ROW($2:$177))),#REF!),ROWS($1:13)))} -> #REF! | G13: {=IF(ROWS($1:13)>SUBTOTAL(3,#REF!),"",IF(OR(A13<>"",B13<>"",C13<>"",D13<>"",E13<>"",F13<>""),SMALL(IF(SUBTOTAL(3,INDIRECT("'Einzelwertung U12'!S"&ROW($2:$177))),#REF!),ROWS($1:13)),""))} -> #REF!
A14: {=IF(ROWS($1:14)>SUBTOTAL(3,#REF!),"",SMALL(IF(SUBTOTAL(3,INDIRECT("'Einzelwertung U12'!G"&ROW($2:$177))),#REF!),ROWS($1:14)))} -> #REF! | B14: {=IF(ROWS($1:14)>SUBTOTAL(3,#REF!),"",SMALL(IF(SUBTOTAL(3,INDIRECT("'Einzelwertung U12'!I"&ROW($2:$177))),#REF!),ROWS($1:14)))} -> #REF! | C14: {=IF(ROWS($1:14)>SUBTOTAL(3,#REF!),"",SMALL(IF(SUBTOTAL(3,INDIRECT("'Einzelwertung U12'!K"&ROW($2:$177))),#REF!),ROWS($1:14)))} -> #REF! | D14: {=IF(ROWS($1:14)>SUBTOTAL(3,#REF!),"",SMALL(IF(SUBTOTAL(3,INDIRECT("'Einzelwertung U12'!M"&ROW($2:$177))),#REF!),ROWS($1:14)))} -> #REF! | E14: {=IF(ROWS($1:14)>SUBTOTAL(3,#REF!),"",SMALL(IF(SUBTOTAL(3,INDIRECT("'Einzelwertung U12'!O"&ROW($2:$177))),#REF!),ROWS($1:14)))} -> #REF! | F14: {=IF(ROWS($1:14)>SUBTOTAL(3,#REF!),"",SMALL(IF(SUBTOTAL(3,INDIRECT("'Einzelwertung U12'!Q"&ROW($2:$177))),#REF!),ROWS($1:14)))} -> #REF! | G14: {=IF(ROWS($1:14)>SUBTOTAL(3,#REF!),"",IF(OR(A14<>"",B14<>"",C14<>"",D14<>"",E14<>"",F14<>""),SMALL(IF(SUBTOTAL(3,INDIRECT("'Einzelwertung U12'!S"&ROW($2:$177))),#REF!),ROWS($1:14)),""))} -> #REF!
A15: {=IF(ROWS($1:15)>SUBTOTAL(3,#REF!),"",SMALL(IF(SUBTOTAL(3,INDIRECT("'Einzelwertung U12'!G"&ROW($2:$177))),#REF!),ROWS($1:15)))} -> #REF! | B15: {=IF(ROWS($1:15)>SUBTOTAL(3,#REF!),"",SMALL(IF(SUBTOTAL(3,INDIRECT("'Einzelwertung U12'!I"&ROW($2:$177))),#REF!),ROWS($1:15)))} -> #REF! | C15: {=IF(ROWS($1:15)>SUBTOTAL(3,#REF!),"",SMALL(IF(SUBTOTAL(3,INDIRECT("'Einzelwertung U12'!K"&ROW($2:$177))),#REF!),ROWS($1:15)))} -> #REF! | D15: {=IF(ROWS($1:15)>SUBTOTAL(3,#REF!),"",SMALL(IF(SUBTOTAL(3,INDIRECT("'Einzelwertung U12'!M"&ROW($2:$177))),#REF!),ROWS($1:15)))} -> #REF! | E15: {=IF(ROWS($1:15)>SUBTOTAL(3,#REF!),"",SMALL(IF(SUBTOTAL(3,INDIRECT("'Einzelwertung U12'!O"&ROW($2:$177))),#REF!),ROWS($1:15)))} -> #REF! | F15: {=IF(ROWS($1:15)>SUBTOTAL(3,#REF!),"",SMALL(IF(SUBTOTAL(3,INDIRECT("'Einzelwertung U12'!Q"&ROW($2:$177))),#REF!),ROWS($1:15)))} -> #REF! | G15: {=IF(ROWS($1:15)>SUBTOTAL(3,#REF!),"",IF(OR(A15<>"",B15<>"",C15<>"",D15<>"",E15<>"",F15<>""),SMALL(IF(SUBTOTAL(3,INDIRECT("'Einzelwertung U12'!S"&ROW($2:$177))),#REF!),ROWS($1:15)),""))} -> #REF!
A16: {=IF(ROWS($1:16)>SUBTOTAL(3,#REF!),"",SMALL(IF(SUBTOTAL(3,INDIRECT("'Einzelwertung U12'!G"&ROW($2:$177))),#REF!),ROWS($1:16)))} -> #REF! | B16: {=IF(ROWS($1:16)>SUBTOTAL(3,#REF!),"",SMALL(IF(SUBTOTAL(3,INDIRECT("'Einzelwertung U12'!I"&ROW($2:$177))),#REF!),ROWS($1:16)))} -> #REF! | C16: {=IF(ROWS($1:16)>SUBTOTAL(3,#REF!),"",SMALL(IF(SUBTOTAL(3,INDIRECT("'Einzelwertung U12'!K"&ROW($2:$177))),#REF!),ROWS($1:16)))} -> #REF! | D16: {=IF(ROWS($1:16)>SUBTOTAL(3,#REF!),"",SMALL(IF(SUBTOTAL(3,INDIRECT("'Einzelwertung U12'!M"&ROW($2:$177))),#REF!),ROWS($1:16)))} -> #REF! | E16: {=IF(ROWS($1:16)>SUBTOTAL(3,#REF!),"",SMALL(IF(SUBTOTAL(3,INDIRECT("'Einzelwertung U12'!O"&ROW($2:$177))),#REF!),ROWS($1:16)))} -> #REF! | F16: {=IF(ROWS($1:16)>SUBTOTAL(3,#REF!),"",SMALL(IF(SUBTOTAL(3,INDIRECT("'Einzelwertung U12'!Q"&ROW($2:$177))),#REF!),ROWS($1:16)))} -> #REF! | G16: {=IF(ROWS($1:16)>SUBTOTAL(3,#REF!),"",IF(OR(A16<>"",B16<>"",C16<>"",D16<>"",E16<>"",F16<>""),SMALL(IF(SUBTOTAL(3,INDIRECT("'Einzelwertung U12'!S"&ROW($2:$177))),#REF!),ROWS($1:16)),""))} -> #REF!
A17: {=IF(ROWS($1:17)>SUBTOTAL(3,#REF!),"",SMALL(IF(SUBTOTAL(3,INDIRECT("'Einzelwertung U12'!G"&ROW($2:$177))),#REF!),ROWS($1:17)))} -> #REF! | B17: {=IF(ROWS($1:17)>SUBTOTAL(3,#REF!),"",SMALL(IF(SUBTOTAL(3,INDIRECT("'Einzelwertung U12'!I"&ROW($2:$177))),#REF!),ROWS($1:17)))} -> #REF! | C17: {=IF(ROWS($1:17)>SUBTOTAL(3,#REF!),"",SMALL(IF(SUBTOTAL(3,INDIRECT("'Einzelwertung U12'!K"&ROW($2:$177))),#REF!),ROWS($1:17)))} -> #REF! | D17: {=IF(ROWS($1:17)>SUBTOTAL(3,#REF!),"",SMALL(IF(SUBTOTAL(3,INDIRECT("'Einzelwertung U12'!M"&ROW($2:$177))),#REF!),ROWS($1:17)))} -> #REF! | E17: {=IF(ROWS($1:17)>SUBTOTAL(3,#REF!),"",SMALL(IF(SUBTOTAL(3,INDIRECT("'Einzelwertung U12'!O"&ROW($2:$177))),#REF!),ROWS($1:17)))} -> #REF! | F17: {=IF(ROWS($1:17)>SUBTOTAL(3,#REF!),"",SMALL(IF(SUBTOTAL(3,INDIRECT("'Einzelwertung U12'!Q"&ROW($2:$177))),#REF!),ROWS($1:17)))} -> #REF! | G17: {=IF(ROWS($1:17)>SUBTOTAL(3,#REF!),"",IF(OR(A17<>"",B17<>"",C17<>"",D17<>"",E17<>"",F17<>""),SMALL(IF(SUBTOTAL(3,INDIRECT("'Einzelwertung U12'!S"&ROW($2:$177))),#REF!),ROWS($1:17)),""))} -> #REF!
A18: {=IF(ROWS($1:18)>SUBTOTAL(3,#REF!),"",SMALL(IF(SUBTOTAL(3,INDIRECT("'Einzelwertung U12'!G"&ROW($2:$177))),#REF!),ROWS($1:18)))} -> #REF! | B18: {=IF(ROWS($1:18)>SUBTOTAL(3,#REF!),"",SMALL(IF(SUBTOTAL(3,INDIRECT("'Einzelwertung U12'!I"&ROW($2:$177))),#REF!),ROWS($1:18)))} -> #REF! | C18: {=IF(ROWS($1:18)>SUBTOTAL(3,#REF!),"",SMALL(IF(SUBTOTAL(3,INDIRECT("'Einzelwertung U12'!K"&ROW($2:$177))),#REF!),ROWS($1:18)))} -> #REF! | D18: {=IF(ROWS($1:18)>SUBTOTAL(3,#REF!),"",SMALL(IF(SUBTOTAL(3,INDIRECT("'Einzelwertung U12'!M"&ROW($2:$177))),#REF!),ROWS($1:18)))} -> #REF! | E18: {=IF(ROWS($1:18)>SUBTOTAL(3,#REF!),"",SMALL(IF(SUBTOTAL(3,INDIRECT("'Einzelwertung U12'!O"&ROW($2:$177))),#REF!),ROWS($1:18)))} -> #REF! | F18: {=IF(ROWS($1:18)>SUBTOTAL(3,#REF!),"",SMALL(IF(SUBTOTAL(3,INDIRECT("'Einzelwertung U12'!Q"&ROW($2:$177))),#REF!),ROWS($1:18)))} -> #REF! | G18: {=IF(ROWS($1:18)>SUBTOTAL(3,#REF!),"",IF(OR(A18<>"",B18<>"",C18<>"",D18<>"",E18<>"",F18<>""),SMALL(IF(SUBTOTAL(3,INDIRECT("'Einzelwertung U12'!S"&ROW($2:$177))),#REF!),ROWS($1:18)),""))} -> #REF!
A19: {=IF(ROWS($1:19)>SUBTOTAL(3,#REF!),"",SMALL(IF(SUBTOTAL(3,INDIRECT("'Einzelwertung U12'!G"&ROW($2:$177))),#REF!),ROWS($1:19)))} -> #REF! | B19: {=IF(ROWS($1:19)>SUBTOTAL(3,#REF!),"",SMALL(IF(SUBTOTAL(3,INDIRECT("'Einzelwertung U12'!I"&ROW($2:$177))),#REF!),ROWS($1:19)))} -> #REF! | C19: {=IF(ROWS($1:19)>SUBTOTAL(3,#REF!),"",SMALL(IF(SUBTOTAL(3,INDIRECT("'Einzelwertung U12'!K"&ROW($2:$177))),#REF!),ROWS($1:19)))} -> #REF! | D19: {=IF(ROWS($1:19)>SUBTOTAL(3,#REF!),"",SMALL(IF(SUBTOTAL(3,INDIRECT("'Einzelwertung U12'!M"&ROW($2:$177))),#REF!),ROWS($1:19)))} -> #REF! | E19: {=IF(ROWS($1:19)>SUBTOTAL(3,#REF!),"",SMALL(IF(SUBTOTAL(3,INDIRECT("'Einzelwertung U12'!O"&ROW($2:$177))),#REF!),ROWS($1:19)))} -> #REF! | F19: {=IF(ROWS($1:19)>SUBTOTAL(3,#REF!),"",SMALL(IF(SUBTOTAL(3,INDIRECT("'Einzelwertung U12'!Q"&ROW($2:$177))),#REF!),ROWS($1:19)))} -> #REF! | G19: {=IF(ROWS($1:19)>SUBTOTAL(3,#REF!),"",IF(OR(A19<>"",B19<>"",C19<>"",D19<>"",E19<>"",F19<>""),SMALL(IF(SUBTOTAL(3,INDIRECT("'Einzelwertung U12'!S"&ROW($2:$177))),#REF!),ROWS($1:19)),""))} -> #REF!
A20: {=IF(ROWS($1:20)>SUBTOTAL(3,#REF!),"",SMALL(IF(SUBTOTAL(3,INDIRECT("'Einzelwertung U12'!G"&ROW($2:$177))),#REF!),ROWS($1:20)))} -> #REF! | B20: {=IF(ROWS($1:20)>SUBTOTAL(3,#REF!),"",SMALL(IF(SUBTOTAL(3,INDIRECT("'Einzelwertung U12'!I"&ROW($2:$177))),#REF!),ROWS($1:20)))} -> #REF! | C20: {=IF(ROWS($1:20)>SUBTOTAL(3,#REF!),"",SMALL(IF(SUBTOTAL(3,INDIRECT("'Einzelwertung U12'!K"&ROW($2:$177))),#REF!),ROWS($1:20)))} -> #REF! | D20: {=IF(ROWS($1:20)>SUBTOTAL(3,#REF!),"",SMALL(IF(SUBTOTAL(3,INDIRECT("'Einzelwertung U12'!M"&ROW($2:$177))),#REF!),ROWS($1:20)))} -> #REF! | E20: {=IF(ROWS($1:20)>SUBTOTAL(3,#REF!),"",SMALL(IF(SUBTOTAL(3,INDIRECT("'Einzelwertung U12'!O"&ROW($2:$177))),#REF!),ROWS($1:20)))} -> #REF! | F20: {=IF(ROWS($1:20)>SUBTOTAL(3,#REF!),"",SMALL(IF(SUBTOTAL(3,INDIRECT("'Einzelwertung U12'!Q"&ROW($2:$177))),#REF!),ROWS($1:20)))} -> #REF! | G20: {=IF(ROWS($1:20)>SUBTOTAL(3,#REF!),"",IF(OR(A20<>"",B20<>"",C20<>"",D20<>"",E20<>"",F20<>""),SMALL(IF(SUBTOTAL(3,INDIRECT("'Einzelwertung U12'!S"&ROW($2:$177))),#REF!),ROWS($1:20)),""))} -> #REF!
A21: {=IF(ROWS($1:21)>SUBTOTAL(3,#REF!),"",SMALL(IF(SUBTOTAL(3,INDIRECT("'Einzelwertung U12'!G"&ROW($2:$177))),#REF!),ROWS($1:21)))} -> #REF! | B21: {=IF(ROWS($1:21)>SUBTOTAL(3,#REF!),"",SMALL(IF(SUBTOTAL(3,INDIRECT("'Einzelwertung U12'!I"&ROW($2:$177))),#REF!),ROWS($1:21)))} -> #REF! | C21: {=IF(ROWS($1:21)>SUBTOTAL(3,#REF!),"",SMALL(IF(SUBTOTAL(3,INDIRECT("'Einzelwertung U12'!K"&ROW($2:$177))),#REF!),ROWS($1:21)))} -> #REF! | D21: {=IF(ROWS($1:21)>SUBTOTAL(3,#REF!),"",SMALL(IF(SUBTOTAL(3,INDIRECT("'Einzelwertung U12'!M"&ROW($2:$177))),#REF!),ROWS($1:21)))} -> #REF! | E21: {=IF(ROWS($1:21)>SUBTOTAL(3,#REF!),"",SMALL(IF(SUBTOTAL(3,INDIRECT("'Einzelwertung U12'!O"&ROW($2:$177))),#REF!),ROWS($1:21)))} -> #REF! | F21: {=IF(ROWS($1:21)>SUBTOTAL(3,#REF!),"",SMALL(IF(SUBTOTAL(3,INDIRECT("'Einzelwertung U12'!Q"&ROW($2:$177))),#REF!),ROWS($1:21)))} -> #REF! | G21: {=IF(ROWS($1:21)>SUBTOTAL(3,#REF!),"",IF(OR(A21<>"",B21<>"",C21<>"",D21<>"",E21<>"",F21<>""),SMALL(IF(SUBTOTAL(3,INDIRECT("'Einzelwertung U12'!S"&ROW($2:$177))),#REF!),ROWS($1:21)),""))} -> #REF!
A22: {=IF(ROWS($1:22)>SUBTOTAL(3,#REF!),"",SMALL(IF(SUBTOTAL(3,INDIRECT("'Einzelwertung U12'!G"&ROW($2:$177))),#REF!),ROWS($1:22)))} -> #REF! | B22: {=IF(ROWS($1:22)>SUBTOTAL(3,#REF!),"",SMALL(IF(SUBTOTAL(3,INDIRECT("'Einzelwertung U12'!I"&ROW($2:$177))),#REF!),ROWS($1:22)))} -> #REF! | C22: {=IF(ROWS($1:22)>SUBTOTAL(3,#REF!),"",SMALL(IF(SUBTOTAL(3,INDIRECT("'Einzelwertung U12'!K"&ROW($2:$177))),#REF!),ROWS($1:22)))} -> #REF! | D22: {=IF(ROWS($1:22)>SUBTOTAL(3,#REF!),"",SMALL(IF(SUBTOTAL(3,INDIRECT("'Einzelwertung U12'!M"&ROW($2:$177))),#REF!),ROWS($1:22)))} -> #REF! | E22: {=IF(ROWS($1:22)>SUBTOTAL(3,#REF!),"",SMALL(IF(SUBTOTAL(3,INDIRECT("'Einzelwertung U12'!O"&ROW($2:$177))),#REF!),ROWS($1:22)))} -> #REF! | F22: {=IF(ROWS($1:22)>SUBTOTAL(3,#REF!),"",SMALL(IF(SUBTOTAL(3,INDIRECT("'Einzelwertung U12'!Q"&ROW($2:$177))),#REF!),ROWS($1:22)))} -> #REF! | G22: {=IF(ROWS($1:22)>SUBTOTAL(3,#REF!),"",IF(OR(A22<>"",B22<>"",C22<>"",D22<>"",E22<>"",F22<>""),SMALL(IF(SUBTOTAL(3,INDIRECT("'Einzelwertung U12'!S"&ROW($2:$177))),#REF!),ROWS($1:22)),""))} -> #REF!
A23: {=IF(ROWS($1:23)>SUBTOTAL(3,#REF!),"",SMALL(IF(SUBTOTAL(3,INDIRECT("'Einzelwertung U12'!G"&ROW($2:$177))),#REF!),ROWS($1:23)))} -> #REF! | B23: {=IF(ROWS($1:23)>SUBTOTAL(3,#REF!),"",SMALL(IF(SUBTOTAL(3,INDIRECT("'Einzelwertung U12'!I"&ROW($2:$177))),#REF!),ROWS($1:23)))} -> #REF! | C23: {=IF(ROWS($1:23)>SUBTOTAL(3,#REF!),"",SMALL(IF(SUBTOTAL(3,INDIRECT("'Einzelwertung U12'!K"&ROW($2:$177))),#REF!),ROWS($1:23)))} -> #REF! | D23: {=IF(ROWS($1:23)>SUBTOTAL(3,#REF!),"",SMALL(IF(SUBTOTAL(3,INDIRECT("'Einzelwertung U12'!M"&ROW($2:$177))),#REF!),ROWS($1:23)))} -> #REF! | E23: {=IF(ROWS($1:23)>SUBTOTAL(3,#REF!),"",SMALL(IF(SUBTOTAL(3,INDIRECT("'Einzelwertung U12'!O"&ROW($2:$177))),#REF!),ROWS($1:23)))} -> #REF! | F23: {=IF(ROWS($1:23)>SUBTOTAL(3,#REF!),"",SMALL(IF(SUBTOTAL(3,INDIRECT("'Einzelwertung U12'!Q"&ROW($2:$177))),#REF!),ROWS($1:23)))} -> #REF! | G23: {=IF(ROWS($1:23)>SUBTOTAL(3,#REF!),"",IF(OR(A23<>"",B23<>"",C23<>"",D23<>"",E23<>"",F23<>""),SMALL(IF(SUBTOTAL(3,INDIRECT("'Einzelwertung U12'!S"&ROW($2:$177))),#REF!),ROWS($1:23)),""))} -> #REF!
A24: {=IF(ROWS($1:24)>SUBTOTAL(3,#REF!),"",SMALL(IF(SUBTOTAL(3,INDIRECT("'Einzelwertung U12'!G"&ROW($2:$177))),#REF!),ROWS($1:24)))} -> #REF! | B24: {=IF(ROWS($1:24)>SUBTOTAL(3,#REF!),"",SMALL(IF(SUBTOTAL(3,INDIRECT("'Einzelwertung U12'!I"&ROW($2:$177))),#REF!),ROWS($1:24)))} -> #REF! | C24: {=IF(ROWS($1:24)>SUBTOTAL(3,#REF!),"",SMALL(IF(SUBTOTAL(3,INDIRECT("'Einzelwertung U12'!K"&ROW($2:$177))),#REF!),ROWS($1:24)))} -> #REF! | D24: {=IF(ROWS($1:24)>SUBTOTAL(3,#REF!),"",SMALL(IF(SUBTOTAL(3,INDIRECT("'Einzelwertung U12'!M"&ROW($2:$177))),#REF!),ROWS($1:24)))} -> #REF! | E24: {=IF(ROWS($1:24)>SUBTOTAL(3,#REF!),"",SMALL(IF(SUBTOTAL(3,INDIRECT("'Einzelwertung U12'!O"&ROW($2:$177))),#REF!),ROWS($1:24)))} -> #REF! | F24: {=IF(ROWS($1:24)>SUBTOTAL(3,#REF!),"",SMALL(IF(SUBTOTAL(3,INDIRECT("'Einzelwertung U12'!Q"&ROW($2:$177))),#REF!),ROWS($1:24)))} -> #REF! | G24: {=IF(ROWS($1:24)>SUBTOTAL(3,#REF!),"",IF(OR(A24<>"",B24<>"",C24<>"",D24<>"",E24<>"",F24<>""),SMALL(IF(SUBTOTAL(3,INDIRECT("'Einzelwertung U12'!S"&ROW($2:$177))),#REF!),ROWS($1:24)),""))} -> #REF!
A25: {=IF(ROWS($1:25)>SUBTOTAL(3,#REF!),"",SMALL(IF(SUBTOTAL(3,INDIRECT("'Einzelwertung U12'!G"&ROW($2:$177))),#REF!),ROWS($1:25)))} -> #REF! | B25: {=IF(ROWS($1:25)>SUBTOTAL(3,#REF!),"",SMALL(IF(SUBTOTAL(3,INDIRECT("'Einzelwertung U12'!I"&ROW($2:$177))),#REF!),ROWS($1:25)))} -> #REF! | C25: {=IF(ROWS($1:25)>SUBTOTAL(3,#REF!),"",SMALL(IF(SUBTOTAL(3,INDIRECT("'Einzelwertung U12'!K"&ROW($2:$177))),#REF!),ROWS($1:25)))} -> #REF! | D25: {=IF(ROWS($1:25)>SUBTOTAL(3,#REF!),"",SMALL(IF(SUBTOTAL(3,INDIRECT("'Einzelwertung U12'!M"&ROW($2:$177))),#REF!),ROWS($1:25)))} -> #REF! | E25: {=IF(ROWS($1:25)>SUBTOTAL(3,#REF!),"",SMALL(IF(SUBTOTAL(3,INDIRECT("'Einzelwertung U12'!O"&ROW($2:$177))),#REF!),ROWS($1:25)))} -> #REF! | F25: {=IF(ROWS($1:25)>SUBTOTAL(3,#REF!),"",SMALL(IF(SUBTOTAL(3,INDIRECT("'Einzelwertung U12'!Q"&ROW($2:$177))),#REF!),ROWS($1:25)))} -> #REF! | G25: {=IF(ROWS($1:25)>SUBTOTAL(3,#REF!),"",IF(OR(A25<>"",B25<>"",C25<>"",D25<>"",E25<>"",F25<>""),SMALL(IF(SUBTOTAL(3,INDIRECT("'Einzelwertung U12'!S"&ROW($2:$177))),#REF!),ROWS($1:25)),""))} -> #REF!
A26: {=IF(ROWS($1:26)>SUBTOTAL(3,#REF!),"",SMALL(IF(SUBTOTAL(3,INDIRECT("'Einzelwertung U12'!G"&ROW($2:$177))),#REF!),ROWS($1:26)))} -> #REF! | B26: {=IF(ROWS($1:26)>SUBTOTAL(3,#REF!),"",SMALL(IF(SUBTOTAL(3,INDIRECT("'Einzelwertung U12'!I"&ROW($2:$177))),#REF!),ROWS($1:26)))} -> #REF! | C26: {=IF(ROWS($1:26)>SUBTOTAL(3,#REF!),"",SMALL(IF(SUBTOTAL(3,INDIRECT("'Einzelwertung U12'!K"&ROW($2:$177))),#REF!),ROWS($1:26)))} -> #REF! | D26: {=IF(ROWS($1:26)>SUBTOTAL(3,#REF!),"",SMALL(IF(SUBTOTAL(3,INDIRECT("'Einzelwertung U12'!M"&ROW($2:$177))),#REF!),ROWS($1:26)))} -> #REF! | E26: {=IF(ROWS($1:26)>SUBTOTAL(3,#REF!),"",SMALL(IF(SUBTOTAL(3,INDIRECT("'Einzelwertung U12'!O"&ROW($2:$177))),#REF!),ROWS($1:26)))} -> #REF! | F26: {=IF(ROWS($1:26)>SUBTOTAL(3,#REF!),"",SMALL(IF(SUBTOTAL(3,INDIRECT("'Einzelwertung U12'!Q"&ROW($2:$177))),#REF!),ROWS($1:26)))} -> #REF! | G26: {=IF(ROWS($1:26)>SUBTOTAL(3,#REF!),"",IF(OR(A26<>"",B26<>"",C26<>"",D26<>"",E26<>"",F26<>""),SMALL(IF(SUBTOTAL(3,INDIRECT("'Einzelwertung U12'!S"&ROW($2:$177))),#REF!),ROWS($1:26)),""))} -> #REF!
A27: {=IF(ROWS($1:27)>SUBTOTAL(3,#REF!),"",SMALL(IF(SUBTOTAL(3,INDIRECT("'Einzelwertung U12'!G"&ROW($2:$177))),#REF!),ROWS($1:27)))} -> #REF! | B27: {=IF(ROWS($1:27)>SUBTOTAL(3,#REF!),"",SMALL(IF(SUBTOTAL(3,INDIRECT("'Einzelwertung U12'!I"&ROW($2:$177))),#REF!),ROWS($1:27)))} -> #REF! | C27: {=IF(ROWS($1:27)>SUBTOTAL(3,#REF!),"",SMALL(IF(SUBTOTAL(3,INDIRECT("'Einzelwertung U12'!K"&ROW($2:$177))),#REF!),ROWS($1:27)))} -> #REF! | D27: {=IF(ROWS($1:27)>SUBTOTAL(3,#REF!),"",SMALL(IF(SUBTOTAL(3,INDIRECT("'Einzelwertung U12'!M"&ROW($2:$177))),#REF!),ROWS($1:27)))} -> #REF! | E27: {=IF(ROWS($1:27)>SUBTOTAL(3,#REF!),"",SMALL(IF(SUBTOTAL(3,INDIRECT("'Einzelwertung U12'!O"&ROW($2:$177))),#REF!),ROWS($1:27)))} -> #REF! | F27: {=IF(ROWS($1:27)>SUBTOTAL(3,#REF!),"",SMALL(IF(SUBTOTAL(3,INDIRECT("'Einzelwertung U12'!Q"&ROW($2:$177))),#REF!),ROWS($1:27)))} -> #REF! | G27: {=IF(ROWS($1:27)>SUBTOTAL(3,#REF!),"",IF(OR(A27<>"",B27<>"",C27<>"",D27<>"",E27<>"",F27<>""),SMALL(IF(SUBTOTAL(3,INDIRECT("'Einzelwertung U12'!S"&ROW($2:$177))),#REF!),ROWS($1:27)),""))} -> #REF!
A28: {=IF(ROWS($1:28)>SUBTOTAL(3,#REF!),"",SMALL(IF(SUBTOTAL(3,INDIRECT("'Einzelwertung U12'!G"&ROW($2:$177))),#REF!),ROWS($1:28)))} -> #REF! | B28: {=IF(ROWS($1:28)>SUBTOTAL(3,#REF!),"",SMALL(IF(SUBTOTAL(3,INDIRECT("'Einzelwertung U12'!I"&ROW($2:$177))),#REF!),ROWS($1:28)))} -> #REF! | C28: {=IF(ROWS($1:28)>SUBTOTAL(3,#REF!),"",SMALL(IF(SUBTOTAL(3,INDIRECT("'Einzelwertung U12'!K"&ROW($2:$177))),#REF!),ROWS($1:28)))} -> #REF! | D28: {=IF(ROWS($1:28)>SUBTOTAL(3,#REF!),"",SMALL(IF(SUBTOTAL(3,INDIRECT("'Einzelwertung U12'!M"&ROW($2:$177))),#REF!),ROWS($1:28)))} -> #REF! | E28: {=IF(ROWS($1:28)>SUBTOTAL(3,#REF!),"",SMALL(IF(SUBTOTAL(3,INDIRECT("'Einzelwertung U12'!O"&ROW($2:$177))),#REF!),ROWS($1:28)))} -> #REF! | F28: {=IF(ROWS($1:28)>SUBTOTAL(3,#REF!),"",SMALL(IF(SUBTOTAL(3,INDIRECT("'Einzelwertung U12'!Q"&ROW($2:$177))),#REF!),ROWS($1:28)))} -> #REF! | G28: {=IF(ROWS($1:28)>SUBTOTAL(3,#REF!),"",IF(OR(A28<>"",B28<>"",C28<>"",D28<>"",E28<>"",F28<>""),SMALL(IF(SUBTOTAL(3,INDIRECT("'Einzelwertung U12'!S"&ROW($2:$177))),#REF!),ROWS($1:28)),""))} -> #REF!
A29: {=IF(ROWS($1:29)>SUBTOTAL(3,#REF!),"",SMALL(IF(SUBTOTAL(3,INDIRECT("'Einzelwertung U12'!G"&ROW($2:$177))),#REF!),ROWS($1:29)))} -> #REF! | B29: {=IF(ROWS($1:29)>SUBTOTAL(3,#REF!),"",SMALL(IF(SUBTOTAL(3,INDIRECT("'Einzelwertung U12'!I"&ROW($2:$177))),#REF!),ROWS($1:29)))} -> #REF! | C29: {=IF(ROWS($1:29)>SUBTOTAL(3,#REF!),"",SMALL(IF(SUBTOTAL(3,INDIRECT("'Einzelwertung U12'!K"&ROW($2:$177))),#REF!),ROWS($1:29)))} -> #REF! | D29: {=IF(ROWS($1:29)>SUBTOTAL(3,#REF!),"",SMALL(IF(SUBTOTAL(3,INDIRECT("'Einzelwertung U12'!M"&ROW($2:$177))),#REF!),ROWS($1:29)))} -> #REF! | E29: {=IF(ROWS($1:29)>SUBTOTAL(3,#REF!),"",SMALL(IF(SUBTOTAL(3,INDIRECT("'Einzelwertung U12'!O"&ROW($2:$177))),#REF!),ROWS($1:29)))} -> #REF! | F29: {=IF(ROWS($1:29)>SUBTOTAL(3,#REF!),"",SMALL(IF(SUBTOTAL(3,INDIRECT("'Einzelwertung U12'!Q"&ROW($2:$177))),#REF!),ROWS($1:29)))} -> #REF! | G29: {=IF(ROWS($1:29)>SUBTOTAL(3,#REF!),"",IF(OR(A29<>"",B29<>"",C29<>"",D29<>"",E29<>"",F29<>""),SMALL(IF(SUBTOTAL(3,INDIRECT("'Einzelwertung U12'!S"&ROW($2:$177))),#REF!),ROWS($1:29)),""))} -> #REF!
A30: {=IF(ROWS($1:30)>SUBTOTAL(3,#REF!),"",SMALL(IF(SUBTOTAL(3,INDIRECT("'Einzelwertung U12'!G"&ROW($2:$177))),#REF!),ROWS($1:30)))} -> #REF! | B30: {=IF(ROWS($1:30)>SUBTOTAL(3,#REF!),"",SMALL(IF(SUBTOTAL(3,INDIRECT("'Einzelwertung U12'!I"&ROW($2:$177))),#REF!),ROWS($1:30)))} -> #REF! | C30: {=IF(ROWS($1:30)>SUBTOTAL(3,#REF!),"",SMALL(IF(SUBTOTAL(3,INDIRECT("'Einzelwertung U12'!K"&ROW($2:$177))),#REF!),ROWS($1:30)))} -> #REF! | D30: {=IF(ROWS($1:30)>SUBTOTAL(3,#REF!),"",SMALL(IF(SUBTOTAL(3,INDIRECT("'Einzelwertung U12'!M"&ROW($2:$177))),#REF!),ROWS($1:30)))} -> #REF! | E30: {=IF(ROWS($1:30)>SUBTOTAL(3,#REF!),"",SMALL(IF(SUBTOTAL(3,INDIRECT("'Einzelwertung U12'!O"&ROW($2:$177))),#REF!),ROWS($1:30)))} -> #REF! | F30: {=IF(ROWS($1:30)>SUBTOTAL(3,#REF!),"",SMALL(IF(SUBTOTAL(3,INDIRECT("'Einzelwertung U12'!Q"&ROW($2:$177))),#REF!),ROWS($1:30)))} -> #REF! | G30: {=IF(ROWS($1:30)>SUBTOTAL(3,#REF!),"",IF(OR(A30<>"",B30<>"",C30<>"",D30<>"",E30<>"",F30<>""),SMALL(IF(SUBTOTAL(3,INDIRECT("'Einzelwertung U12'!S"&ROW($2:$177))),#REF!),ROWS($1:30)),""))} -> #REF!
A31: {=IF(ROWS($1:31)>SUBTOTAL(3,#REF!),"",SMALL(IF(SUBTOTAL(3,INDIRECT("'Einzelwertung U12'!G"&ROW($2:$177))),#REF!),ROWS($1:31)))} -> #REF! | B31: {=IF(ROWS($1:31)>SUBTOTAL(3,#REF!),"",SMALL(IF(SUBTOTAL(3,INDIRECT("'Einzelwertung U12'!I"&ROW($2:$177))),#REF!),ROWS($1:31)))} -> #REF! | C31: {=IF(ROWS($1:31)>SUBTOTAL(3,#REF!),"",SMALL(IF(SUBTOTAL(3,INDIRECT("'Einzelwertung U12'!K"&ROW($2:$177))),#REF!),ROWS($1:31)))} -> #REF! | D31: {=IF(ROWS($1:31)>SUBTOTAL(3,#REF!),"",SMALL(IF(SUBTOTAL(3,INDIRECT("'Einzelwertung U12'!M"&ROW($2:$177))),#REF!),ROWS($1:31)))} -> #REF! | E31: {=IF(ROWS($1:31)>SUBTOTAL(3,#REF!),"",SMALL(IF(SUBTOTAL(3,INDIRECT("'Einzelwertung U12'!O"&ROW($2:$177))),#REF!),ROWS($1:31)))} -> #REF! | F31: {=IF(ROWS($1:31)>SUBTOTAL(3,#REF!),"",SMALL(IF(SUBTOTAL(3,INDIRECT("'Einzelwertung U12'!Q"&ROW($2:$177))),#REF!),ROWS($1:31)))} -> #REF! | G31: {=IF(ROWS($1:31)>SUBTOTAL(3,#REF!),"",IF(OR(A31<>"",B31<>"",C31<>"",D31<>"",E31<>"",F31<>""),SMALL(IF(SUBTOTAL(3,INDIRECT("'Einzelwertung U12'!S"&ROW($2:$177))),#REF!),ROWS($1:31)),""))} -> #REF!
A32: {=IF(ROWS($1:32)>SUBTOTAL(3,#REF!),"",SMALL(IF(SUBTOTAL(3,INDIRECT("'Einzelwertung U12'!G"&ROW($2:$177))),#REF!),ROWS($1:32)))} -> #REF! | B32: {=IF(ROWS($1:32)>SUBTOTAL(3,#REF!),"",SMALL(IF(SUBTOTAL(3,INDIRECT("'Einzelwertung U12'!I"&ROW($2:$177))),#REF!),ROWS($1:32)))} -> #REF! | C32: {=IF(ROWS($1:32)>SUBTOTAL(3,#REF!),"",SMALL(IF(SUBTOTAL(3,INDIRECT("'Einzelwertung U12'!K"&ROW($2:$177))),#REF!),ROWS($1:32)))} -> #REF! | D32: {=IF(ROWS($1:32)>SUBTOTAL(3,#REF!),"",SMALL(IF(SUBTOTAL(3,INDIRECT("'Einzelwertung U12'!M"&ROW($2:$177))),#REF!),ROWS($1:32)))} -> #REF! | E32: {=IF(ROWS($1:32)>SUBTOTAL(3,#REF!),"",SMALL(IF(SUBTOTAL(3,INDIRECT("'Einzelwertung U12'!O"&ROW($2:$177))),#REF!),ROWS($1:32)))} -> #REF! | F32: {=IF(ROWS($1:32)>SUBTOTAL(3,#REF!),"",SMALL(IF(SUBTOTAL(3,INDIRECT("'Einzelwertung U12'!Q"&ROW($2:$177))),#REF!),ROWS($1:32)))} -> #REF! | G32: {=IF(ROWS($1:32)>SUBTOTAL(3,#REF!),"",IF(OR(A32<>"",B32<>"",C32<>"",D32<>"",E32<>"",F32<>""),SMALL(IF(SUBTOTAL(3,INDIRECT("'Einzelwertung U12'!S"&ROW($2:$177))),#REF!),ROWS($1:32)),""))} -> #REF!
A33: {=IF(ROWS($1:33)>SUBTOTAL(3,#REF!),"",SMALL(IF(SUBTOTAL(3,INDIRECT("'Einzelwertung U12'!G"&ROW($2:$177))),#REF!),ROWS($1:33)))} -> #REF! | B33: {=IF(ROWS($1:33)>SUBTOTAL(3,#REF!),"",SMALL(IF(SUBTOTAL(3,INDIRECT("'Einzelwertung U12'!I"&ROW($2:$177))),#REF!),ROWS($1:33)))} -> #REF! | C33: {=IF(ROWS($1:33)>SUBTOTAL(3,#REF!),"",SMALL(IF(SUBTOTAL(3,INDIRECT("'Einzelwertung U12'!K"&ROW($2:$177))),#REF!),ROWS($1:33)))} -> #REF! | D33: {=IF(ROWS($1:33)>SUBTOTAL(3,#REF!),"",SMALL(IF(SUBTOTAL(3,INDIRECT("'Einzelwertung U12'!M"&ROW($2:$177))),#REF!),ROWS($1:33)))} -> #REF! | E33: {=IF(ROWS($1:33)>SUBTOTAL(3,#REF!),"",SMALL(IF(SUBTOTAL(3,INDIRECT("'Einzelwertung U12'!O"&ROW($2:$177))),#REF!),ROWS($1:33)))} -> #REF! | F33: {=IF(ROWS($1:33)>SUBTOTAL(3,#REF!),"",SMALL(IF(SUBTOTAL(3,INDIRECT("'Einzelwertung U12'!Q"&ROW($2:$177))),#REF!),ROWS($1:33)))} -> #REF! | G33: {=IF(ROWS($1:33)>SUBTOTAL(3,#REF!),"",IF(OR(A33<>"",B33<>"",C33<>"",D33<>"",E33<>"",F33<>""),SMALL(IF(SUBTOTAL(3,INDIRECT("'Einzelwertung U12'!S"&ROW($2:$177))),#REF!),ROWS($1:33)),""))} -> #REF!
A34: {=IF(ROWS($1:34)>SUBTOTAL(3,#REF!),"",SMALL(IF(SUBTOTAL(3,INDIRECT("'Einzelwertung U12'!G"&ROW($2:$177))),#REF!),ROWS($1:34)))} -> #REF! | B34: {=IF(ROWS($1:34)>SUBTOTAL(3,#REF!),"",SMALL(IF(SUBTOTAL(3,INDIRECT("'Einzelwertung U12'!I"&ROW($2:$177))),#REF!),ROWS($1:34)))} -> #REF! | C34: {=IF(ROWS($1:34)>SUBTOTAL(3,#REF!),"",SMALL(IF(SUBTOTAL(3,INDIRECT("'Einzelwertung U12'!K"&ROW($2:$177))),#REF!),ROWS($1:34)))} -> #REF! | D34: {=IF(ROWS($1:34)>SUBTOTAL(3,#REF!),"",SMALL(IF(SUBTOTAL(3,INDIRECT("'Einzelwertung U12'!M"&ROW($2:$177))),#REF!),ROWS($1:34)))} -> #REF! | E34: {=IF(ROWS($1:34)>SUBTOTAL(3,#REF!),"",SMALL(IF(SUBTOTAL(3,INDIRECT("'Einzelwertung U12'!O"&ROW($2:$177))),#REF!),ROWS($1:34)))} -> #REF! | F34: {=IF(ROWS($1:34)>SUBTOTAL(3,#REF!),"",SMALL(IF(SUBTOTAL(3,INDIRECT("'Einzelwertung U12'!Q"&ROW($2:$177))),#REF!),ROWS($1:34)))} -> #REF! | G34: {=IF(ROWS($1:34)>SUBTOTAL(3,#REF!),"",IF(OR(A34<>"",B34<>"",C34<>"",D34<>"",E34<>"",F34<>""),SMALL(IF(SUBTOTAL(3,INDIRECT("'Einzelwertung U12'!S"&ROW($2:$177))),#REF!),ROWS($1:34)),""))} -> #REF!
A35: {=IF(ROWS($1:35)>SUBTOTAL(3,#REF!),"",SMALL(IF(SUBTOTAL(3,INDIRECT("'Einzelwertung U12'!G"&ROW($2:$177))),#REF!),ROWS($1:35)))} -> #REF! | B35: {=IF(ROWS($1:35)>SUBTOTAL(3,#REF!),"",SMALL(IF(SUBTOTAL(3,INDIRECT("'Einzelwertung U12'!I"&ROW($2:$177))),#REF!),ROWS($1:35)))} -> #REF! | C35: {=IF(ROWS($1:35)>SUBTOTAL(3,#REF!),"",SMALL(IF(SUBTOTAL(3,INDIRECT("'Einzelwertung U12'!K"&ROW($2:$177))),#REF!),ROWS($1:35)))} -> #REF! | D35: {=IF(ROWS($1:35)>SUBTOTAL(3,#REF!),"",SMALL(IF(SUBTOTAL(3,INDIRECT("'Einzelwertung U12'!M"&ROW($2:$177))),#REF!),ROWS($1:35)))} -> #REF! | E35: {=IF(ROWS($1:35)>SUBTOTAL(3,#REF!),"",SMALL(IF(SUBTOTAL(3,INDIRECT("'Einzelwertung U12'!O"&ROW($2:$177))),#REF!),ROWS($1:35)))} -> #REF! | F35: {=IF(ROWS($1:35)>SUBTOTAL(3,#REF!),"",SMALL(IF(SUBTOTAL(3,INDIRECT("'Einzelwertung U12'!Q"&ROW($2:$177))),#REF!),ROWS($1:35)))} -> #REF! | G35: {=IF(ROWS($1:35)>SUBTOTAL(3,#REF!),"",IF(OR(A35<>"",B35<>"",C35<>"",D35<>"",E35<>"",F35<>""),SMALL(IF(SUBTOTAL(3,INDIRECT("'Einzelwertung U12'!S"&ROW($2:$177))),#REF!),ROWS($1:35)),""))} -> #REF!
A36: {=IF(ROWS($1:36)>SUBTOTAL(3,#REF!),"",SMALL(IF(SUBTOTAL(3,INDIRECT("'Einzelwertung U12'!G"&ROW($2:$177))),#REF!),ROWS($1:36)))} -> #REF! | B36: {=IF(ROWS($1:36)>SUBTOTAL(3,#REF!),"",SMALL(IF(SUBTOTAL(3,INDIRECT("'Einzelwertung U12'!I"&ROW($2:$177))),#REF!),ROWS($1:36)))} -> #REF! | C36: {=IF(ROWS($1:36)>SUBTOTAL(3,#REF!),"",SMALL(IF(SUBTOTAL(3,INDIRECT("'Einzelwertung U12'!K"&ROW($2:$177))),#REF!),ROWS($1:36)))} -> #REF! | D36: {=IF(ROWS($1:36)>SUBTOTAL(3,#REF!),"",SMALL(IF(SUBTOTAL(3,INDIRECT("'Einzelwertung U12'!M"&ROW($2:$177))),#REF!),ROWS($1:36)))} -> #REF! | E36: {=IF(ROWS($1:36)>SUBTOTAL(3,#REF!),"",SMALL(IF(SUBTOTAL(3,INDIRECT("'Einzelwertung U12'!O"&ROW($2:$177))),#REF!),ROWS($1:36)))} -> #REF! | F36: {=IF(ROWS($1:36)>SUBTOTAL(3,#REF!),"",SMALL(IF(SUBTOTAL(3,INDIRECT("'Einzelwertung U12'!Q"&ROW($2:$177))),#REF!),ROWS($1:36)))} -> #REF! | G36: {=IF(ROWS($1:36)>SUBTOTAL(3,#REF!),"",IF(OR(A36<>"",B36<>"",C36<>"",D36<>"",E36<>"",F36<>""),SMALL(IF(SUBTOTAL(3,INDIRECT("'Einzelwertung U12'!S"&ROW($2:$177))),#REF!),ROWS($1:36)),""))} -> #REF!
A37: {=IF(ROWS($1:37)>SUBTOTAL(3,#REF!),"",SMALL(IF(SUBTOTAL(3,INDIRECT("'Einzelwertung U12'!G"&ROW($2:$177))),#REF!),ROWS($1:37)))} -> #REF! | B37: {=IF(ROWS($1:37)>SUBTOTAL(3,#REF!),"",SMALL(IF(SUBTOTAL(3,INDIRECT("'Einzelwertung U12'!I"&ROW($2:$177))),#REF!),ROWS($1:37)))} -> #REF! | C37: {=IF(ROWS($1:37)>SUBTOTAL(3,#REF!),"",SMALL(IF(SUBTOTAL(3,INDIRECT("'Einzelwertung U12'!K"&ROW($2:$177))),#REF!),ROWS($1:37)))} -> #REF! | D37: {=IF(ROWS($1:37)>SUBTOTAL(3,#REF!),"",SMALL(IF(SUBTOTAL(3,INDIRECT("'Einzelwertung U12'!M"&ROW($2:$177))),#REF!),ROWS($1:37)))} -> #REF! | E37: {=IF(ROWS($1:37)>SUBTOTAL(3,#REF!),"",SMALL(IF(SUBTOTAL(3,INDIRECT("'Einzelwertung U12'!O"&ROW($2:$177))),#REF!),ROWS($1:37)))} -> #REF! | F37: {=IF(ROWS($1:37)>SUBTOTAL(3,#REF!),"",SMALL(IF(SUBTOTAL(3,INDIRECT("'Einzelwertung U12'!Q"&ROW($2:$177))),#REF!),ROWS($1:37)))} -> #REF! | G37: {=IF(ROWS($1:37)>SUBTOTAL(3,#REF!),"",IF(OR(A37<>"",B37<>"",C37<>"",D37<>"",E37<>"",F37<>""),SMALL(IF(SUBTOTAL(3,INDIRECT("'Einzelwertung U12'!S"&ROW($2:$177))),#REF!),ROWS($1:37)),""))} -> #REF!
A38: {=IF(ROWS($1:38)>SUBTOTAL(3,#REF!),"",SMALL(IF(SUBTOTAL(3,INDIRECT("'Einzelwertung U12'!G"&ROW($2:$177))),#REF!),ROWS($1:38)))} -> #REF! | B38: {=IF(ROWS($1:38)>SUBTOTAL(3,#REF!),"",SMALL(IF(SUBTOTAL(3,INDIRECT("'Einzelwertung U12'!I"&ROW($2:$177))),#REF!),ROWS($1:38)))} -> #REF! | C38: {=IF(ROWS($1:38)>SUBTOTAL(3,#REF!),"",SMALL(IF(SUBTOTAL(3,INDIRECT("'Einzelwertung U12'!K"&ROW($2:$177))),#REF!),ROWS($1:38)))} -> #REF! | D38: {=IF(ROWS($1:38)>SUBTOTAL(3,#REF!),"",SMALL(IF(SUBTOTAL(3,INDIRECT("'Einzelwertung U12'!M"&ROW($2:$177))),#REF!),ROWS($1:38)))} -> #REF! | E38: {=IF(ROWS($1:38)>SUBTOTAL(3,#REF!),"",SMALL(IF(SUBTOTAL(3,INDIRECT("'Einzelwertung U12'!O"&ROW($2:$177))),#REF!),ROWS($1:38)))} -> #REF! | F38: {=IF(ROWS($1:38)>SUBTOTAL(3,#REF!),"",SMALL(IF(SUBTOTAL(3,INDIRECT("'Einzelwertung U12'!Q"&ROW($2:$177))),#REF!),ROWS($1:38)))} -> #REF! | G38: {=IF(ROWS($1:38)>SUBTOTAL(3,#REF!),"",IF(OR(A38<>"",B38<>"",C38<>"",D38<>"",E38<>"",F38<>""),SMALL(IF(SUBTOTAL(3,INDIRECT("'Einzelwertung U12'!S"&ROW($2:$177))),#REF!),ROWS($1:38)),""))} -> #REF!
A39: {=IF(ROWS($1:39)>SUBTOTAL(3,#REF!),"",SMALL(IF(SUBTOTAL(3,INDIRECT("'Einzelwertung U12'!G"&ROW($2:$177))),#REF!),ROWS($1:39)))} -> #REF! | B39: {=IF(ROWS($1:39)>SUBTOTAL(3,#REF!),"",SMALL(IF(SUBTOTAL(3,INDIRECT("'Einzelwertung U12'!I"&ROW($2:$177))),#REF!),ROWS($1:39)))} -> #REF! | C39: {=IF(ROWS($1:39)>SUBTOTAL(3,#REF!),"",SMALL(IF(SUBTOTAL(3,INDIRECT("'Einzelwertung U12'!K"&ROW($2:$177))),#REF!),ROWS($1:39)))} -> #REF! | D39: {=IF(ROWS($1:39)>SUBTOTAL(3,#REF!),"",SMALL(IF(SUBTOTAL(3,INDIRECT("'Einzelwertung U12'!M"&ROW($2:$177))),#REF!),ROWS($1:39)))} -> #REF! | E39: {=IF(ROWS($1:39)>SUBTOTAL(3,#REF!),"",SMALL(IF(SUBTOTAL(3,INDIRECT("'Einzelwertung U12'!O"&ROW($2:$177))),#REF!),ROWS($1:39)))} -> #REF! | F39: {=IF(ROWS($1:39)>SUBTOTAL(3,#REF!),"",SMALL(IF(SUBTOTAL(3,INDIRECT("'Einzelwertung U12'!Q"&ROW($2:$177))),#REF!),ROWS($1:39)))} -> #REF! | G39: {=IF(ROWS($1:39)>SUBTOTAL(3,#REF!),"",IF(OR(A39<>"",B39<>"",C39<>"",D39<>"",E39<>"",F39<>""),SMALL(IF(SUBTOTAL(3,INDIRECT("'Einzelwertung U12'!S"&ROW($2:$177))),#REF!),ROWS($1:39)),""))} -> #REF!
A40: {=IF(ROWS($1:40)>SUBTOTAL(3,#REF!),"",SMALL(IF(SUBTOTAL(3,INDIRECT("'Einzelwertung U12'!G"&ROW($2:$177))),#REF!),ROWS($1:40)))} -> #REF! | B40: {=IF(ROWS($1:40)>SUBTOTAL(3,#REF!),"",SMALL(IF(SUBTOTAL(3,INDIRECT("'Einzelwertung U12'!I"&ROW($2:$177))),#REF!),ROWS($1:40)))} -> #REF! | C40: {=IF(ROWS($1:40)>SUBTOTAL(3,#REF!),"",SMALL(IF(SUBTOTAL(3,INDIRECT("'Einzelwertung U12'!K"&ROW($2:$177))),#REF!),ROWS($1:40)))} -> #REF! | D40: {=IF(ROWS($1:40)>SUBTOTAL(3,#REF!),"",SMALL(IF(SUBTOTAL(3,INDIRECT("'Einzelwertung U12'!M"&ROW($2:$177))),#REF!),ROWS($1:40)))} -> #REF! | E40: {=IF(ROWS($1:40)>SUBTOTAL(3,#REF!),"",SMALL(IF(SUBTOTAL(3,INDIRECT("'Einzelwertung U12'!O"&ROW($2:$177))),#REF!),ROWS($1:40)))} -> #REF! | F40: {=IF(ROWS($1:40)>SUBTOTAL(3,#REF!),"",SMALL(IF(SUBTOTAL(3,INDIRECT("'Einzelwertung U12'!Q"&ROW($2:$177))),#REF!),ROWS($1:40)))} -> #REF! | G40: {=IF(ROWS($1:40)>SUBTOTAL(3,#REF!),"",IF(OR(A40<>"",B40<>"",C40<>"",D40<>"",E40<>"",F40<>""),SMALL(IF(SUBTOTAL(3,INDIRECT("'Einzelwertung U12'!S"&ROW($2:$177))),#REF!),ROWS($1:40)),""))} -> #REF!
A41: {=IF(ROWS($1:41)>SUBTOTAL(3,#REF!),"",SMALL(IF(SUBTOTAL(3,INDIRECT("'Einzelwertung U12'!G"&ROW($2:$177))),#REF!),ROWS($1:41)))} -> #REF! | B41: {=IF(ROWS($1:41)>SUBTOTAL(3,#REF!),"",SMALL(IF(SUBTOTAL(3,INDIRECT("'Einzelwertung U12'!I"&ROW($2:$177))),#REF!),ROWS($1:41)))} -> #REF! | C41: {=IF(ROWS($1:41)>SUBTOTAL(3,#REF!),"",SMALL(IF(SUBTOTAL(3,INDIRECT("'Einzelwertung U12'!K"&ROW($2:$177))),#REF!),ROWS($1:41)))} -> #REF! | D41: {=IF(ROWS($1:41)>SUBTOTAL(3,#REF!),"",SMALL(IF(SUBTOTAL(3,INDIRECT("'Einzelwertung U12'!M"&ROW($2:$177))),#REF!),ROWS($1:41)))} -> #REF! | E41: {=IF(ROWS($1:41)>SUBTOTAL(3,#REF!),"",SMALL(IF(SUBTOTAL(3,INDIRECT("'Einzelwertung U12'!O"&ROW($2:$177))),#REF!),ROWS($1:41)))} -> #REF! | F41: {=IF(ROWS($1:41)>SUBTOTAL(3,#REF!),"",SMALL(IF(SUBTOTAL(3,INDIRECT("'Einzelwertung U12'!Q"&ROW($2:$177))),#REF!),ROWS($1:41)))} -> #REF! | G41: {=IF(ROWS($1:41)>SUBTOTAL(3,#REF!),"",IF(OR(A41<>"",B41<>"",C41<>"",D41<>"",E41<>"",F41<>""),SMALL(IF(SUBTOTAL(3,INDIRECT("'Einzelwertung U12'!S"&ROW($2:$177))),#REF!),ROWS($1:41)),""))} -> #REF!
A42: {=IF(ROWS($1:42)>SUBTOTAL(3,#REF!),"",SMALL(IF(SUBTOTAL(3,INDIRECT("'Einzelwertung U12'!G"&ROW($2:$177))),#REF!),ROWS($1:42)))} -> #REF! | B42: {=IF(ROWS($1:42)>SUBTOTAL(3,#REF!),"",SMALL(IF(SUBTOTAL(3,INDIRECT("'Einzelwertung U12'!I"&ROW($2:$177))),#REF!),ROWS($1:42)))} -> #REF! | C42: {=IF(ROWS($1:42)>SUBTOTAL(3,#REF!),"",SMALL(IF(SUBTOTAL(3,INDIRECT("'Einzelwertung U12'!K"&ROW($2:$177))),#REF!),ROWS($1:42)))} -> #REF! | D42: {=IF(ROWS($1:42)>SUBTOTAL(3,#REF!),"",SMALL(IF(SUBTOTAL(3,INDIRECT("'Einzelwertung U12'!M"&ROW($2:$177))),#REF!),ROWS($1:42)))} -> #REF! | E42: {=IF(ROWS($1:42)>SUBTOTAL(3,#REF!),"",SMALL(IF(SUBTOTAL(3,INDIRECT("'Einzelwertung U12'!O"&ROW($2:$177))),#REF!),ROWS($1:42)))} -> #REF! | F42: {=IF(ROWS($1:42)>SUBTOTAL(3,#REF!),"",SMALL(IF(SUBTOTAL(3,INDIRECT("'Einzelwertung U12'!Q"&ROW($2:$177))),#REF!),ROWS($1:42)))} -> #REF! | G42: {=IF(ROWS($1:42)>SUBTOTAL(3,#REF!),"",IF(OR(A42<>"",B42<>"",C42<>"",D42<>"",E42<>"",F42<>""),SMALL(IF(SUBTOTAL(3,INDIRECT("'Einzelwertung U12'!S"&ROW($2:$177))),#REF!),ROWS($1:42)),""))} -> #REF!
A43: {=IF(ROWS($1:43)>SUBTOTAL(3,#REF!),"",SMALL(IF(SUBTOTAL(3,INDIRECT("'Einzelwertung U12'!G"&ROW($2:$177))),#REF!),ROWS($1:43)))} -> #REF! | B43: {=IF(ROWS($1:43)>SUBTOTAL(3,#REF!),"",SMALL(IF(SUBTOTAL(3,INDIRECT("'Einzelwertung U12'!I"&ROW($2:$177))),#REF!),ROWS($1:43)))} -> #REF! | C43: {=IF(ROWS($1:43)>SUBTOTAL(3,#REF!),"",SMALL(IF(SUBTOTAL(3,INDIRECT("'Einzelwertung U12'!K"&ROW($2:$177))),#REF!),ROWS($1:43)))} -> #REF! | D43: {=IF(ROWS($1:43)>SUBTOTAL(3,#REF!),"",SMALL(IF(SUBTOTAL(3,INDIRECT("'Einzelwertung U12'!M"&ROW($2:$177))),#REF!),ROWS($1:43)))} -> #REF! | E43: {=IF(ROWS($1:43)>SUBTOTAL(3,#REF!),"",SMALL(IF(SUBTOTAL(3,INDIRECT("'Einzelwertung U12'!O"&ROW($2:$177))),#REF!),ROWS($1:43)))} -> #REF! | F43: {=IF(ROWS($1:43)>SUBTOTAL(3,#REF!),"",SMALL(IF(SUBTOTAL(3,INDIRECT("'Einzelwertung U12'!Q"&ROW($2:$177))),#REF!),ROWS($1:43)))} -> #REF! | G43: {=IF(ROWS($1:43)>SUBTOTAL(3,#REF!),"",IF(OR(A43<>"",B43<>"",C43<>"",D43<>"",E43<>"",F43<>""),SMALL(IF(SUBTOTAL(3,INDIRECT("'Einzelwertung U12'!S"&ROW($2:$177))),#REF!),ROWS($1:43)),""))} -> #REF!
A44: {=IF(ROWS($1:44)>SUBTOTAL(3,#REF!),"",SMALL(IF(SUBTOTAL(3,INDIRECT("'Einzelwertung U12'!G"&ROW($2:$177))),#REF!),ROWS($1:44)))} -> #REF! | B44: {=IF(ROWS($1:44)>SUBTOTAL(3,#REF!),"",SMALL(IF(SUBTOTAL(3,INDIRECT("'Einzelwertung U12'!I"&ROW($2:$177))),#REF!),ROWS($1:44)))} -> #REF! | C44: {=IF(ROWS($1:44)>SUBTOTAL(3,#REF!),"",SMALL(IF(SUBTOTAL(3,INDIRECT("'Einzelwertung U12'!K"&ROW($2:$177))),#REF!),ROWS($1:44)))} -> #REF! | D44: {=IF(ROWS($1:44)>SUBTOTAL(3,#REF!),"",SMALL(IF(SUBTOTAL(3,INDIRECT("'Einzelwertung U12'!M"&ROW($2:$177))),#REF!),ROWS($1:44)))} -> #REF! | E44: {=IF(ROWS($1:44)>SUBTOTAL(3,#REF!),"",SMALL(IF(SUBTOTAL(3,INDIRECT("'Einzelwertung U12'!O"&ROW($2:$177))),#REF!),ROWS($1:44)))} -> #REF! | F44: {=IF(ROWS($1:44)>SUBTOTAL(3,#REF!),"",SMALL(IF(SUBTOTAL(3,INDIRECT("'Einzelwertung U12'!Q"&ROW($2:$177))),#REF!),ROWS($1:44)))} -> #REF! | G44: {=IF(ROWS($1:44)>SUBTOTAL(3,#REF!),"",IF(OR(A44<>"",B44<>"",C44<>"",D44<>"",E44<>"",F44<>""),SMALL(IF(SUBTOTAL(3,INDIRECT("'Einzelwertung U12'!S"&ROW($2:$177))),#REF!),ROWS($1:44)),""))} -> #REF!
A45: {=IF(ROWS($1:45)>SUBTOTAL(3,#REF!),"",SMALL(IF(SUBTOTAL(3,INDIRECT("'Einzelwertung U12'!G"&ROW($2:$177))),#REF!),ROWS($1:45)))} -> #REF! | B45: {=IF(ROWS($1:45)>SUBTOTAL(3,#REF!),"",SMALL(IF(SUBTOTAL(3,INDIRECT("'Einzelwertung U12'!I"&ROW($2:$177))),#REF!),ROWS($1:45)))} -> #REF! | C45: {=IF(ROWS($1:45)>SUBTOTAL(3,#REF!),"",SMALL(IF(SUBTOTAL(3,INDIRECT("'Einzelwertung U12'!K"&ROW($2:$177))),#REF!),ROWS($1:45)))} -> #REF! | D45: {=IF(ROWS($1:45)>SUBTOTAL(3,#REF!),"",SMALL(IF(SUBTOTAL(3,INDIRECT("'Einzelwertung U12'!M"&ROW($2:$177))),#REF!),ROWS($1:45)))} -> #REF! | E45: {=IF(ROWS($1:45)>SUBTOTAL(3,#REF!),"",SMALL(IF(SUBTOTAL(3,INDIRECT("'Einzelwertung U12'!O"&ROW($2:$177))),#REF!),ROWS($1:45)))} -> #REF! | F45: {=IF(ROWS($1:45)>SUBTOTAL(3,#REF!),"",SMALL(IF(SUBTOTAL(3,INDIRECT("'Einzelwertung U12'!Q"&ROW($2:$177))),#REF!),ROWS($1:45)))} -> #REF! | G45: {=IF(ROWS($1:45)>SUBTOTAL(3,#REF!),"",IF(OR(A45<>"",B45<>"",C45<>"",D45<>"",E45<>"",F45<>""),SMALL(IF(SUBTOTAL(3,INDIRECT("'Einzelwertung U12'!S"&ROW($2:$177))),#REF!),ROWS($1:45)),""))} -> #REF!
A46: {=IF(ROWS($1:46)>SUBTOTAL(3,#REF!),"",SMALL(IF(SUBTOTAL(3,INDIRECT("'Einzelwertung U12'!G"&ROW($2:$177))),#REF!),ROWS($1:46)))} -> #REF! | B46: {=IF(ROWS($1:46)>SUBTOTAL(3,#REF!),"",SMALL(IF(SUBTOTAL(3,INDIRECT("'Einzelwertung U12'!I"&ROW($2:$177))),#REF!),ROWS($1:46)))} -> #REF! | C46: {=IF(ROWS($1:46)>SUBTOTAL(3,#REF!),"",SMALL(IF(SUBTOTAL(3,INDIRECT("'Einzelwertung U12'!K"&ROW($2:$177))),#REF!),ROWS($1:46)))} -> #REF! | D46: {=IF(ROWS($1:46)>SUBTOTAL(3,#REF!),"",SMALL(IF(SUBTOTAL(3,INDIRECT("'Einzelwertung U12'!M"&ROW($2:$177))),#REF!),ROWS($1:46)))} -> #REF! | E46: {=IF(ROWS($1:46)>SUBTOTAL(3,#REF!),"",SMALL(IF(SUBTOTAL(3,INDIRECT("'Einzelwertung U12'!O"&ROW($2:$177))),#REF!),ROWS($1:46)))} -> #REF! | F46: {=IF(ROWS($1:46)>SUBTOTAL(3,#REF!),"",SMALL(IF(SUBTOTAL(3,INDIRECT("'Einzelwertung U12'!Q"&ROW($2:$177))),#REF!),ROWS($1:46)))} -> #REF! | G46: {=IF(ROWS($1:46)>SUBTOTAL(3,#REF!),"",IF(OR(A46<>"",B46<>"",C46<>"",D46<>"",E46<>"",F46<>""),SMALL(IF(SUBTOTAL(3,INDIRECT("'Einzelwertung U12'!S"&ROW($2:$177))),#REF!),ROWS($1:46)),""))} -> #REF!
A47: {=IF(ROWS($1:47)>SUBTOTAL(3,#REF!),"",SMALL(IF(SUBTOTAL(3,INDIRECT("'Einzelwertung U12'!G"&ROW($2:$177))),#REF!),ROWS($1:47)))} -> #REF! | B47: {=IF(ROWS($1:47)>SUBTOTAL(3,#REF!),"",SMALL(IF(SUBTOTAL(3,INDIRECT("'Einzelwertung U12'!I"&ROW($2:$177))),#REF!),ROWS($1:47)))} -> #REF! | C47: {=IF(ROWS($1:47)>SUBTOTAL(3,#REF!),"",SMALL(IF(SUBTOTAL(3,INDIRECT("'Einzelwertung U12'!K"&ROW($2:$177))),#REF!),ROWS($1:47)))} -> #REF! | D47: {=IF(ROWS($1:47)>SUBTOTAL(3,#REF!),"",SMALL(IF(SUBTOTAL(3,INDIRECT("'Einzelwertung U12'!M"&ROW($2:$177))),#REF!),ROWS($1:47)))} -> #REF! | E47: {=IF(ROWS($1:47)>SUBTOTAL(3,#REF!),"",SMALL(IF(SUBTOTAL(3,INDIRECT("'Einzelwertung U12'!O"&ROW($2:$177))),#REF!),ROWS($1:47)))} -> #REF! | F47: {=IF(ROWS($1:47)>SUBTOTAL(3,#REF!),"",SMALL(IF(SUBTOTAL(3,INDIRECT("'Einzelwertung U12'!Q"&ROW($2:$177))),#REF!),ROWS($1:47)))} -> #REF! | G47: {=IF(ROWS($1:47)>SUBTOTAL(3,#REF!),"",IF(OR(A47<>"",B47<>"",C47<>"",D47<>"",E47<>"",F47<>""),SMALL(IF(SUBTOTAL(3,INDIRECT("'Einzelwertung U12'!S"&ROW($2:$177))),#REF!),ROWS($1:47)),""))} -> #REF!
A48: {=IF(ROWS($1:48)>SUBTOTAL(3,#REF!),"",SMALL(IF(SUBTOTAL(3,INDIRECT("'Einzelwertung U12'!G"&ROW($2:$177))),#REF!),ROWS($1:48)))} -> #REF! | B48: {=IF(ROWS($1:48)>SUBTOTAL(3,#REF!),"",SMALL(IF(SUBTOTAL(3,INDIRECT("'Einzelwertung U12'!I"&ROW($2:$177))),#REF!),ROWS($1:48)))} -> #REF! | C48: {=IF(ROWS($1:48)>SUBTOTAL(3,#REF!),"",SMALL(IF(SUBTOTAL(3,INDIRECT("'Einzelwertung U12'!K"&ROW($2:$177))),#REF!),ROWS($1:48)))} -> #REF! | D48: {=IF(ROWS($1:48)>SUBTOTAL(3,#REF!),"",SMALL(IF(SUBTOTAL(3,INDIRECT("'Einzelwertung U12'!M"&ROW($2:$177))),#REF!),ROWS($1:48)))} -> #REF! | E48: {=IF(ROWS($1:48)>SUBTOTAL(3,#REF!),"",SMALL(IF(SUBTOTAL(3,INDIRECT("'Einzelwertung U12'!O"&ROW($2:$177))),#REF!),ROWS($1:48)))} -> #REF! | F48: {=IF(ROWS($1:48)>SUBTOTAL(3,#REF!),"",SMALL(IF(SUBTOTAL(3,INDIRECT("'Einzelwertung U12'!Q"&ROW($2:$177))),#REF!),ROWS($1:48)))} -> #REF! | G48: {=IF(ROWS($1:48)>SUBTOTAL(3,#REF!),"",IF(OR(A48<>"",B48<>"",C48<>"",D48<>"",E48<>"",F48<>""),SMALL(IF(SUBTOTAL(3,INDIRECT("'Einzelwertung U12'!S"&ROW($2:$177))),#REF!),ROWS($1:48)),""))} -> #REF!
A49: {=IF(ROWS($1:49)>SUBTOTAL(3,#REF!),"",SMALL(IF(SUBTOTAL(3,INDIRECT("'Einzelwertung U12'!G"&ROW($2:$177))),#REF!),ROWS($1:49)))} -> #REF! | B49: {=IF(ROWS($1:49)>SUBTOTAL(3,#REF!),"",SMALL(IF(SUBTOTAL(3,INDIRECT("'Einzelwertung U12'!I"&ROW($2:$177))),#REF!),ROWS($1:49)))} -> #REF! | C49: {=IF(ROWS($1:49)>SUBTOTAL(3,#REF!),"",SMALL(IF(SUBTOTAL(3,INDIRECT("'Einzelwertung U12'!K"&ROW($2:$177))),#REF!),ROWS($1:49)))} -> #REF! | D49: {=IF(ROWS($1:49)>SUBTOTAL(3,#REF!),"",SMALL(IF(SUBTOTAL(3,INDIRECT("'Einzelwertung U12'!M"&ROW($2:$177))),#REF!),ROWS($1:49)))} -> #REF! | E49: {=IF(ROWS($1:49)>SUBTOTAL(3,#REF!),"",SMALL(IF(SUBTOTAL(3,INDIRECT("'Einzelwertung U12'!O"&ROW($2:$177))),#REF!),ROWS($1:49)))} -> #REF! | F49: {=IF(ROWS($1:49)>SUBTOTAL(3,#REF!),"",SMALL(IF(SUBTOTAL(3,INDIRECT("'Einzelwertung U12'!Q"&ROW($2:$177))),#REF!),ROWS($1:49)))} -> #REF! | G49: {=IF(ROWS($1:49)>SUBTOTAL(3,#REF!),"",IF(OR(A49<>"",B49<>"",C49<>"",D49<>"",E49<>"",F49<>""),SMALL(IF(SUBTOTAL(3,INDIRECT("'Einzelwertung U12'!S"&ROW($2:$177))),#REF!),ROWS($1:49)),""))} -> #REF!
A50: {=IF(ROWS($1:50)>SUBTOTAL(3,#REF!),"",SMALL(IF(SUBTOTAL(3,INDIRECT("'Einzelwertung U12'!G"&ROW($2:$177))),#REF!),ROWS($1:50)))} -> #REF! | B50: {=IF(ROWS($1:50)>SUBTOTAL(3,#REF!),"",SMALL(IF(SUBTOTAL(3,INDIRECT("'Einzelwertung U12'!I"&ROW($2:$177))),#REF!),ROWS($1:50)))} -> #REF! | C50: {=IF(ROWS($1:50)>SUBTOTAL(3,#REF!),"",SMALL(IF(SUBTOTAL(3,INDIRECT("'Einzelwertung U12'!K"&ROW($2:$177))),#REF!),ROWS($1:50)))} -> #REF! | D50: {=IF(ROWS($1:50)>SUBTOTAL(3,#REF!),"",SMALL(IF(SUBTOTAL(3,INDIRECT("'Einzelwertung U12'!M"&ROW($2:$177))),#REF!),ROWS($1:50)))} -> #REF! | E50: {=IF(ROWS($1:50)>SUBTOTAL(3,#REF!),"",SMALL(IF(SUBTOTAL(3,INDIRECT("'Einzelwertung U12'!O"&ROW($2:$177))),#REF!),ROWS($1:50)))} -> #REF! | F50: {=IF(ROWS($1:50)>SUBTOTAL(3,#REF!),"",SMALL(IF(SUBTOTAL(3,INDIRECT("'Einzelwertung U12'!Q"&ROW($2:$177))),#REF!),ROWS($1:50)))} -> #REF! | G50: {=IF(ROWS($1:50)>SUBTOTAL(3,#REF!),"",IF(OR(A50<>"",B50<>"",C50<>"",D50<>"",E50<>"",F50<>""),SMALL(IF(SUBTOTAL(3,INDIRECT("'Einzelwertung U12'!S"&ROW($2:$177))),#REF!),ROWS($1:50)),""))} -> #REF!
A51: {=IF(ROWS($1:51)>SUBTOTAL(3,#REF!),"",SMALL(IF(SUBTOTAL(3,INDIRECT("'Einzelwertung U12'!G"&ROW($2:$177))),#REF!),ROWS($1:51)))} -> #REF! | B51: {=IF(ROWS($1:51)>SUBTOTAL(3,#REF!),"",SMALL(IF(SUBTOTAL(3,INDIRECT("'Einzelwertung U12'!I"&ROW($2:$177))),#REF!),ROWS($1:51)))} -> #REF! | C51: {=IF(ROWS($1:51)>SUBTOTAL(3,#REF!),"",SMALL(IF(SUBTOTAL(3,INDIRECT("'Einzelwertung U12'!K"&ROW($2:$177))),#REF!),ROWS($1:51)))} -> #REF! | D51: {=IF(ROWS($1:51)>SUBTOTAL(3,#REF!),"",SMALL(IF(SUBTOTAL(3,INDIRECT("'Einzelwertung U12'!M"&ROW($2:$177))),#REF!),ROWS($1:51)))} -> #REF! | E51: {=IF(ROWS($1:51)>SUBTOTAL(3,#REF!),"",SMALL(IF(SUBTOTAL(3,INDIRECT("'Einzelwertung U12'!O"&ROW($2:$177))),#REF!),ROWS($1:51)))} -> #REF! | F51: {=IF(ROWS($1:51)>SUBTOTAL(3,#REF!),"",SMALL(IF(SUBTOTAL(3,INDIRECT("'Einzelwertung U12'!Q"&ROW($2:$177))),#REF!),ROWS($1:51)))} -> #REF! | G51: {=IF(ROWS($1:51)>SUBTOTAL(3,#REF!),"",IF(OR(A51<>"",B51<>"",C51<>"",D51<>"",E51<>"",F51<>""),SMALL(IF(SUBTOTAL(3,INDIRECT("'Einzelwertung U12'!S"&ROW($2:$177))),#REF!),ROWS($1:51)),""))} -> #REF!
A52: {=IF(ROWS($1:52)>SUBTOTAL(3,#REF!),"",SMALL(IF(SUBTOTAL(3,INDIRECT("'Einzelwertung U12'!G"&ROW($2:$177))),#REF!),ROWS($1:52)))} -> #REF! | B52: {=IF(ROWS($1:52)>SUBTOTAL(3,#REF!),"",SMALL(IF(SUBTOTAL(3,INDIRECT("'Einzelwertung U12'!I"&ROW($2:$177))),#REF!),ROWS($1:52)))} -> #REF! | C52: {=IF(ROWS($1:52)>SUBTOTAL(3,#REF!),"",SMALL(IF(SUBTOTAL(3,INDIRECT("'Einzelwertung U12'!K"&ROW($2:$177))),#REF!),ROWS($1:52)))} -> #REF! | D52: {=IF(ROWS($1:52)>SUBTOTAL(3,#REF!),"",SMALL(IF(SUBTOTAL(3,INDIRECT("'Einzelwertung U12'!M"&ROW($2:$177))),#REF!),ROWS($1:52)))} -> #REF! | E52: {=IF(ROWS($1:52)>SUBTOTAL(3,#REF!),"",SMALL(IF(SUBTOTAL(3,INDIRECT("'Einzelwertung U12'!O"&ROW($2:$177))),#REF!),ROWS($1:52)))} -> #REF! | F52: {=IF(ROWS($1:52)>SUBTOTAL(3,#REF!),"",SMALL(IF(SUBTOTAL(3,INDIRECT("'Einzelwertung U12'!Q"&ROW($2:$177))),#REF!),ROWS($1:52)))} -> #REF! | G52: {=IF(ROWS($1:52)>SUBTOTAL(3,#REF!),"",IF(OR(A52<>"",B52<>"",C52<>"",D52<>"",E52<>"",F52<>""),SMALL(IF(SUBTOTAL(3,INDIRECT("'Einzelwertung U12'!S"&ROW($2:$177))),#REF!),ROWS($1:52)),""))} -> #REF!
A53: {=IF(ROWS($1:53)>SUBTOTAL(3,#REF!),"",SMALL(IF(SUBTOTAL(3,INDIRECT("'Einzelwertung U12'!G"&ROW($2:$177))),#REF!),ROWS($1:53)))} -> #REF! | B53: {=IF(ROWS($1:53)>SUBTOTAL(3,#REF!),"",SMALL(IF(SUBTOTAL(3,INDIRECT("'Einzelwertung U12'!I"&ROW($2:$177))),#REF!),ROWS($1:53)))} -> #REF! | C53: {=IF(ROWS($1:53)>SUBTOTAL(3,#REF!),"",SMALL(IF(SUBTOTAL(3,INDIRECT("'Einzelwertung U12'!K"&ROW($2:$177))),#REF!),ROWS($1:53)))} -> #REF! | D53: {=IF(ROWS($1:53)>SUBTOTAL(3,#REF!),"",SMALL(IF(SUBTOTAL(3,INDIRECT("'Einzelwertung U12'!M"&ROW($2:$177))),#REF!),ROWS($1:53)))} -> #REF! | E53: {=IF(ROWS($1:53)>SUBTOTAL(3,#REF!),"",SMALL(IF(SUBTOTAL(3,INDIRECT("'Einzelwertung U12'!O"&ROW($2:$177))),#REF!),ROWS($1:53)))} -> #REF! | F53: {=IF(ROWS($1:53)>SUBTOTAL(3,#REF!),"",SMALL(IF(SUBTOTAL(3,INDIRECT("'Einzelwertung U12'!Q"&ROW($2:$177))),#REF!),ROWS($1:53)))} -> #REF! | G53: {=IF(ROWS($1:53)>SUBTOTAL(3,#REF!),"",IF(OR(A53<>"",B53<>"",C53<>"",D53<>"",E53<>"",F53<>""),SMALL(IF(SUBTOTAL(3,INDIRECT("'Einzelwertung U12'!S"&ROW($2:$177))),#REF!),ROWS($1:53)),""))} -> #REF!
A54: {=IF(ROWS($1:54)>SUBTOTAL(3,#REF!),"",SMALL(IF(SUBTOTAL(3,INDIRECT("'Einzelwertung U12'!G"&ROW($2:$177))),#REF!),ROWS($1:54)))} -> #REF! | B54: {=IF(ROWS($1:54)>SUBTOTAL(3,#REF!),"",SMALL(IF(SUBTOTAL(3,INDIRECT("'Einzelwertung U12'!I"&ROW($2:$177))),#REF!),ROWS($1:54)))} -> #REF! | C54: {=IF(ROWS($1:54)>SUBTOTAL(3,#REF!),"",SMALL(IF(SUBTOTAL(3,INDIRECT("'Einzelwertung U12'!K"&ROW($2:$177))),#REF!),ROWS($1:54)))} -> #REF! | D54: {=IF(ROWS($1:54)>SUBTOTAL(3,#REF!),"",SMALL(IF(SUBTOTAL(3,INDIRECT("'Einzelwertung U12'!M"&ROW($2:$177))),#REF!),ROWS($1:54)))} -> #REF! | E54: {=IF(ROWS($1:54)>SUBTOTAL(3,#REF!),"",SMALL(IF(SUBTOTAL(3,INDIRECT("'Einzelwertung U12'!O"&ROW($2:$177))),#REF!),ROWS($1:54)))} -> #REF! | F54: {=IF(ROWS($1:54)>SUBTOTAL(3,#REF!),"",SMALL(IF(SUBTOTAL(3,INDIRECT("'Einzelwertung U12'!Q"&ROW($2:$177))),#REF!),ROWS($1:54)))} -> #REF! | G54: {=IF(ROWS($1:54)>SUBTOTAL(3,#REF!),"",IF(OR(A54<>"",B54<>"",C54<>"",D54<>"",E54<>"",F54<>""),SMALL(IF(SUBTOTAL(3,INDIRECT("'Einzelwertung U12'!S"&ROW($2:$177))),#REF!),ROWS($1:54)),""))} -> #REF!
A55: {=IF(ROWS($1:55)>SUBTOTAL(3,#REF!),"",SMALL(IF(SUBTOTAL(3,INDIRECT("'Einzelwertung U12'!G"&ROW($2:$177))),#REF!),ROWS($1:55)))} -> #REF! | B55: {=IF(ROWS($1:55)>SUBTOTAL(3,#REF!),"",SMALL(IF(SUBTOTAL(3,INDIRECT("'Einzelwertung U12'!I"&ROW($2:$177))),#REF!),ROWS($1:55)))} -> #REF! | C55: {=IF(ROWS($1:55)>SUBTOTAL(3,#REF!),"",SMALL(IF(SUBTOTAL(3,INDIRECT("'Einzelwertung U12'!K"&ROW($2:$177))),#REF!),ROWS($1:55)))} -> #REF! | D55: {=IF(ROWS($1:55)>SUBTOTAL(3,#REF!),"",SMALL(IF(SUBTOTAL(3,INDIRECT("'Einzelwertung U12'!M"&ROW($2:$177))),#REF!),ROWS($1:55)))} -> #REF! | E55: {=IF(ROWS($1:55)>SUBTOTAL(3,#REF!),"",SMALL(IF(SUBTOTAL(3,INDIRECT("'Einzelwertung U12'!O"&ROW($2:$177))),#REF!),ROWS($1:55)))} -> #REF! | F55: {=IF(ROWS($1:55)>SUBTOTAL(3,#REF!),"",SMALL(IF(SUBTOTAL(3,INDIRECT("'Einzelwertung U12'!Q"&ROW($2:$177))),#REF!),ROWS($1:55)))} -> #REF! | G55: {=IF(ROWS($1:55)>SUBTOTAL(3,#REF!),"",IF(OR(A55<>"",B55<>"",C55<>"",D55<>"",E55<>"",F55<>""),SMALL(IF(SUBTOTAL(3,INDIRECT("'Einzelwertung U12'!S"&ROW($2:$177))),#REF!),ROWS($1:55)),""))} -> #REF!
A56: {=IF(ROWS($1:56)>SUBTOTAL(3,#REF!),"",SMALL(IF(SUBTOTAL(3,INDIRECT("'Einzelwertung U12'!G"&ROW($2:$177))),#REF!),ROWS($1:56)))} -> #REF! | B56: {=IF(ROWS($1:56)>SUBTOTAL(3,#REF!),"",SMALL(IF(SUBTOTAL(3,INDIRECT("'Einzelwertung U12'!I"&ROW($2:$177))),#REF!),ROWS($1:56)))} -> #REF! | C56: {=IF(ROWS($1:56)>SUBTOTAL(3,#REF!),"",SMALL(IF(SUBTOTAL(3,INDIRECT("'Einzelwertung U12'!K"&ROW($2:$177))),#REF!),ROWS($1:56)))} -> #REF! | D56: {=IF(ROWS($1:56)>SUBTOTAL(3,#REF!),"",SMALL(IF(SUBTOTAL(3,INDIRECT("'Einzelwertung U12'!M"&ROW($2:$177))),#REF!),ROWS($1:56)))} -> #REF! | E56: {=IF(ROWS($1:56)>SUBTOTAL(3,#REF!),"",SMALL(IF(SUBTOTAL(3,INDIRECT("'Einzelwertung U12'!O"&ROW($2:$177))),#REF!),ROWS($1:56)))} -> #REF! | F56: {=IF(ROWS($1:56)>SUBTOTAL(3,#REF!),"",SMALL(IF(SUBTOTAL(3,INDIRECT("'Einzelwertung U12'!Q"&ROW($2:$177))),#REF!),ROWS($1:56)))} -> #REF! | G56: {=IF(ROWS($1:56)>SUBTOTAL(3,#REF!),"",IF(OR(A56<>"",B56<>"",C56<>"",D56<>"",E56<>"",F56<>""),SMALL(IF(SUBTOTAL(3,INDIRECT("'Einzelwertung U12'!S"&ROW($2:$177))),#REF!),ROWS($1:56)),""))} -> #REF!
A57: {=IF(ROWS($1:57)>SUBTOTAL(3,#REF!),"",SMALL(IF(SUBTOTAL(3,INDIRECT("'Einzelwertung U12'!G"&ROW($2:$177))),#REF!),ROWS($1:57)))} -> #REF! | B57: {=IF(ROWS($1:57)>SUBTOTAL(3,#REF!),"",SMALL(IF(SUBTOTAL(3,INDIRECT("'Einzelwertung U12'!I"&ROW($2:$177))),#REF!),ROWS($1:57)))} -> #REF! | C57: {=IF(ROWS($1:57)>SUBTOTAL(3,#REF!),"",SMALL(IF(SUBTOTAL(3,INDIRECT("'Einzelwertung U12'!K"&ROW($2:$177))),#REF!),ROWS($1:57)))} -> #REF! | D57: {=IF(ROWS($1:57)>SUBTOTAL(3,#REF!),"",SMALL(IF(SUBTOTAL(3,INDIRECT("'Einzelwertung U12'!M"&ROW($2:$177))),#REF!),ROWS($1:57)))} -> #REF! | E57: {=IF(ROWS($1:57)>SUBTOTAL(3,#REF!),"",SMALL(IF(SUBTOTAL(3,INDIRECT("'Einzelwertung U12'!O"&ROW($2:$177))),#REF!),ROWS($1:57)))} -> #REF! | F57: {=IF(ROWS($1:57)>SUBTOTAL(3,#REF!),"",SMALL(IF(SUBTOTAL(3,INDIRECT("'Einzelwertung U12'!Q"&ROW($2:$177))),#REF!),ROWS($1:57)))} -> #REF! | G57: {=IF(ROWS($1:57)>SUBTOTAL(3,#REF!),"",IF(OR(A57<>"",B57<>"",C57<>"",D57<>"",E57<>"",F57<>""),SMALL(IF(SUBTOTAL(3,INDIRECT("'Einzelwertung U12'!S"&ROW($2:$177))),#REF!),ROWS($1:57)),""))} -> #REF!
A58: {=IF(ROWS($1:58)>SUBTOTAL(3,#REF!),"",SMALL(IF(SUBTOTAL(3,INDIRECT("'Einzelwertung U12'!G"&ROW($2:$177))),#REF!),ROWS($1:58)))} -> #REF! | B58: {=IF(ROWS($1:58)>SUBTOTAL(3,#REF!),"",SMALL(IF(SUBTOTAL(3,INDIRECT("'Einzelwertung U12'!I"&ROW($2:$177))),#REF!),ROWS($1:58)))} -> #REF! | C58: {=IF(ROWS($1:58)>SUBTOTAL(3,#REF!),"",SMALL(IF(SUBTOTAL(3,INDIRECT("'Einzelwertung U12'!K"&ROW($2:$177))),#REF!),ROWS($1:58)))} -> #REF! | D58: {=IF(ROWS($1:58)>SUBTOTAL(3,#REF!),"",SMALL(IF(SUBTOTAL(3,INDIRECT("'Einzelwertung U12'!M"&ROW($2:$177))),#REF!),ROWS($1:58)))} -> #REF! | E58: {=IF(ROWS($1:58)>SUBTOTAL(3,#REF!),"",SMALL(IF(SUBTOTAL(3,INDIRECT("'Einzelwertung U12'!O"&ROW($2:$177))),#REF!),ROWS($1:58)))} -> #REF! | F58: {=IF(ROWS($1:58)>SUBTOTAL(3,#REF!),"",SMALL(IF(SUBTOTAL(3,INDIRECT("'Einzelwertung U12'!Q"&ROW($2:$177))),#REF!),ROWS($1:58)))} -> #REF! | G58: {=IF(ROWS($1:58)>SUBTOTAL(3,#REF!),"",IF(OR(A58<>"",B58<>"",C58<>"",D58<>"",E58<>"",F58<>""),SMALL(IF(SUBTOTAL(3,INDIRECT("'Einzelwertung U12'!S"&ROW($2:$177))),#REF!),ROWS($1:58)),""))} -> #REF!
A59: {=IF(ROWS($1:59)>SUBTOTAL(3,#REF!),"",SMALL(IF(SUBTOTAL(3,INDIRECT("'Einzelwertung U12'!G"&ROW($2:$177))),#REF!),ROWS($1:59)))} -> #REF! | B59: {=IF(ROWS($1:59)>SUBTOTAL(3,#REF!),"",SMALL(IF(SUBTOTAL(3,INDIRECT("'Einzelwertung U12'!I"&ROW($2:$177))),#REF!),ROWS($1:59)))} -> #REF! | C59: {=IF(ROWS($1:59)>SUBTOTAL(3,#REF!),"",SMALL(IF(SUBTOTAL(3,INDIRECT("'Einzelwertung U12'!K"&ROW($2:$177))),#REF!),ROWS($1:59)))} -> #REF! | D59: {=IF(ROWS($1:59)>SUBTOTAL(3,#REF!),"",SMALL(IF(SUBTOTAL(3,INDIRECT("'Einzelwertung U12'!M"&ROW($2:$177))),#REF!),ROWS($1:59)))} -> #REF! | E59: {=IF(ROWS($1:59)>SUBTOTAL(3,#REF!),"",SMALL(IF(SUBTOTAL(3,INDIRECT("'Einzelwertung U12'!O"&ROW($2:$177))),#REF!),ROWS($1:59)))} -> #REF! | F59: {=IF(ROWS($1:59)>SUBTOTAL(3,#REF!),"",SMALL(IF(SUBTOTAL(3,INDIRECT("'Einzelwertung U12'!Q"&ROW($2:$177))),#REF!),ROWS($1:59)))} -> #REF! | G59: {=IF(ROWS($1:59)>SUBTOTAL(3,#REF!),"",IF(OR(A59<>"",B59<>"",C59<>"",D59<>"",E59<>"",F59<>""),SMALL(IF(SUBTOTAL(3,INDIRECT("'Einzelwertung U12'!S"&ROW($2:$177))),#REF!),ROWS($1:59)),""))} -> #REF!
A60: {=IF(ROWS($1:60)>SUBTOTAL(3,#REF!),"",SMALL(IF(SUBTOTAL(3,INDIRECT("'Einzelwertung U12'!G"&ROW($2:$177))),#REF!),ROWS($1:60)))} -> #REF! | B60: {=IF(ROWS($1:60)>SUBTOTAL(3,#REF!),"",SMALL(IF(SUBTOTAL(3,INDIRECT("'Einzelwertung U12'!I"&ROW($2:$177))),#REF!),ROWS($1:60)))} -> #REF! | C60: {=IF(ROWS($1:60)>SUBTOTAL(3,#REF!),"",SMALL(IF(SUBTOTAL(3,INDIRECT("'Einzelwertung U12'!K"&ROW($2:$177))),#REF!),ROWS($1:60)))} -> #REF! | D60: {=IF(ROWS($1:60)>SUBTOTAL(3,#REF!),"",SMALL(IF(SUBTOTAL(3,INDIRECT("'Einzelwertung U12'!M"&ROW($2:$177))),#REF!),ROWS($1:60)))} -> #REF! | E60: {=IF(ROWS($1:60)>SUBTOTAL(3,#REF!),"",SMALL(IF(SUBTOTAL(3,INDIRECT("'Einzelwertung U12'!O"&ROW($2:$177))),#REF!),ROWS($1:60)))} -> #REF! | F60: {=IF(ROWS($1:60)>SUBTOTAL(3,#REF!),"",SMALL(IF(SUBTOTAL(3,INDIRECT("'Einzelwertung U12'!Q"&ROW($2:$177))),#REF!),ROWS($1:60)))} -> #REF! | G60: {=IF(ROWS($1:60)>SUBTOTAL(3,#REF!),"",IF(OR(A60<>"",B60<>"",C60<>"",D60<>"",E60<>"",F60<>""),SMALL(IF(SUBTOTAL(3,INDIRECT("'Einzelwertung U12'!S"&ROW($2:$177))),#REF!),ROWS($1:60)),""))} -> #REF!
A61: {=IF(ROWS($1:61)>SUBTOTAL(3,#REF!),"",SMALL(IF(SUBTOTAL(3,INDIRECT("'Einzelwertung U12'!G"&ROW($2:$177))),#REF!),ROWS($1:61)))} -> #REF! | B61: {=IF(ROWS($1:61)>SUBTOTAL(3,#REF!),"",SMALL(IF(SUBTOTAL(3,INDIRECT("'Einzelwertung U12'!I"&ROW($2:$177))),#REF!),ROWS($1:61)))} -> #REF! | C61: {=IF(ROWS($1:61)>SUBTOTAL(3,#REF!),"",SMALL(IF(SUBTOTAL(3,INDIRECT("'Einzelwertung U12'!K"&ROW($2:$177))),#REF!),ROWS($1:61)))} -> #REF! | D61: {=IF(ROWS($1:61)>SUBTOTAL(3,#REF!),"",SMALL(IF(SUBTOTAL(3,INDIRECT("'Einzelwertung U12'!M"&ROW($2:$177))),#REF!),ROWS($1:61)))} -> #REF! | E61: {=IF(ROWS($1:61)>SUBTOTAL(3,#REF!),"",SMALL(IF(SUBTOTAL(3,INDIRECT("'Einzelwertung U12'!O"&ROW($2:$177))),#REF!),ROWS($1:61)))} -> #REF! | F61: {=IF(ROWS($1:61)>SUBTOTAL(3,#REF!),"",SMALL(IF(SUBTOTAL(3,INDIRECT("'Einzelwertung U12'!Q"&ROW($2:$177))),#REF!),ROWS($1:61)))} -> #REF! | G61: {=IF(ROWS($1:61)>SUBTOTAL(3,#REF!),"",IF(OR(A61<>"",B61<>"",C61<>"",D61<>"",E61<>"",F61<>""),SMALL(IF(SUBTOTAL(3,INDIRECT("'Einzelwertung U12'!S"&ROW($2:$177))),#REF!),ROWS($1:61)),""))} -> #REF!
A62: {=IF(ROWS($1:62)>SUBTOTAL(3,#REF!),"",SMALL(IF(SUBTOTAL(3,INDIRECT("'Einzelwertung U12'!G"&ROW($2:$177))),#REF!),ROWS($1:62)))} -> #REF! | B62: {=IF(ROWS($1:62)>SUBTOTAL(3,#REF!),"",SMALL(IF(SUBTOTAL(3,INDIRECT("'Einzelwertung U12'!I"&ROW($2:$177))),#REF!),ROWS($1:62)))} -> #REF! | C62: {=IF(ROWS($1:62)>SUBTOTAL(3,#REF!),"",SMALL(IF(SUBTOTAL(3,INDIRECT("'Einzelwertung U12'!K"&ROW($2:$177))),#REF!),ROWS($1:62)))} -> #REF! | D62: {=IF(ROWS($1:62)>SUBTOTAL(3,#REF!),"",SMALL(IF(SUBTOTAL(3,INDIRECT("'Einzelwertung U12'!M"&ROW($2:$177))),#REF!),ROWS($1:62)))} -> #REF! | E62: {=IF(ROWS($1:62)>SUBTOTAL(3,#REF!),"",SMALL(IF(SUBTOTAL(3,INDIRECT("'Einzelwertung U12'!O"&ROW($2:$177))),#REF!),ROWS($1:62)))} -> #REF! | F62: {=IF(ROWS($1:62)>SUBTOTAL(3,#REF!),"",SMALL(IF(SUBTOTAL(3,INDIRECT("'Einzelwertung U12'!Q"&ROW($2:$177))),#REF!),ROWS($1:62)))} -> #REF! | G62: {=IF(ROWS($1:62)>SUBTOTAL(3,#REF!),"",IF(OR(A62<>"",B62<>"",C62<>"",D62<>"",E62<>"",F62<>""),SMALL(IF(SUBTOTAL(3,INDIRECT("'Einzelwertung U12'!S"&ROW($2:$177))),#REF!),ROWS($1:62)),""))} -> #REF!
A63: {=IF(ROWS($1:63)>SUBTOTAL(3,#REF!),"",SMALL(IF(SUBTOTAL(3,INDIRECT("'Einzelwertung U12'!G"&ROW($2:$177))),#REF!),ROWS($1:63)))} -> #REF! | B63: {=IF(ROWS($1:63)>SUBTOTAL(3,#REF!),"",SMALL(IF(SUBTOTAL(3,INDIRECT("'Einzelwertung U12'!I"&ROW($2:$177))),#REF!),ROWS($1:63)))} -> #REF! | C63: {=IF(ROWS($1:63)>SUBTOTAL(3,#REF!),"",SMALL(IF(SUBTOTAL(3,INDIRECT("'Einzelwertung U12'!K"&ROW($2:$177))),#REF!),ROWS($1:63)))} -> #REF! | D63: {=IF(ROWS($1:63)>SUBTOTAL(3,#REF!),"",SMALL(IF(SUBTOTAL(3,INDIRECT("'Einzelwertung U12'!M"&ROW($2:$177))),#REF!),ROWS($1:63)))} -> #REF! | E63: {=IF(ROWS($1:63)>SUBTOTAL(3,#REF!),"",SMALL(IF(SUBTOTAL(3,INDIRECT("'Einzelwertung U12'!O"&ROW($2:$177))),#REF!),ROWS($1:63)))} -> #REF! | F63: {=IF(ROWS($1:63)>SUBTOTAL(3,#REF!),"",SMALL(IF(SUBTOTAL(3,INDIRECT("'Einzelwertung U12'!Q"&ROW($2:$177))),#REF!),ROWS($1:63)))} -> #REF! | G63: {=IF(ROWS($1:63)>SUBTOTAL(3,#REF!),"",IF(OR(A63<>"",B63<>"",C63<>"",D63<>"",E63<>"",F63<>""),SMALL(IF(SUBTOTAL(3,INDIRECT("'Einzelwertung U12'!S"&ROW($2:$177))),#REF!),ROWS($1:63)),""))} -> #REF!
A64: {=IF(ROWS($1:64)>SUBTOTAL(3,#REF!),"",SMALL(IF(SUBTOTAL(3,INDIRECT("'Einzelwertung U12'!G"&ROW($2:$177))),#REF!),ROWS($1:64)))} -> #REF! | B64: {=IF(ROWS($1:64)>SUBTOTAL(3,#REF!),"",SMALL(IF(SUBTOTAL(3,INDIRECT("'Einzelwertung U12'!I"&ROW($2:$177))),#REF!),ROWS($1:64)))} -> #REF! | C64: {=IF(ROWS($1:64)>SUBTOTAL(3,#REF!),"",SMALL(IF(SUBTOTAL(3,INDIRECT("'Einzelwertung U12'!K"&ROW($2:$177))),#REF!),ROWS($1:64)))} -> #REF! | D64: {=IF(ROWS($1:64)>SUBTOTAL(3,#REF!),"",SMALL(IF(SUBTOTAL(3,INDIRECT("'Einzelwertung U12'!M"&ROW($2:$177))),#REF!),ROWS($1:64)))} -> #REF! | E64: {=IF(ROWS($1:64)>SUBTOTAL(3,#REF!),"",SMALL(IF(SUBTOTAL(3,INDIRECT("'Einzelwertung U12'!O"&ROW($2:$177))),#REF!),ROWS($1:64)))} -> #REF! | F64: {=IF(ROWS($1:64)>SUBTOTAL(3,#REF!),"",SMALL(IF(SUBTOTAL(3,INDIRECT("'Einzelwertung U12'!Q"&ROW($2:$177))),#REF!),ROWS($1:64)))} -> #REF! | G64: {=IF(ROWS($1:64)>SUBTOTAL(3,#REF!),"",IF(OR(A64<>"",B64<>"",C64<>"",D64<>"",E64<>"",F64<>""),SMALL(IF(SUBTOTAL(3,INDIRECT("'Einzelwertung U12'!S"&ROW($2:$177))),#REF!),ROWS($1:64)),""))} -> #REF!
A65: {=IF(ROWS($1:65)>SUBTOTAL(3,#REF!),"",SMALL(IF(SUBTOTAL(3,INDIRECT("'Einzelwertung U12'!G"&ROW($2:$177))),#REF!),ROWS($1:65)))} -> #REF! | B65: {=IF(ROWS($1:65)>SUBTOTAL(3,#REF!),"",SMALL(IF(SUBTOTAL(3,INDIRECT("'Einzelwertung U12'!I"&ROW($2:$177))),#REF!),ROWS($1:65)))} -> #REF! | C65: {=IF(ROWS($1:65)>SUBTOTAL(3,#REF!),"",SMALL(IF(SUBTOTAL(3,INDIRECT("'Einzelwertung U12'!K"&ROW($2:$177))),#REF!),ROWS($1:65)))} -> #REF! | D65: {=IF(ROWS($1:65)>SUBTOTAL(3,#REF!),"",SMALL(IF(SUBTOTAL(3,INDIRECT("'Einzelwertung U12'!M"&ROW($2:$177))),#REF!),ROWS($1:65)))} -> #REF! | E65: {=IF(ROWS($1:65)>SUBTOTAL(3,#REF!),"",SMALL(IF(SUBTOTAL(3,INDIRECT("'Einzelwertung U12'!O"&ROW($2:$177))),#REF!),ROWS($1:65)))} -> #REF! | F65: {=IF(ROWS($1:65)>SUBTOTAL(3,#REF!),"",SMALL(IF(SUBTOTAL(3,INDIRECT("'Einzelwertung U12'!Q"&ROW($2:$177))),#REF!),ROWS($1:65)))} -> #REF! | G65: {=IF(ROWS($1:65)>SUBTOTAL(3,#REF!),"",IF(OR(A65<>"",B65<>"",C65<>"",D65<>"",E65<>"",F65<>""),SMALL(IF(SUBTOTAL(3,INDIRECT("'Einzelwertung U12'!S"&ROW($2:$177))),#REF!),ROWS($1:65)),""))} -> #REF!
A66: {=IF(ROWS($1:66)>SUBTOTAL(3,#REF!),"",SMALL(IF(SUBTOTAL(3,INDIRECT("'Einzelwertung U12'!G"&ROW($2:$177))),#REF!),ROWS($1:66)))} -> #REF! | B66: {=IF(ROWS($1:66)>SUBTOTAL(3,#REF!),"",SMALL(IF(SUBTOTAL(3,INDIRECT("'Einzelwertung U12'!I"&ROW($2:$177))),#REF!),ROWS($1:66)))} -> #REF! | C66: {=IF(ROWS($1:66)>SUBTOTAL(3,#REF!),"",SMALL(IF(SUBTOTAL(3,INDIRECT("'Einzelwertung U12'!K"&ROW($2:$177))),#REF!),ROWS($1:66)))} -> #REF! | D66: {=IF(ROWS($1:66)>SUBTOTAL(3,#REF!),"",SMALL(IF(SUBTOTAL(3,INDIRECT("'Einzelwertung U12'!M"&ROW($2:$177))),#REF!),ROWS($1:66)))} -> #REF! | E66: {=IF(ROWS($1:66)>SUBTOTAL(3,#REF!),"",SMALL(IF(SUBTOTAL(3,INDIRECT("'Einzelwertung U12'!O"&ROW($2:$177))),#REF!),ROWS($1:66)))} -> #REF! | F66: {=IF(ROWS($1:66)>SUBTOTAL(3,#REF!),"",SMALL(IF(SUBTOTAL(3,INDIRECT("'Einzelwertung U12'!Q"&ROW($2:$177))),#REF!),ROWS($1:66)))} -> #REF! | G66: {=IF(ROWS($1:66)>SUBTOTAL(3,#REF!),"",IF(OR(A66<>"",B66<>"",C66<>"",D66<>"",E66<>"",F66<>""),SMALL(IF(SUBTOTAL(3,INDIRECT("'Einzelwertung U12'!S"&ROW($2:$177))),#REF!),ROWS($1:66)),""))} -> #REF!
A67: {=IF(ROWS($1:67)>SUBTOTAL(3,#REF!),"",SMALL(IF(SUBTOTAL(3,INDIRECT("'Einzelwertung U12'!G"&ROW($2:$177))),#REF!),ROWS($1:67)))} -> #REF! | B67: {=IF(ROWS($1:67)>SUBTOTAL(3,#REF!),"",SMALL(IF(SUBTOTAL(3,INDIRECT("'Einzelwertung U12'!I"&ROW($2:$177))),#REF!),ROWS($1:67)))} -> #REF! | C67: {=IF(ROWS($1:67)>SUBTOTAL(3,#REF!),"",SMALL(IF(SUBTOTAL(3,INDIRECT("'Einzelwertung U12'!K"&ROW($2:$177))),#REF!),ROWS($1:67)))} -> #REF! | D67: {=IF(ROWS($1:67)>SUBTOTAL(3,#REF!),"",SMALL(IF(SUBTOTAL(3,INDIRECT("'Einzelwertung U12'!M"&ROW($2:$177))),#REF!),ROWS($1:67)))} -> #REF! | E67: {=IF(ROWS($1:67)>SUBTOTAL(3,#REF!),"",SMALL(IF(SUBTOTAL(3,INDIRECT("'Einzelwertung U12'!O"&ROW($2:$177))),#REF!),ROWS($1:67)))} -> #REF! | F67: {=IF(ROWS($1:67)>SUBTOTAL(3,#REF!),"",SMALL(IF(SUBTOTAL(3,INDIRECT("'Einzelwertung U12'!Q"&ROW($2:$177))),#REF!),ROWS($1:67)))} -> #REF! | G67: {=IF(ROWS($1:67)>SUBTOTAL(3,#REF!),"",IF(OR(A67<>"",B67<>"",C67<>"",D67<>"",E67<>"",F67<>""),SMALL(IF(SUBTOTAL(3,INDIRECT("'Einzelwertung U12'!S"&ROW($2:$177))),#REF!),ROWS($1:67)),""))} -> #REF!
A68: {=IF(ROWS($1:68)>SUBTOTAL(3,#REF!),"",SMALL(IF(SUBTOTAL(3,INDIRECT("'Einzelwertung U12'!G"&ROW($2:$177))),#REF!),ROWS($1:68)))} -> #REF! | B68: {=IF(ROWS($1:68)>SUBTOTAL(3,#REF!),"",SMALL(IF(SUBTOTAL(3,INDIRECT("'Einzelwertung U12'!I"&ROW($2:$177))),#REF!),ROWS($1:68)))} -> #REF! | C68: {=IF(ROWS($1:68)>SUBTOTAL(3,#REF!),"",SMALL(IF(SUBTOTAL(3,INDIRECT("'Einzelwertung U12'!K"&ROW($2:$177))),#REF!),ROWS($1:68)))} -> #REF! | D68: {=IF(ROWS($1:68)>SUBTOTAL(3,#REF!),"",SMALL(IF(SUBTOTAL(3,INDIRECT("'Einzelwertung U12'!M"&ROW($2:$177))),#REF!),ROWS($1:68)))} -> #REF! | E68: {=IF(ROWS($1:68)>SUBTOTAL(3,#REF!),"",SMALL(IF(SUBTOTAL(3,INDIRECT("'Einzelwertung U12'!O"&ROW($2:$177))),#REF!),ROWS($1:68)))} -> #REF! | F68: {=IF(ROWS($1:68)>SUBTOTAL(3,#REF!),"",SMALL(IF(SUBTOTAL(3,INDIRECT("'Einzelwertung U12'!Q"&ROW($2:$177))),#REF!),ROWS($1:68)))} -> #REF! | G68: {=IF(ROWS($1:68)>SUBTOTAL(3,#REF!),"",IF(OR(A68<>"",B68<>"",C68<>"",D68<>"",E68<>"",F68<>""),SMALL(IF(SUBTOTAL(3,INDIRECT("'Einzelwertung U12'!S"&ROW($2:$177))),#REF!),ROWS($1:68)),""))} -> #REF!
A69: {=IF(ROWS($1:69)>SUBTOTAL(3,#REF!),"",SMALL(IF(SUBTOTAL(3,INDIRECT("'Einzelwertung U12'!G"&ROW($2:$177))),#REF!),ROWS($1:69)))} -> #REF! | B69: {=IF(ROWS($1:69)>SUBTOTAL(3,#REF!),"",SMALL(IF(SUBTOTAL(3,INDIRECT("'Einzelwertung U12'!I"&ROW($2:$177))),#REF!),ROWS($1:69)))} -> #REF! | C69: {=IF(ROWS($1:69)>SUBTOTAL(3,#REF!),"",SMALL(IF(SUBTOTAL(3,INDIRECT("'Einzelwertung U12'!K"&ROW($2:$177))),#REF!),ROWS($1:69)))} -> #REF! | D69: {=IF(ROWS($1:69)>SUBTOTAL(3,#REF!),"",SMALL(IF(SUBTOTAL(3,INDIRECT("'Einzelwertung U12'!M"&ROW($2:$177))),#REF!),ROWS($1:69)))} -> #REF! | E69: {=IF(ROWS($1:69)>SUBTOTAL(3,#REF!),"",SMALL(IF(SUBTOTAL(3,INDIRECT("'Einzelwertung U12'!O"&ROW($2:$177))),#REF!),ROWS($1:69)))} -> #REF! | F69: {=IF(ROWS($1:69)>SUBTOTAL(3,#REF!),"",SMALL(IF(SUBTOTAL(3,INDIRECT("'Einzelwertung U12'!Q"&ROW($2:$177))),#REF!),ROWS($1:69)))} -> #REF! | G69: {=IF(ROWS($1:69)>SUBTOTAL(3,#REF!),"",IF(OR(A69<>"",B69<>"",C69<>"",D69<>"",E69<>"",F69<>""),SMALL(IF(SUBTOTAL(3,INDIRECT("'Einzelwertung U12'!S"&ROW($2:$177))),#REF!),ROWS($1:69)),""))} -> #REF!
A70: {=IF(ROWS($1:70)>SUBTOTAL(3,#REF!),"",SMALL(IF(SUBTOTAL(3,INDIRECT("'Einzelwertung U12'!G"&ROW($2:$177))),#REF!),ROWS($1:70)))} -> #REF! | B70: {=IF(ROWS($1:70)>SUBTOTAL(3,#REF!),"",SMALL(IF(SUBTOTAL(3,INDIRECT("'Einzelwertung U12'!I"&ROW($2:$177))),#REF!),ROWS($1:70)))} -> #REF! | C70: {=IF(ROWS($1:70)>SUBTOTAL(3,#REF!),"",SMALL(IF(SUBTOTAL(3,INDIRECT("'Einzelwertung U12'!K"&ROW($2:$177))),#REF!),ROWS($1:70)))} -> #REF! | D70: {=IF(ROWS($1:70)>SUBTOTAL(3,#REF!),"",SMALL(IF(SUBTOTAL(3,INDIRECT("'Einzelwertung U12'!M"&ROW($2:$177))),#REF!),ROWS($1:70)))} -> #REF! | E70: {=IF(ROWS($1:70)>SUBTOTAL(3,#REF!),"",SMALL(IF(SUBTOTAL(3,INDIRECT("'Einzelwertung U12'!O"&ROW($2:$177))),#REF!),ROWS($1:70)))} -> #REF! | F70: {=IF(ROWS($1:70)>SUBTOTAL(3,#REF!),"",SMALL(IF(SUBTOTAL(3,INDIRECT("'Einzelwertung U12'!Q"&ROW($2:$177))),#REF!),ROWS($1:70)))} -> #REF! | G70: {=IF(ROWS($1:70)>SUBTOTAL(3,#REF!),"",IF(OR(A70<>"",B70<>"",C70<>"",D70<>"",E70<>"",F70<>""),SMALL(IF(SUBTOTAL(3,INDIRECT("'Einzelwertung U12'!S"&ROW($2:$177))),#REF!),ROWS($1:70)),""))} -> #REF!
A71: {=IF(ROWS($1:71)>SUBTOTAL(3,#REF!),"",SMALL(IF(SUBTOTAL(3,INDIRECT("'Einzelwertung U12'!G"&ROW($2:$177))),#REF!),ROWS($1:71)))} -> #REF! | B71: {=IF(ROWS($1:71)>SUBTOTAL(3,#REF!),"",SMALL(IF(SUBTOTAL(3,INDIRECT("'Einzelwertung U12'!I"&ROW($2:$177))),#REF!),ROWS($1:71)))} -> #REF! | C71: {=IF(ROWS($1:71)>SUBTOTAL(3,#REF!),"",SMALL(IF(SUBTOTAL(3,INDIRECT("'Einzelwertung U12'!K"&ROW($2:$177))),#REF!),ROWS($1:71)))} -> #REF! | D71: {=IF(ROWS($1:71)>SUBTOTAL(3,#REF!),"",SMALL(IF(SUBTOTAL(3,INDIRECT("'Einzelwertung U12'!M"&ROW($2:$177))),#REF!),ROWS($1:71)))} -> #REF! | E71: {=IF(ROWS($1:71)>SUBTOTAL(3,#REF!),"",SMALL(IF(SUBTOTAL(3,INDIRECT("'Einzelwertung U12'!O"&ROW($2:$177))),#REF!),ROWS($1:71)))} -> #REF! | F71: {=IF(ROWS($1:71)>SUBTOTAL(3,#REF!),"",SMALL(IF(SUBTOTAL(3,INDIRECT("'Einzelwertung U12'!Q"&ROW($2:$177))),#REF!),ROWS($1:71)))} -> #REF! | G71: {=IF(ROWS($1:71)>SUBTOTAL(3,#REF!),"",IF(OR(A71<>"",B71<>"",C71<>"",D71<>"",E71<>"",F71<>""),SMALL(IF(SUBTOTAL(3,INDIRECT("'Einzelwertung U12'!S"&ROW($2:$177))),#REF!),ROWS($1:71)),""))} -> #REF!
A72: {=IF(ROWS($1:72)>SUBTOTAL(3,#REF!),"",SMALL(IF(SUBTOTAL(3,INDIRECT("'Einzelwertung U12'!G"&ROW($2:$177))),#REF!),ROWS($1:72)))} -> #REF! | B72: {=IF(ROWS($1:72)>SUBTOTAL(3,#REF!),"",SMALL(IF(SUBTOTAL(3,INDIRECT("'Einzelwertung U12'!I"&ROW($2:$177))),#REF!),ROWS($1:72)))} -> #REF! | C72: {=IF(ROWS($1:72)>SUBTOTAL(3,#REF!),"",SMALL(IF(SUBTOTAL(3,INDIRECT("'Einzelwertung U12'!K"&ROW($2:$177))),#REF!),ROWS($1:72)))} -> #REF! | D72: {=IF(ROWS($1:72)>SUBTOTAL(3,#REF!),"",SMALL(IF(SUBTOTAL(3,INDIRECT("'Einzelwertung U12'!M"&ROW($2:$177))),#REF!),ROWS($1:72)))} -> #REF! | E72: {=IF(ROWS($1:72)>SUBTOTAL(3,#REF!),"",SMALL(IF(SUBTOTAL(3,INDIRECT("'Einzelwertung U12'!O"&ROW($2:$177))),#REF!),ROWS($1:72)))} -> #REF! | F72: {=IF(ROWS($1:72)>SUBTOTAL(3,#REF!),"",SMALL(IF(SUBTOTAL(3,INDIRECT("'Einzelwertung U12'!Q"&ROW($2:$177))),#REF!),ROWS($1:72)))} -> #REF! | G72: {=IF(ROWS($1:72)>SUBTOTAL(3,#REF!),"",IF(OR(A72<>"",B72<>"",C72<>"",D72<>"",E72<>"",F72<>""),SMALL(IF(SUBTOTAL(3,INDIRECT("'Einzelwertung U12'!S"&ROW($2:$177))),#REF!),ROWS($1:72)),""))} -> #REF!
A73: {=IF(ROWS($1:73)>SUBTOTAL(3,#REF!),"",SMALL(IF(SUBTOTAL(3,INDIRECT("'Einzelwertung U12'!G"&ROW($2:$177))),#REF!),ROWS($1:73)))} -> #REF! | B73: {=IF(ROWS($1:73)>SUBTOTAL(3,#REF!),"",SMALL(IF(SUBTOTAL(3,INDIRECT("'Einzelwertung U12'!I"&ROW($2:$177))),#REF!),ROWS($1:73)))} -> #REF! | C73: {=IF(ROWS($1:73)>SUBTOTAL(3,#REF!),"",SMALL(IF(SUBTOTAL(3,INDIRECT("'Einzelwertung U12'!K"&ROW($2:$177))),#REF!),ROWS($1:73)))} -> #REF! | D73: {=IF(ROWS($1:73)>SUBTOTAL(3,#REF!),"",SMALL(IF(SUBTOTAL(3,INDIRECT("'Einzelwertung U12'!M"&ROW($2:$177))),#REF!),ROWS($1:73)))} -> #REF! | E73: {=IF(ROWS($1:73)>SUBTOTAL(3,#REF!),"",SMALL(IF(SUBTOTAL(3,INDIRECT("'Einzelwertung U12'!O"&ROW($2:$177))),#REF!),ROWS($1:73)))} -> #REF! | F73: {=IF(ROWS($1:73)>SUBTOTAL(3,#REF!),"",SMALL(IF(SUBTOTAL(3,INDIRECT("'Einzelwertung U12'!Q"&ROW($2:$177))),#REF!),ROWS($1:73)))} -> #REF! | G73: {=IF(ROWS($1:73)>SUBTOTAL(3,#REF!),"",IF(OR(A73<>"",B73<>"",C73<>"",D73<>"",E73<>"",F73<>""),SMALL(IF(SUBTOTAL(3,INDIRECT("'Einzelwertung U12'!S"&ROW($2:$177))),#REF!),ROWS($1:73)),""))} -> #REF!
A74: {=IF(ROWS($1:74)>SUBTOTAL(3,#REF!),"",SMALL(IF(SUBTOTAL(3,INDIRECT("'Einzelwertung U12'!G"&ROW($2:$177))),#REF!),ROWS($1:74)))} -> #REF! | B74: {=IF(ROWS($1:74)>SUBTOTAL(3,#REF!),"",SMALL(IF(SUBTOTAL(3,INDIRECT("'Einzelwertung U12'!I"&ROW($2:$177))),#REF!),ROWS($1:74)))} -> #REF! | C74: {=IF(ROWS($1:74)>SUBTOTAL(3,#REF!),"",SMALL(IF(SUBTOTAL(3,INDIRECT("'Einzelwertung U12'!K"&ROW($2:$177))),#REF!),ROWS($1:74)))} -> #REF! | D74: {=IF(ROWS($1:74)>SUBTOTAL(3,#REF!),"",SMALL(IF(SUBTOTAL(3,INDIRECT("'Einzelwertung U12'!M"&ROW($2:$177))),#REF!),ROWS($1:74)))} -> #REF! | E74: {=IF(ROWS($1:74)>SUBTOTAL(3,#REF!),"",SMALL(IF(SUBTOTAL(3,INDIRECT("'Einzelwertung U12'!O"&ROW($2:$177))),#REF!),ROWS($1:74)))} -> #REF! | F74: {=IF(ROWS($1:74)>SUBTOTAL(3,#REF!),"",SMALL(IF(SUBTOTAL(3,INDIRECT("'Einzelwertung U12'!Q"&ROW($2:$177))),#REF!),ROWS($1:74)))} -> #REF! | G74: {=IF(ROWS($1:74)>SUBTOTAL(3,#REF!),"",IF(OR(A74<>"",B74<>"",C74<>"",D74<>"",E74<>"",F74<>""),SMALL(IF(SUBTOTAL(3,INDIRECT("'Einzelwertung U12'!S"&ROW($2:$177))),#REF!),ROWS($1:74)),""))} -> #REF!
A75: {=IF(ROWS($1:75)>SUBTOTAL(3,#REF!),"",SMALL(IF(SUBTOTAL(3,INDIRECT("'Einzelwertung U12'!G"&ROW($2:$177))),#REF!),ROWS($1:75)))} -> #REF! | B75: {=IF(ROWS($1:75)>SUBTOTAL(3,#REF!),"",SMALL(IF(SUBTOTAL(3,INDIRECT("'Einzelwertung U12'!I"&ROW($2:$177))),#REF!),ROWS($1:75)))} -> #REF! | C75: {=IF(ROWS($1:75)>SUBTOTAL(3,#REF!),"",SMALL(IF(SUBTOTAL(3,INDIRECT("'Einzelwertung U12'!K"&ROW($2:$177))),#REF!),ROWS($1:75)))} -> #REF! | D75: {=IF(ROWS($1:75)>SUBTOTAL(3,#REF!),"",SMALL(IF(SUBTOTAL(3,INDIRECT("'Einzelwertung U12'!M"&ROW($2:$177))),#REF!),ROWS($1:75)))} -> #REF! | E75: {=IF(ROWS($1:75)>SUBTOTAL(3,#REF!),"",SMALL(IF(SUBTOTAL(3,INDIRECT("'Einzelwertung U12'!O"&ROW($2:$177))),#REF!),ROWS($1:75)))} -> #REF! | F75: {=IF(ROWS($1:75)>SUBTOTAL(3,#REF!),"",SMALL(IF(SUBTOTAL(3,INDIRECT("'Einzelwertung U12'!Q"&ROW($2:$177))),#REF!),ROWS($1:75)))} -> #REF! | G75: {=IF(ROWS($1:75)>SUBTOTAL(3,#REF!),"",IF(OR(A75<>"",B75<>"",C75<>"",D75<>"",E75<>"",F75<>""),SMALL(IF(SUBTOTAL(3,INDIRECT("'Einzelwertung U12'!S"&ROW($2:$177))),#REF!),ROWS($1:75)),""))} -> #REF!
A76: {=IF(ROWS($1:76)>SUBTOTAL(3,#REF!),"",SMALL(IF(SUBTOTAL(3,INDIRECT("'Einzelwertung U12'!G"&ROW($2:$177))),#REF!),ROWS($1:76)))} -> #REF! | B76: {=IF(ROWS($1:76)>SUBTOTAL(3,#REF!),"",SMALL(IF(SUBTOTAL(3,INDIRECT("'Einzelwertung U12'!I"&ROW($2:$177))),#REF!),ROWS($1:76)))} -> #REF! | C76: {=IF(ROWS($1:76)>SUBTOTAL(3,#REF!),"",SMALL(IF(SUBTOTAL(3,INDIRECT("'Einzelwertung U12'!K"&ROW($2:$177))),#REF!),ROWS($1:76)))} -> #REF! | D76: {=IF(ROWS($1:76)>SUBTOTAL(3,#REF!),"",SMALL(IF(SUBTOTAL(3,INDIRECT("'Einzelwertung U12'!M"&ROW($2:$177))),#REF!),ROWS($1:76)))} -> #REF! | E76: {=IF(ROWS($1:76)>SUBTOTAL(3,#REF!),"",SMALL(IF(SUBTOTAL(3,INDIRECT("'Einzelwertung U12'!O"&ROW($2:$177))),#REF!),ROWS($1:76)))} -> #REF! | F76: {=IF(ROWS($1:76)>SUBTOTAL(3,#REF!),"",SMALL(IF(SUBTOTAL(3,INDIRECT("'Einzelwertung U12'!Q"&ROW($2:$177))),#REF!),ROWS($1:76)))} -> #REF! | G76: {=IF(ROWS($1:76)>SUBTOTAL(3,#REF!),"",IF(OR(A76<>"",B76<>"",C76<>"",D76<>"",E76<>"",F76<>""),SMALL(IF(SUBTOTAL(3,INDIRECT("'Einzelwertung U12'!S"&ROW($2:$177))),#REF!),ROWS($1:76)),""))} -> #REF!
A77: {=IF(ROWS($1:77)>SUBTOTAL(3,#REF!),"",SMALL(IF(SUBTOTAL(3,INDIRECT("'Einzelwertung U12'!G"&ROW($2:$177))),#REF!),ROWS($1:77)))} -> #REF! | B77: {=IF(ROWS($1:77)>SUBTOTAL(3,#REF!),"",SMALL(IF(SUBTOTAL(3,INDIRECT("'Einzelwertung U12'!I"&ROW($2:$177))),#REF!),ROWS($1:77)))} -> #REF! | C77: {=IF(ROWS($1:77)>SUBTOTAL(3,#REF!),"",SMALL(IF(SUBTOTAL(3,INDIRECT("'Einzelwertung U12'!K"&ROW($2:$177))),#REF!),ROWS($1:77)))} -> #REF! | D77: {=IF(ROWS($1:77)>SUBTOTAL(3,#REF!),"",SMALL(IF(SUBTOTAL(3,INDIRECT("'Einzelwertung U12'!M"&ROW($2:$177))),#REF!),ROWS($1:77)))} -> #REF! | E77: {=IF(ROWS($1:77)>SUBTOTAL(3,#REF!),"",SMALL(IF(SUBTOTAL(3,INDIRECT("'Einzelwertung U12'!O"&ROW($2:$177))),#REF!),ROWS($1:77)))} -> #REF! | F77: {=IF(ROWS($1:77)>SUBTOTAL(3,#REF!),"",SMALL(IF(SUBTOTAL(3,INDIRECT("'Einzelwertung U12'!Q"&ROW($2:$177))),#REF!),ROWS($1:77)))} -> #REF! | G77: {=IF(ROWS($1:77)>SUBTOTAL(3,#REF!),"",IF(OR(A77<>"",B77<>"",C77<>"",D77<>"",E77<>"",F77<>""),SMALL(IF(SUBTOTAL(3,INDIRECT("'Einzelwertung U12'!S"&ROW($2:$177))),#REF!),ROWS($1:77)),""))} -> #REF!
A78: {=IF(ROWS($1:78)>SUBTOTAL(3,#REF!),"",SMALL(IF(SUBTOTAL(3,INDIRECT("'Einzelwertung U12'!G"&ROW($2:$177))),#REF!),ROWS($1:78)))} -> #REF! | B78: {=IF(ROWS($1:78)>SUBTOTAL(3,#REF!),"",SMALL(IF(SUBTOTAL(3,INDIRECT("'Einzelwertung U12'!I"&ROW($2:$177))),#REF!),ROWS($1:78)))} -> #REF! | C78: {=IF(ROWS($1:78)>SUBTOTAL(3,#REF!),"",SMALL(IF(SUBTOTAL(3,INDIRECT("'Einzelwertung U12'!K"&ROW($2:$177))),#REF!),ROWS($1:78)))} -> #REF! | D78: {=IF(ROWS($1:78)>SUBTOTAL(3,#REF!),"",SMALL(IF(SUBTOTAL(3,INDIRECT("'Einzelwertung U12'!M"&ROW($2:$177))),#REF!),ROWS($1:78)))} -> #REF! | E78: {=IF(ROWS($1:78)>SUBTOTAL(3,#REF!),"",SMALL(IF(SUBTOTAL(3,INDIRECT("'Einzelwertung U12'!O"&ROW($2:$177))),#REF!),ROWS($1:78)))} -> #REF! | F78: {=IF(ROWS($1:78)>SUBTOTAL(3,#REF!),"",SMALL(IF(SUBTOTAL(3,INDIRECT("'Einzelwertung U12'!Q"&ROW($2:$177))),#REF!),ROWS($1:78)))} -> #REF! | G78: {=IF(ROWS($1:78)>SUBTOTAL(3,#REF!),"",IF(OR(A78<>"",B78<>"",C78<>"",D78<>"",E78<>"",F78<>""),SMALL(IF(SUBTOTAL(3,INDIRECT("'Einzelwertung U12'!S"&ROW($2:$177))),#REF!),ROWS($1:78)),""))} -> #REF!
A79: {=IF(ROWS($1:79)>SUBTOTAL(3,#REF!),"",SMALL(IF(SUBTOTAL(3,INDIRECT("'Einzelwertung U12'!G"&ROW($2:$177))),#REF!),ROWS($1:79)))} -> #REF! | B79: {=IF(ROWS($1:79)>SUBTOTAL(3,#REF!),"",SMALL(IF(SUBTOTAL(3,INDIRECT("'Einzelwertung U12'!I"&ROW($2:$177))),#REF!),ROWS($1:79)))} -> #REF! | C79: {=IF(ROWS($1:79)>SUBTOTAL(3,#REF!),"",SMALL(IF(SUBTOTAL(3,INDIRECT("'Einzelwertung U12'!K"&ROW($2:$177))),#REF!),ROWS($1:79)))} -> #REF! | D79: {=IF(ROWS($1:79)>SUBTOTAL(3,#REF!),"",SMALL(IF(SUBTOTAL(3,INDIRECT("'Einzelwertung U12'!M"&ROW($2:$177))),#REF!),ROWS($1:79)))} -> #REF! | E79: {=IF(ROWS($1:79)>SUBTOTAL(3,#REF!),"",SMALL(IF(SUBTOTAL(3,INDIRECT("'Einzelwertung U12'!O"&ROW($2:$177))),#REF!),ROWS($1:79)))} -> #REF! | F79: {=IF(ROWS($1:79)>SUBTOTAL(3,#REF!),"",SMALL(IF(SUBTOTAL(3,INDIRECT("'Einzelwertung U12'!Q"&ROW($2:$177))),#REF!),ROWS($1:79)))} -> #REF! | G79: {=IF(ROWS($1:79)>SUBTOTAL(3,#REF!),"",IF(OR(A79<>"",B79<>"",C79<>"",D79<>"",E79<>"",F79<>""),SMALL(IF(SUBTOTAL(3,INDIRECT("'Einzelwertung U12'!S"&ROW($2:$177))),#REF!),ROWS($1:79)),""))} -> #REF!
A80: {=IF(ROWS($1:80)>SUBTOTAL(3,#REF!),"",SMALL(IF(SUBTOTAL(3,INDIRECT("'Einzelwertung U12'!G"&ROW($2:$177))),#REF!),ROWS($1:80)))} -> #REF! | B80: {=IF(ROWS($1:80)>SUBTOTAL(3,#REF!),"",SMALL(IF(SUBTOTAL(3,INDIRECT("'Einzelwertung U12'!I"&ROW($2:$177))),#REF!),ROWS($1:80)))} -> #REF! | C80: {=IF(ROWS($1:80)>SUBTOTAL(3,#REF!),"",SMALL(IF(SUBTOTAL(3,INDIRECT("'Einzelwertung U12'!K"&ROW($2:$177))),#REF!),ROWS($1:80)))} -> #REF! | D80: {=IF(ROWS($1:80)>SUBTOTAL(3,#REF!),"",SMALL(IF(SUBTOTAL(3,INDIRECT("'Einzelwertung U12'!M"&ROW($2:$177))),#REF!),ROWS($1:80)))} -> #REF! | E80: {=IF(ROWS($1:80)>SUBTOTAL(3,#REF!),"",SMALL(IF(SUBTOTAL(3,INDIRECT("'Einzelwertung U12'!O"&ROW($2:$177))),#REF!),ROWS($1:80)))} -> #REF! | F80: {=IF(ROWS($1:80)>SUBTOTAL(3,#REF!),"",SMALL(IF(SUBTOTAL(3,INDIRECT("'Einzelwertung U12'!Q"&ROW($2:$177))),#REF!),ROWS($1:80)))} -> #REF! | G80: {=IF(ROWS($1:80)>SUBTOTAL(3,#REF!),"",IF(OR(A80<>"",B80<>"",C80<>"",D80<>"",E80<>"",F80<>""),SMALL(IF(SUBTOTAL(3,INDIRECT("'Einzelwertung U12'!S"&ROW($2:$177))),#REF!),ROWS($1:80)),""))} -> #REF!
A81: {=IF(ROWS($1:81)>SUBTOTAL(3,#REF!),"",SMALL(IF(SUBTOTAL(3,INDIRECT("'Einzelwertung U12'!G"&ROW($2:$177))),#REF!),ROWS($1:81)))} -> #REF! | B81: {=IF(ROWS($1:81)>SUBTOTAL(3,#REF!),"",SMALL(IF(SUBTOTAL(3,INDIRECT("'Einzelwertung U12'!I"&ROW($2:$177))),#REF!),ROWS($1:81)))} -> #REF! | C81: {=IF(ROWS($1:81)>SUBTOTAL(3,#REF!),"",SMALL(IF(SUBTOTAL(3,INDIRECT("'Einzelwertung U12'!K"&ROW($2:$177))),#REF!),ROWS($1:81)))} -> #REF! | D81: {=IF(ROWS($1:81)>SUBTOTAL(3,#REF!),"",SMALL(IF(SUBTOTAL(3,INDIRECT("'Einzelwertung U12'!M"&ROW($2:$177))),#REF!),ROWS($1:81)))} -> #REF! | E81: {=IF(ROWS($1:81)>SUBTOTAL(3,#REF!),"",SMALL(IF(SUBTOTAL(3,INDIRECT("'Einzelwertung U12'!O"&ROW($2:$177))),#REF!),ROWS($1:81)))} -> #REF! | F81: {=IF(ROWS($1:81)>SUBTOTAL(3,#REF!),"",SMALL(IF(SUBTOTAL(3,INDIRECT("'Einzelwertung U12'!Q"&ROW($2:$177))),#REF!),ROWS($1:81)))} -> #REF! | G81: {=IF(ROWS($1:81)>SUBTOTAL(3,#REF!),"",IF(OR(A81<>"",B81<>"",C81<>"",D81<>"",E81<>"",F81<>""),SMALL(IF(SUBTOTAL(3,INDIRECT("'Einzelwertung U12'!S"&ROW($2:$177))),#REF!),ROWS($1:81)),""))} -> #REF!
A82: {=IF(ROWS($1:82)>SUBTOTAL(3,#REF!),"",SMALL(IF(SUBTOTAL(3,INDIRECT("'Einzelwertung U12'!G"&ROW($2:$177))),#REF!),ROWS($1:82)))} -> #REF! | B82: {=IF(ROWS($1:82)>SUBTOTAL(3,#REF!),"",SMALL(IF(SUBTOTAL(3,INDIRECT("'Einzelwertung U12'!I"&ROW($2:$177))),#REF!),ROWS($1:82)))} -> #REF! | C82: {=IF(ROWS($1:82)>SUBTOTAL(3,#REF!),"",SMALL(IF(SUBTOTAL(3,INDIRECT("'Einzelwertung U12'!K"&ROW($2:$177))),#REF!),ROWS($1:82)))} -> #REF! | D82: {=IF(ROWS($1:82)>SUBTOTAL(3,#REF!),"",SMALL(IF(SUBTOTAL(3,INDIRECT("'Einzelwertung U12'!M"&ROW($2:$177))),#REF!),ROWS($1:82)))} -> #REF! | E82: {=IF(ROWS($1:82)>SUBTOTAL(3,#REF!),"",SMALL(IF(SUBTOTAL(3,INDIRECT("'Einzelwertung U12'!O"&ROW($2:$177))),#REF!),ROWS($1:82)))} -> #REF! | F82: {=IF(ROWS($1:82)>SUBTOTAL(3,#REF!),"",SMALL(IF(SUBTOTAL(3,INDIRECT("'Einzelwertung U12'!Q"&ROW($2:$177))),#REF!),ROWS($1:82)))} -> #REF! | G82: {=IF(ROWS($1:82)>SUBTOTAL(3,#REF!),"",IF(OR(A82<>"",B82<>"",C82<>"",D82<>"",E82<>"",F82<>""),SMALL(IF(SUBTOTAL(3,INDIRECT("'Einzelwertung U12'!S"&ROW($2:$177))),#REF!),ROWS($1:82)),""))} -> #REF!
A83: {=IF(ROWS($1:83)>SUBTOTAL(3,#REF!),"",SMALL(IF(SUBTOTAL(3,INDIRECT("'Einzelwertung U12'!G"&ROW($2:$177))),#REF!),ROWS($1:83)))} -> #REF! | B83: {=IF(ROWS($1:83)>SUBTOTAL(3,#REF!),"",SMALL(IF(SUBTOTAL(3,INDIRECT("'Einzelwertung U12'!I"&ROW($2:$177))),#REF!),ROWS($1:83)))} -> #REF! | C83: {=IF(ROWS($1:83)>SUBTOTAL(3,#REF!),"",SMALL(IF(SUBTOTAL(3,INDIRECT("'Einzelwertung U12'!K"&ROW($2:$177))),#REF!),ROWS($1:83)))} -> #REF! | D83: {=IF(ROWS($1:83)>SUBTOTAL(3,#REF!),"",SMALL(IF(SUBTOTAL(3,INDIRECT("'Einzelwertung U12'!M"&ROW($2:$177))),#REF!),ROWS($1:83)))} -> #REF! | E83: {=IF(ROWS($1:83)>SUBTOTAL(3,#REF!),"",SMALL(IF(SUBTOTAL(3,INDIRECT("'Einzelwertung U12'!O"&ROW($2:$177))),#REF!),ROWS($1:83)))} -> #REF! | F83: {=IF(ROWS($1:83)>SUBTOTAL(3,#REF!),"",SMALL(IF(SUBTOTAL(3,INDIRECT("'Einzelwertung U12'!Q"&ROW($2:$177))),#REF!),ROWS($1:83)))} -> #REF! | G83: {=IF(ROWS($1:83)>SUBTOTAL(3,#REF!),"",IF(OR(A83<>"",B83<>"",C83<>"",D83<>"",E83<>"",F83<>""),SMALL(IF(SUBTOTAL(3,INDIRECT("'Einzelwertung U12'!S"&ROW($2:$177))),#REF!),ROWS($1:83)),""))} -> #REF!
A84: {=IF(ROWS($1:84)>SUBTOTAL(3,#REF!),"",SMALL(IF(SUBTOTAL(3,INDIRECT("'Einzelwertung U12'!G"&ROW($2:$177))),#REF!),ROWS($1:84)))} -> #REF! | B84: {=IF(ROWS($1:84)>SUBTOTAL(3,#REF!),"",SMALL(IF(SUBTOTAL(3,INDIRECT("'Einzelwertung U12'!I"&ROW($2:$177))),#REF!),ROWS($1:84)))} -> #REF! | C84: {=IF(ROWS($1:84)>SUBTOTAL(3,#REF!),"",SMALL(IF(SUBTOTAL(3,INDIRECT("'Einzelwertung U12'!K"&ROW($2:$177))),#REF!),ROWS($1:84)))} -> #REF! | D84: {=IF(ROWS($1:84)>SUBTOTAL(3,#REF!),"",SMALL(IF(SUBTOTAL(3,INDIRECT("'Einzelwertung U12'!M"&ROW($2:$177))),#REF!),ROWS($1:84)))} -> #REF! | E84: {=IF(ROWS($1:84)>SUBTOTAL(3,#REF!),"",SMALL(IF(SUBTOTAL(3,INDIRECT("'Einzelwertung U12'!O"&ROW($2:$177))),#REF!),ROWS($1:84)))} -> #REF! | F84: {=IF(ROWS($1:84)>SUBTOTAL(3,#REF!),"",SMALL(IF(SUBTOTAL(3,INDIRECT("'Einzelwertung U12'!Q"&ROW($2:$177))),#REF!),ROWS($1:84)))} -> #REF! | G84: {=IF(ROWS($1:84)>SUBTOTAL(3,#REF!),"",IF(OR(A84<>"",B84<>"",C84<>"",D84<>"",E84<>"",F84<>""),SMALL(IF(SUBTOTAL(3,INDIRECT("'Einzelwertung U12'!S"&ROW($2:$177))),#REF!),ROWS($1:84)),""))} -> #REF!
A85: {=IF(ROWS($1:85)>SUBTOTAL(3,#REF!),"",SMALL(IF(SUBTOTAL(3,INDIRECT("'Einzelwertung U12'!G"&ROW($2:$177))),#REF!),ROWS($1:85)))} -> #REF! | B85: {=IF(ROWS($1:85)>SUBTOTAL(3,#REF!),"",SMALL(IF(SUBTOTAL(3,INDIRECT("'Einzelwertung U12'!I"&ROW($2:$177))),#REF!),ROWS($1:85)))} -> #REF! | C85: {=IF(ROWS($1:85)>SUBTOTAL(3,#REF!),"",SMALL(IF(SUBTOTAL(3,INDIRECT("'Einzelwertung U12'!K"&ROW($2:$177))),#REF!),ROWS($1:85)))} -> #REF! | D85: {=IF(ROWS($1:85)>SUBTOTAL(3,#REF!),"",SMALL(IF(SUBTOTAL(3,INDIRECT("'Einzelwertung U12'!M"&ROW($2:$177))),#REF!),ROWS($1:85)))} -> #REF! | E85: {=IF(ROWS($1:85)>SUBTOTAL(3,#REF!),"",SMALL(IF(SUBTOTAL(3,INDIRECT("'Einzelwertung U12'!O"&ROW($2:$177))),#REF!),ROWS($1:85)))} -> #REF! | F85: {=IF(ROWS($1:85)>SUBTOTAL(3,#REF!),"",SMALL(IF(SUBTOTAL(3,INDIRECT("'Einzelwertung U12'!Q"&ROW($2:$177))),#REF!),ROWS($1:85)))} -> #REF! | G85: {=IF(ROWS($1:85)>SUBTOTAL(3,#REF!),"",IF(OR(A85<>"",B85<>"",C85<>"",D85<>"",E85<>"",F85<>""),SMALL(IF(SUBTOTAL(3,INDIRECT("'Einzelwertung U12'!S"&ROW($2:$177))),#REF!),ROWS($1:85)),""))} -> #REF!
A86: {=IF(ROWS($1:86)>SUBTOTAL(3,#REF!),"",SMALL(IF(SUBTOTAL(3,INDIRECT("'Einzelwertung U12'!G"&ROW($2:$177))),#REF!),ROWS($1:86)))} -> #REF! | B86: {=IF(ROWS($1:86)>SUBTOTAL(3,#REF!),"",SMALL(IF(SUBTOTAL(3,INDIRECT("'Einzelwertung U12'!I"&ROW($2:$177))),#REF!),ROWS($1:86)))} -> #REF! | C86: {=IF(ROWS($1:86)>SUBTOTAL(3,#REF!),"",SMALL(IF(SUBTOTAL(3,INDIRECT("'Einzelwertung U12'!K"&ROW($2:$177))),#REF!),ROWS($1:86)))} -> #REF! | D86: {=IF(ROWS($1:86)>SUBTOTAL(3,#REF!),"",SMALL(IF(SUBTOTAL(3,INDIRECT("'Einzelwertung U12'!M"&ROW($2:$177))),#REF!),ROWS($1:86)))} -> #REF! | E86: {=IF(ROWS($1:86)>SUBTOTAL(3,#REF!),"",SMALL(IF(SUBTOTAL(3,INDIRECT("'Einzelwertung U12'!O"&ROW($2:$177))),#REF!),ROWS($1:86)))} -> #REF! | F86: {=IF(ROWS($1:86)>SUBTOTAL(3,#REF!),"",SMALL(IF(SUBTOTAL(3,INDIRECT("'Einzelwertung U12'!Q"&ROW($2:$177))),#REF!),ROWS($1:86)))} -> #REF! | G86: {=IF(ROWS($1:86)>SUBTOTAL(3,#REF!),"",IF(OR(A86<>"",B86<>"",C86<>"",D86<>"",E86<>"",F86<>""),SMALL(IF(SUBTOTAL(3,INDIRECT("'Einzelwertung U12'!S"&ROW($2:$177))),#REF!),ROWS($1:86)),""))} -> #REF!
A87: {=IF(ROWS($1:87)>SUBTOTAL(3,#REF!),"",SMALL(IF(SUBTOTAL(3,INDIRECT("'Einzelwertung U12'!G"&ROW($2:$177))),#REF!),ROWS($1:87)))} -> #REF! | B87: {=IF(ROWS($1:87)>SUBTOTAL(3,#REF!),"",SMALL(IF(SUBTOTAL(3,INDIRECT("'Einzelwertung U12'!I"&ROW($2:$177))),#REF!),ROWS($1:87)))} -> #REF! | C87: {=IF(ROWS($1:87)>SUBTOTAL(3,#REF!),"",SMALL(IF(SUBTOTAL(3,INDIRECT("'Einzelwertung U12'!K"&ROW($2:$177))),#REF!),ROWS($1:87)))} -> #REF! | D87: {=IF(ROWS($1:87)>SUBTOTAL(3,#REF!),"",SMALL(IF(SUBTOTAL(3,INDIRECT("'Einzelwertung U12'!M"&ROW($2:$177))),#REF!),ROWS($1:87)))} -> #REF! | E87: {=IF(ROWS($1:87)>SUBTOTAL(3,#REF!),"",SMALL(IF(SUBTOTAL(3,INDIRECT("'Einzelwertung U12'!O"&ROW($2:$177))),#REF!),ROWS($1:87)))} -> #REF! | F87: {=IF(ROWS($1:87)>SUBTOTAL(3,#REF!),"",SMALL(IF(SUBTOTAL(3,INDIRECT("'Einzelwertung U12'!Q"&ROW($2:$177))),#REF!),ROWS($1:87)))} -> #REF! | G87: {=IF(ROWS($1:87)>SUBTOTAL(3,#REF!),"",IF(OR(A87<>"",B87<>"",C87<>"",D87<>"",E87<>"",F87<>""),SMALL(IF(SUBTOTAL(3,INDIRECT("'Einzelwertung U12'!S"&ROW($2:$177))),#REF!),ROWS($1:87)),""))} -> #REF!
A88: {=IF(ROWS($1:88)>SUBTOTAL(3,#REF!),"",SMALL(IF(SUBTOTAL(3,INDIRECT("'Einzelwertung U12'!G"&ROW($2:$177))),#REF!),ROWS($1:88)))} -> #REF! | B88: {=IF(ROWS($1:88)>SUBTOTAL(3,#REF!),"",SMALL(IF(SUBTOTAL(3,INDIRECT("'Einzelwertung U12'!I"&ROW($2:$177))),#REF!),ROWS($1:88)))} -> #REF! | C88: {=IF(ROWS($1:88)>SUBTOTAL(3,#REF!),"",SMALL(IF(SUBTOTAL(3,INDIRECT("'Einzelwertung U12'!K"&ROW($2:$177))),#REF!),ROWS($1:88)))} -> #REF! | D88: {=IF(ROWS($1:88)>SUBTOTAL(3,#REF!),"",SMALL(IF(SUBTOTAL(3,INDIRECT("'Einzelwertung U12'!M"&ROW($2:$177))),#REF!),ROWS($1:88)))} -> #REF! | E88: {=IF(ROWS($1:88)>SUBTOTAL(3,#REF!),"",SMALL(IF(SUBTOTAL(3,INDIRECT("'Einzelwertung U12'!O"&ROW($2:$177))),#REF!),ROWS($1:88)))} -> #REF! | F88: {=IF(ROWS($1:88)>SUBTOTAL(3,#REF!),"",SMALL(IF(SUBTOTAL(3,INDIRECT("'Einzelwertung U12'!Q"&ROW($2:$177))),#REF!),ROWS($1:88)))} -> #REF! | G88: {=IF(ROWS($1:88)>SUBTOTAL(3,#REF!),"",IF(OR(A88<>"",B88<>"",C88<>"",D88<>"",E88<>"",F88<>""),SMALL(IF(SUBTOTAL(3,INDIRECT("'Einzelwertung U12'!S"&ROW($2:$177))),#REF!),ROWS($1:88)),""))} -> #REF!
A89: {=IF(ROWS($1:89)>SUBTOTAL(3,#REF!),"",SMALL(IF(SUBTOTAL(3,INDIRECT("'Einzelwertung U12'!G"&ROW($2:$177))),#REF!),ROWS($1:89)))} -> #REF! | B89: {=IF(ROWS($1:89)>SUBTOTAL(3,#REF!),"",SMALL(IF(SUBTOTAL(3,INDIRECT("'Einzelwertung U12'!I"&ROW($2:$177))),#REF!),ROWS($1:89)))} -> #REF! | C89: {=IF(ROWS($1:89)>SUBTOTAL(3,#REF!),"",SMALL(IF(SUBTOTAL(3,INDIRECT("'Einzelwertung U12'!K"&ROW($2:$177))),#REF!),ROWS($1:89)))} -> #REF! | D89: {=IF(ROWS($1:89)>SUBTOTAL(3,#REF!),"",SMALL(IF(SUBTOTAL(3,INDIRECT("'Einzelwertung U12'!M"&ROW($2:$177))),#REF!),ROWS($1:89)))} -> #REF! | E89: {=IF(ROWS($1:89)>SUBTOTAL(3,#REF!),"",SMALL(IF(SUBTOTAL(3,INDIRECT("'Einzelwertung U12'!O"&ROW($2:$177))),#REF!),ROWS($1:89)))} -> #REF! | F89: {=IF(ROWS($1:89)>SUBTOTAL(3,#REF!),"",SMALL(IF(SUBTOTAL(3,INDIRECT("'Einzelwertung U12'!Q"&ROW($2:$177))),#REF!),ROWS($1:89)))} -> #REF! | G89: {=IF(ROWS($1:89)>SUBTOTAL(3,#REF!),"",IF(OR(A89<>"",B89<>"",C89<>"",D89<>"",E89<>"",F89<>""),SMALL(IF(SUBTOTAL(3,INDIRECT("'Einzelwertung U12'!S"&ROW($2:$177))),#REF!),ROWS($1:89)),""))} -> #REF!
A90: {=IF(ROWS($1:90)>SUBTOTAL(3,#REF!),"",SMALL(IF(SUBTOTAL(3,INDIRECT("'Einzelwertung U12'!G"&ROW($2:$177))),#REF!),ROWS($1:90)))} -> #REF! | B90: {=IF(ROWS($1:90)>SUBTOTAL(3,#REF!),"",SMALL(IF(SUBTOTAL(3,INDIRECT("'Einzelwertung U12'!I"&ROW($2:$177))),#REF!),ROWS($1:90)))} -> #REF! | C90: {=IF(ROWS($1:90)>SUBTOTAL(3,#REF!),"",SMALL(IF(SUBTOTAL(3,INDIRECT("'Einzelwertung U12'!K"&ROW($2:$177))),#REF!),ROWS($1:90)))} -> #REF! | D90: {=IF(ROWS($1:90)>SUBTOTAL(3,#REF!),"",SMALL(IF(SUBTOTAL(3,INDIRECT("'Einzelwertung U12'!M"&ROW($2:$177))),#REF!),ROWS($1:90)))} -> #REF! | E90: {=IF(ROWS($1:90)>SUBTOTAL(3,#REF!),"",SMALL(IF(SUBTOTAL(3,INDIRECT("'Einzelwertung U12'!O"&ROW($2:$177))),#REF!),ROWS($1:90)))} -> #REF! | F90: {=IF(ROWS($1:90)>SUBTOTAL(3,#REF!),"",SMALL(IF(SUBTOTAL(3,INDIRECT("'Einzelwertung U12'!Q"&ROW($2:$177))),#REF!),ROWS($1:90)))} -> #REF! | G90: {=IF(ROWS($1:90)>SUBTOTAL(3,#REF!),"",IF(OR(A90<>"",B90<>"",C90<>"",D90<>"",E90<>"",F90<>""),SMALL(IF(SUBTOTAL(3,INDIRECT("'Einzelwertung U12'!S"&ROW($2:$177))),#REF!),ROWS($1:90)),""))} -> #REF!
A91: {=IF(ROWS($1:91)>SUBTOTAL(3,#REF!),"",SMALL(IF(SUBTOTAL(3,INDIRECT("'Einzelwertung U12'!G"&ROW($2:$177))),#REF!),ROWS($1:91)))} -> #REF! | B91: {=IF(ROWS($1:91)>SUBTOTAL(3,#REF!),"",SMALL(IF(SUBTOTAL(3,INDIRECT("'Einzelwertung U12'!I"&ROW($2:$177))),#REF!),ROWS($1:91)))} -> #REF! | C91: {=IF(ROWS($1:91)>SUBTOTAL(3,#REF!),"",SMALL(IF(SUBTOTAL(3,INDIRECT("'Einzelwertung U12'!K"&ROW($2:$177))),#REF!),ROWS($1:91)))} -> #REF! | D91: {=IF(ROWS($1:91)>SUBTOTAL(3,#REF!),"",SMALL(IF(SUBTOTAL(3,INDIRECT("'Einzelwertung U12'!M"&ROW($2:$177))),#REF!),ROWS($1:91)))} -> #REF! | E91: {=IF(ROWS($1:91)>SUBTOTAL(3,#REF!),"",SMALL(IF(SUBTOTAL(3,INDIRECT("'Einzelwertung U12'!O"&ROW($2:$177))),#REF!),ROWS($1:91)))} -> #REF! | F91: {=IF(ROWS($1:91)>SUBTOTAL(3,#REF!),"",SMALL(IF(SUBTOTAL(3,INDIRECT("'Einzelwertung U12'!Q"&ROW($2:$177))),#REF!),ROWS($1:91)))} -> #REF! | G91: {=IF(ROWS($1:91)>SUBTOTAL(3,#REF!),"",IF(OR(A91<>"",B91<>"",C91<>"",D91<>"",E91<>"",F91<>""),SMALL(IF(SUBTOTAL(3,INDIRECT("'Einzelwertung U12'!S"&ROW($2:$177))),#REF!),ROWS($1:91)),""))} -> #REF!
A92: {=IF(ROWS($1:92)>SUBTOTAL(3,#REF!),"",SMALL(IF(SUBTOTAL(3,INDIRECT("'Einzelwertung U12'!G"&ROW($2:$177))),#REF!),ROWS($1:92)))} -> #REF! | B92: {=IF(ROWS($1:92)>SUBTOTAL(3,#REF!),"",SMALL(IF(SUBTOTAL(3,INDIRECT("'Einzelwertung U12'!I"&ROW($2:$177))),#REF!),ROWS($1:92)))} -> #REF! | C92: {=IF(ROWS($1:92)>SUBTOTAL(3,#REF!),"",SMALL(IF(SUBTOTAL(3,INDIRECT("'Einzelwertung U12'!K"&ROW($2:$177))),#REF!),ROWS($1:92)))} -> #REF! | D92: {=IF(ROWS($1:92)>SUBTOTAL(3,#REF!),"",SMALL(IF(SUBTOTAL(3,INDIRECT("'Einzelwertung U12'!M"&ROW($2:$177))),#REF!),ROWS($1:92)))} -> #REF! | E92: {=IF(ROWS($1:92)>SUBTOTAL(3,#REF!),"",SMALL(IF(SUBTOTAL(3,INDIRECT("'Einzelwertung U12'!O"&ROW($2:$177))),#REF!),ROWS($1:92)))} -> #REF! | F92: {=IF(ROWS($1:92)>SUBTOTAL(3,#REF!),"",SMALL(IF(SUBTOTAL(3,INDIRECT("'Einzelwertung U12'!Q"&ROW($2:$177))),#REF!),ROWS($1:92)))} -> #REF! | G92: {=IF(ROWS($1:92)>SUBTOTAL(3,#REF!),"",IF(OR(A92<>"",B92<>"",C92<>"",D92<>"",E92<>"",F92<>""),SMALL(IF(SUBTOTAL(3,INDIRECT("'Einzelwertung U12'!S"&ROW($2:$177))),#REF!),ROWS($1:92)),""))} -> #REF!
A93: {=IF(ROWS($1:93)>SUBTOTAL(3,#REF!),"",SMALL(IF(SUBTOTAL(3,INDIRECT("'Einzelwertung U12'!G"&ROW($2:$177))),#REF!),ROWS($1:93)))} -> #REF! | B93: {=IF(ROWS($1:93)>SUBTOTAL(3,#REF!),"",SMALL(IF(SUBTOTAL(3,INDIRECT("'Einzelwertung U12'!I"&ROW($2:$177))),#REF!),ROWS($1:93)))} -> #REF! | C93: {=IF(ROWS($1:93)>SUBTOTAL(3,#REF!),"",SMALL(IF(SUBTOTAL(3,INDIRECT("'Einzelwertung U12'!K"&ROW($2:$177))),#REF!),ROWS($1:93)))} -> #REF! | D93: {=IF(ROWS($1:93)>SUBTOTAL(3,#REF!),"",SMALL(IF(SUBTOTAL(3,INDIRECT("'Einzelwertung U12'!M"&ROW($2:$177))),#REF!),ROWS($1:93)))} -> #REF! | E93: {=IF(ROWS($1:93)>SUBTOTAL(3,#REF!),"",SMALL(IF(SUBTOTAL(3,INDIRECT("'Einzelwertung U12'!O"&ROW($2:$177))),#REF!),ROWS($1:93)))} -> #REF! | F93: {=IF(ROWS($1:93)>SUBTOTAL(3,#REF!),"",SMALL(IF(SUBTOTAL(3,INDIRECT("'Einzelwertung U12'!Q"&ROW($2:$177))),#REF!),ROWS($1:93)))} -> #REF! | G93: {=IF(ROWS($1:93)>SUBTOTAL(3,#REF!),"",IF(OR(A93<>"",B93<>"",C93<>"",D93<>"",E93<>"",F93<>""),SMALL(IF(SUBTOTAL(3,INDIRECT("'Einzelwertung U12'!S"&ROW($2:$177))),#REF!),ROWS($1:93)),""))} -> #REF!
A94: {=IF(ROWS($1:94)>SUBTOTAL(3,#REF!),"",SMALL(IF(SUBTOTAL(3,INDIRECT("'Einzelwertung U12'!G"&ROW($2:$177))),#REF!),ROWS($1:94)))} -> #REF! | B94: {=IF(ROWS($1:94)>SUBTOTAL(3,#REF!),"",SMALL(IF(SUBTOTAL(3,INDIRECT("'Einzelwertung U12'!I"&ROW($2:$177))),#REF!),ROWS($1:94)))} -> #REF! | C94: {=IF(ROWS($1:94)>SUBTOTAL(3,#REF!),"",SMALL(IF(SUBTOTAL(3,INDIRECT("'Einzelwertung U12'!K"&ROW($2:$177))),#REF!),ROWS($1:94)))} -> #REF! | D94: {=IF(ROWS($1:94)>SUBTOTAL(3,#REF!),"",SMALL(IF(SUBTOTAL(3,INDIRECT("'Einzelwertung U12'!M"&ROW($2:$177))),#REF!),ROWS($1:94)))} -> #REF! | E94: {=IF(ROWS($1:94)>SUBTOTAL(3,#REF!),"",SMALL(IF(SUBTOTAL(3,INDIRECT("'Einzelwertung U12'!O"&ROW($2:$177))),#REF!),ROWS($1:94)))} -> #REF! | F94: {=IF(ROWS($1:94)>SUBTOTAL(3,#REF!),"",SMALL(IF(SUBTOTAL(3,INDIRECT("'Einzelwertung U12'!Q"&ROW($2:$177))),#REF!),ROWS($1:94)))} -> #REF! | G94: {=IF(ROWS($1:94)>SUBTOTAL(3,#REF!),"",IF(OR(A94<>"",B94<>"",C94<>"",D94<>"",E94<>"",F94<>""),SMALL(IF(SUBTOTAL(3,INDIRECT("'Einzelwertung U12'!S"&ROW($2:$177))),#REF!),ROWS($1:94)),""))} -> #REF!
A95: {=IF(ROWS($1:95)>SUBTOTAL(3,#REF!),"",SMALL(IF(SUBTOTAL(3,INDIRECT("'Einzelwertung U12'!G"&ROW($2:$177))),#REF!),ROWS($1:95)))} -> #REF! | B95: {=IF(ROWS($1:95)>SUBTOTAL(3,#REF!),"",SMALL(IF(SUBTOTAL(3,INDIRECT("'Einzelwertung U12'!I"&ROW($2:$177))),#REF!),ROWS($1:95)))} -> #REF! | C95: {=IF(ROWS($1:95)>SUBTOTAL(3,#REF!),"",SMALL(IF(SUBTOTAL(3,INDIRECT("'Einzelwertung U12'!K"&ROW($2:$177))),#REF!),ROWS($1:95)))} -> #REF! | D95: {=IF(ROWS($1:95)>SUBTOTAL(3,#REF!),"",SMALL(IF(SUBTOTAL(3,INDIRECT("'Einzelwertung U12'!M"&ROW($2:$177))),#REF!),ROWS($1:95)))} -> #REF! | E95: {=IF(ROWS($1:95)>SUBTOTAL(3,#REF!),"",SMALL(IF(SUBTOTAL(3,INDIRECT("'Einzelwertung U12'!O"&ROW($2:$177))),#REF!),ROWS($1:95)))} -> #REF! | F95: {=IF(ROWS($1:95)>SUBTOTAL(3,#REF!),"",SMALL(IF(SUBTOTAL(3,INDIRECT("'Einzelwertung U12'!Q"&ROW($2:$177))),#REF!),ROWS($1:95)))} -> #REF! | G95: {=IF(ROWS($1:95)>SUBTOTAL(3,#REF!),"",IF(OR(A95<>"",B95<>"",C95<>"",D95<>"",E95<>"",F95<>""),SMALL(IF(SUBTOTAL(3,INDIRECT("'Einzelwertung U12'!S"&ROW($2:$177))),#REF!),ROWS($1:95)),""))} -> #REF!
A96: {=IF(ROWS($1:96)>SUBTOTAL(3,#REF!),"",SMALL(IF(SUBTOTAL(3,INDIRECT("'Einzelwertung U12'!G"&ROW($2:$177))),#REF!),ROWS($1:96)))} -> #REF! | B96: {=IF(ROWS($1:96)>SUBTOTAL(3,#REF!),"",SMALL(IF(SUBTOTAL(3,INDIRECT("'Einzelwertung U12'!I"&ROW($2:$177))),#REF!),ROWS($1:96)))} -> #REF! | C96: {=IF(ROWS($1:96)>SUBTOTAL(3,#REF!),"",SMALL(IF(SUBTOTAL(3,INDIRECT("'Einzelwertung U12'!K"&ROW($2:$177))),#REF!),ROWS($1:96)))} -> #REF! | D96: {=IF(ROWS($1:96)>SUBTOTAL(3,#REF!),"",SMALL(IF(SUBTOTAL(3,INDIRECT("'Einzelwertung U12'!M"&ROW($2:$177))),#REF!),ROWS($1:96)))} -> #REF! | E96: {=IF(ROWS($1:96)>SUBTOTAL(3,#REF!),"",SMALL(IF(SUBTOTAL(3,INDIRECT("'Einzelwertung U12'!O"&ROW($2:$177))),#REF!),ROWS($1:96)))} -> #REF! | F96: {=IF(ROWS($1:96)>SUBTOTAL(3,#REF!),"",SMALL(IF(SUBTOTAL(3,INDIRECT("'Einzelwertung U12'!Q"&ROW($2:$177))),#REF!),ROWS($1:96)))} -> #REF! | G96: {=IF(ROWS($1:96)>SUBTOTAL(3,#REF!),"",IF(OR(A96<>"",B96<>"",C96<>"",D96<>"",E96<>"",F96<>""),SMALL(IF(SUBTOTAL(3,INDIRECT("'Einzelwertung U12'!S"&ROW($2:$177))),#REF!),ROWS($1:96)),""))} -> #REF!
A97: {=IF(ROWS($1:97)>SUBTOTAL(3,#REF!),"",SMALL(IF(SUBTOTAL(3,INDIRECT("'Einzelwertung U12'!G"&ROW($2:$177))),#REF!),ROWS($1:97)))} -> #REF! | B97: {=IF(ROWS($1:97)>SUBTOTAL(3,#REF!),"",SMALL(IF(SUBTOTAL(3,INDIRECT("'Einzelwertung U12'!I"&ROW($2:$177))),#REF!),ROWS($1:97)))} -> #REF! | C97: {=IF(ROWS($1:97)>SUBTOTAL(3,#REF!),"",SMALL(IF(SUBTOTAL(3,INDIRECT("'Einzelwertung U12'!K"&ROW($2:$177))),#REF!),ROWS($1:97)))} -> #REF! | D97: {=IF(ROWS($1:97)>SUBTOTAL(3,#REF!),"",SMALL(IF(SUBTOTAL(3,INDIRECT("'Einzelwertung U12'!M"&ROW($2:$177))),#REF!),ROWS($1:97)))} -> #REF! | E97: {=IF(ROWS($1:97)>SUBTOTAL(3,#REF!),"",SMALL(IF(SUBTOTAL(3,INDIRECT("'Einzelwertung U12'!O"&ROW($2:$177))),#REF!),ROWS($1:97)))} -> #REF! | F97: {=IF(ROWS($1:97)>SUBTOTAL(3,#REF!),"",SMALL(IF(SUBTOTAL(3,INDIRECT("'Einzelwertung U12'!Q"&ROW($2:$177))),#REF!),ROWS($1:97)))} -> #REF! | G97: {=IF(ROWS($1:97)>SUBTOTAL(3,#REF!),"",IF(OR(A97<>"",B97<>"",C97<>"",D97<>"",E97<>"",F97<>""),SMALL(IF(SUBTOTAL(3,INDIRECT("'Einzelwertung U12'!S"&ROW($2:$177))),#REF!),ROWS($1:97)),""))} -> #REF!
A98: {=IF(ROWS($1:98)>SUBTOTAL(3,#REF!),"",SMALL(IF(SUBTOTAL(3,INDIRECT("'Einzelwertung U12'!G"&ROW($2:$177))),#REF!),ROWS($1:98)))} -> #REF! | B98: {=IF(ROWS($1:98)>SUBTOTAL(3,#REF!),"",SMALL(IF(SUBTOTAL(3,INDIRECT("'Einzelwertung U12'!I"&ROW($2:$177))),#REF!),ROWS($1:98)))} -> #REF! | C98: {=IF(ROWS($1:98)>SUBTOTAL(3,#REF!),"",SMALL(IF(SUBTOTAL(3,INDIRECT("'Einzelwertung U12'!K"&ROW($2:$177))),#REF!),ROWS($1:98)))} -> #REF! | D98: {=IF(ROWS($1:98)>SUBTOTAL(3,#REF!),"",SMALL(IF(SUBTOTAL(3,INDIRECT("'Einzelwertung U12'!M"&ROW($2:$177))),#REF!),ROWS($1:98)))} -> #REF! | E98: {=IF(ROWS($1:98)>SUBTOTAL(3,#REF!),"",SMALL(IF(SUBTOTAL(3,INDIRECT("'Einzelwertung U12'!O"&ROW($2:$177))),#REF!),ROWS($1:98)))} -> #REF! | F98: {=IF(ROWS($1:98)>SUBTOTAL(3,#REF!),"",SMALL(IF(SUBTOTAL(3,INDIRECT("'Einzelwertung U12'!Q"&ROW($2:$177))),#REF!),ROWS($1:98)))} -> #REF! | G98: {=IF(ROWS($1:98)>SUBTOTAL(3,#REF!),"",IF(OR(A98<>"",B98<>"",C98<>"",D98<>"",E98<>"",F98<>""),SMALL(IF(SUBTOTAL(3,INDIRECT("'Einzelwertung U12'!S"&ROW($2:$177))),#REF!),ROWS($1:98)),""))} -> #REF!
A99: {=IF(ROWS($1:99)>SUBTOTAL(3,#REF!),"",SMALL(IF(SUBTOTAL(3,INDIRECT("'Einzelwertung U12'!G"&ROW($2:$177))),#REF!),ROWS($1:99)))} -> #REF! | B99: {=IF(ROWS($1:99)>SUBTOTAL(3,#REF!),"",SMALL(IF(SUBTOTAL(3,INDIRECT("'Einzelwertung U12'!I"&ROW($2:$177))),#REF!),ROWS($1:99)))} -> #REF! | C99: {=IF(ROWS($1:99)>SUBTOTAL(3,#REF!),"",SMALL(IF(SUBTOTAL(3,INDIRECT("'Einzelwertung U12'!K"&ROW($2:$177))),#REF!),ROWS($1:99)))} -> #REF! | D99: {=IF(ROWS($1:99)>SUBTOTAL(3,#REF!),"",SMALL(IF(SUBTOTAL(3,INDIRECT("'Einzelwertung U12'!M"&ROW($2:$177))),#REF!),ROWS($1:99)))} -> #REF! | E99: {=IF(ROWS($1:99)>SUBTOTAL(3,#REF!),"",SMALL(IF(SUBTOTAL(3,INDIRECT("'Einzelwertung U12'!O"&ROW($2:$177))),#REF!),ROWS($1:99)))} -> #REF! | F99: {=IF(ROWS($1:99)>SUBTOTAL(3,#REF!),"",SMALL(IF(SUBTOTAL(3,INDIRECT("'Einzelwertung U12'!Q"&ROW($2:$177))),#REF!),ROWS($1:99)))} -> #REF! | G99: {=IF(ROWS($1:99)>SUBTOTAL(3,#REF!),"",IF(OR(A99<>"",B99<>"",C99<>"",D99<>"",E99<>"",F99<>""),SMALL(IF(SUBTOTAL(3,INDIRECT("'Einzelwertung U12'!S"&ROW($2:$177))),#REF!),ROWS($1:99)),""))} -> #REF!
A100: {=IF(ROWS($1:100)>SUBTOTAL(3,#REF!),"",SMALL(IF(SUBTOTAL(3,INDIRECT("'Einzelwertung U12'!G"&ROW($2:$177))),#REF!),ROWS($1:100)))} -> #REF! | B100: {=IF(ROWS($1:100)>SUBTOTAL(3,#REF!),"",SMALL(IF(SUBTOTAL(3,INDIRECT("'Einzelwertung U12'!I"&ROW($2:$177))),#REF!),ROWS($1:100)))} -> #REF! | C100: {=IF(ROWS($1:100)>SUBTOTAL(3,#REF!),"",SMALL(IF(SUBTOTAL(3,INDIRECT("'Einzelwertung U12'!K"&ROW($2:$177))),#REF!),ROWS($1:100)))} -> #REF! | D100: {=IF(ROWS($1:100)>SUBTOTAL(3,#REF!),"",SMALL(IF(SUBTOTAL(3,INDIRECT("'Einzelwertung U12'!M"&ROW($2:$177))),#REF!),ROWS($1:100)))} -> #REF! | E100: {=IF(ROWS($1:100)>SUBTOTAL(3,#REF!),"",SMALL(IF(SUBTOTAL(3,INDIRECT("'Einzelwertung U12'!O"&ROW($2:$177))),#REF!),ROWS($1:100)))} -> #REF! | F100: {=IF(ROWS($1:100)>SUBTOTAL(3,#REF!),"",SMALL(IF(SUBTOTAL(3,INDIRECT("'Einzelwertung U12'!Q"&ROW($2:$177))),#REF!),ROWS($1:100)))} -> #REF! | G100: {=IF(ROWS($1:100)>SUBTOTAL(3,#REF!),"",IF(OR(A100<>"",B100<>"",C100<>"",D100<>"",E100<>"",F100<>""),SMALL(IF(SUBTOTAL(3,INDIRECT("'Einzelwertung U12'!S"&ROW($2:$177))),#REF!),ROWS($1:100)),""))} -> #REF!
...

Sheet Teams U8
A1: Team | B1: Riege | C1: Veranstaltungsname | D1: Datum | E1: Ort
A2: =IF('U8'!G2="","",'U8'!G2) | B2: =IF('U8'!I2="","",'U8'!I2) | C2: =#REF! -> #REF! | D2: =#REF! -> #REF! | E2: =#REF! -> #REF!
A3: =IF('U8'!G13="","",'U8'!G13) | B3: =IF('U8'!I13="","",'U8'!I13) | C3: =#REF! -> #REF! | D3: =#REF! -> #REF! | E3: =#REF! -> #REF!
A4: =IF('U8'!G24="","",'U8'!G24) | B4: =IF('U8'!I24="","",'U8'!I24) | C4: =#REF! -> #REF! | D4: =#REF! -> #REF! | E4: =#REF! -> #REF!
A5: =IF('U8'!G35="","",'U8'!G35) | B5: =IF('U8'!I35="","",'U8'!I35) | C5: =#REF! -> #REF! | D5: =#REF! -> #REF! | E5: =#REF! -> #REF!
A6: =IF('U8'!G46="","",'U8'!G46) | B6: =IF('U8'!I46="","",'U8'!I46) | C6: =#REF! -> #REF! | D6: =#REF! -> #REF! | E6: =#REF! -> #REF!
A7: =IF('U8'!G57="","",'U8'!G57) | B7: =IF('U8'!I57="","",'U8'!I57) | C7: =#REF! -> #REF! | D7: =#REF! -> #REF! | E7: =#REF! -> #REF!
A8: =IF('U8'!G68="","",'U8'!G68) | B8: =IF('U8'!I68="","",'U8'!I68) | C8: =#REF! -> #REF! | D8: =#REF! -> #REF! | E8: =#REF! -> #REF!
A9: =IF('U8'!G79="","",'U8'!G79) | B9: =IF('U8'!I79="","",'U8'!I79) | C9: =#REF! -> #REF! | D9: =#REF! -> #REF! | E9: =#REF! -> #REF!
A10: =IF('U8'!G90="","",'U8'!G90) | B10: =IF('U8'!I90="","",'U8'!I90) | C10: =#REF! -> #REF! | D10: =#REF! -> #REF! | E10: =#REF! -> #REF!
A11: =IF('U8'!G101="","",'U8'!G101) | B11: =IF('U8'!I101="","",'U8'!I101) | C11: =#REF! -> #REF! | D11: =#REF! -> #REF! | E11: =#REF! -> #REF!
A12: =IF('U8'!G112="","",'U8'!G112) | B12: =IF('U8'!I112="","",'U8'!I112) | C12: =#REF! -> #REF! | D12: =#REF! -> #REF! | E12: =#REF! -> #REF!
A13: =IF('U8'!G123="","",'U8'!G123) | B13: =IF('U8'!I123="","",'U8'!I123) | C13: =#REF! -> #REF! | D13: =#REF! -> #REF! | E13: =#REF! -> #REF!
A14: =IF('U8'!G134="","",'U8'!G134) | B14: =IF('U8'!I134="","",'U8'!I134) | C14: =#REF! -> #REF! | D14: =#REF! -> #REF! | E14: =#REF! -> #REF!
A15: =IF('U8'!G145="","",'U8'!G145) | B15: =IF('U8'!I145="","",'U8'!I145) | C15: =#REF! -> #REF! | D15: =#REF! -> #REF! | E15: =#REF! -> #REF!
A16: =IF('U8'!G156="","",'U8'!G156) | B16: =IF('U8'!I156="","",'U8'!I156) | C16: =#REF! -> #REF! | D16: =#REF! -> #REF! | E16: =#REF! -> #REF!
A17: =IF('U8'!G167="","",'U8'!G167) | B17: =IF('U8'!I167="","",'U8'!I167) | C17: =#REF! -> #REF! | D17: =#REF! -> #REF! | E17: =#REF! -> #REF!

Sheet Teams U10
A1: Team | B1: Riege | C1: Veranstaltungsname | D1: Datum | E1: Ort
A2: =IF('U10'!G2="","",'U10'!G2) | B2: =IF('U10'!I2="","",'U10'!I2) | C2: =#REF! -> #REF! | D2: =#REF! -> #REF! | E2: =#REF! -> #REF!
A3: =IF('U10'!G13="","",'U10'!G13) | B3: =IF('U10'!I13="","",'U10'!I13) | C3: =#REF! -> #REF! | D3: =#REF! -> #REF! | E3: =#REF! -> #REF!
A4: =IF('U10'!G24="","",'U10'!G24) | B4: =IF('U10'!I24="","",'U10'!I24) | C4: =#REF! -> #REF! | D4: =#REF! -> #REF! | E4: =#REF! -> #REF!
A5: =IF('U10'!G35="","",'U10'!G35) | B5: =IF('U10'!I35="","",'U10'!I35) | C5: =#REF! -> #REF! | D5: =#REF! -> #REF! | E5: =#REF! -> #REF!
A6: =IF('U10'!G46="","",'U10'!G46) | B6: =IF('U10'!I46="","",'U10'!I46) | C6: =#REF! -> #REF! | D6: =#REF! -> #REF! | E6: =#REF! -> #REF!
A7: =IF('U10'!G57="","",'U10'!G57) | B7: =IF('U10'!I57="","",'U10'!I57) | C7: =#REF! -> #REF! | D7: =#REF! -> #REF! | E7: =#REF! -> #REF!
A8: =IF('U10'!G68="","",'U10'!G68) | B8: =IF('U10'!I68="","",'U10'!I68) | C8: =#REF! -> #REF! | D8: =#REF! -> #REF! | E8: =#REF! -> #REF!
A9: =IF('U10'!G79="","",'U10'!G79) | B9: =IF('U10'!I79="","",'U10'!I79) | C9: =#REF! -> #REF! | D9: =#REF! -> #REF! | E9: =#REF! -> #REF!
A10: =IF('U10'!G90="","",'U10'!G90) | B10: =IF('U10'!I90="","",'U10'!I90) | C10: =#REF! -> #REF! | D10: =#REF! -> #REF! | E10: =#REF! -> #REF!
A11: =IF('U10'!G101="","",'U10'!G101) | B11: =IF('U10'!I101="","",'U10'!I101) | C11: =#REF! -> #REF! | D11: =#REF! -> #REF! | E11: =#REF! -> #REF!
A12: =IF('U10'!G112="","",'U10'!G112) | B12: =IF('U10'!I112="","",'U10'!I112) | C12: =#REF! -> #REF! | D12: =#REF! -> #REF! | E12: =#REF! -> #REF!
A13: =IF('U10'!G123="","",'U10'!G123) | B13: =IF('U10'!I123="","",'U10'!I123) | C13: =#REF! -> #REF! | D13: =#REF! -> #REF! | E13: =#REF! -> #REF!
A14: =IF('U10'!G134="","",'U10'!G134) | B14: =IF('U10'!I134="","",'U10'!I134) | C14: =#REF! -> #REF! | D14: =#REF! -> #REF! | E14: =#REF! -> #REF!
A15: =IF('U10'!G145="","",'U10'!G145) | B15: =IF('U10'!I145="","",'U10'!I145) | C15: =#REF! -> #REF! | D15: =#REF! -> #REF! | E15: =#REF! -> #REF!
A16: =IF('U10'!G156="","",'U10'!G156) | B16: =IF('U10'!I156="","",'U10'!I156) | C16: =#REF! -> #REF! | D16: =#REF! -> #REF! | E16: =#REF! -> #REF!
A17: =IF('U10'!G167="","",'U10'!G167) | B17: =IF('U10'!I167="","",'U10'!I167) | C17: =#REF! -> #REF! | D17: =#REF! -> #REF! | E17: =#REF! -> #REF!

Sheet Teams U12
A1: Team | B1: Riege | C1: Veranstaltungsname | D1: Datum | E1: Ort
A2: =IF('U12'!G2="","",'U12'!G2) | B2: =IF('U12'!I2="","",'U12'!I2) | C2: =#REF! -> #REF! | D2: =#REF! -> #REF! | E2: =#REF! -> #REF!
A3: =IF('U12'!G13="","",'U12'!G13) | B3: =IF('U12'!I13="","",'U12'!I13) | C3: =#REF! -> #REF! | D3: =#REF! -> #REF! | E3: =#REF! -> #REF!
A4: =IF('U12'!G24="","",'U12'!G24) | B4: =IF('U12'!I24="","",'U12'!I24) | C4: =#REF! -> #REF! | D4: =#REF! -> #REF! | E4: =#REF! -> #REF!
A5: =IF('U12'!G35="","",'U12'!G35) | B5: =IF('U12'!I35="","",'U12'!I35) | C5: =#REF! -> #REF! | D5: =#REF! -> #REF! | E5: =#REF! -> #REF!
A6: =IF('U12'!G46="","",'U12'!G46) | B6: =IF('U12'!I46="","",'U12'!I46) | C6: =#REF! -> #REF! | D6: =#REF! -> #REF! | E6: =#REF! -> #REF!
A7: =IF('U12'!G57="","",'U12'!G57) | B7: =IF('U12'!I57="","",'U12'!I57) | C7: =#REF! -> #REF! | D7: =#REF! -> #REF! | E7: =#REF! -> #REF!
A8: =IF('U12'!G68="","",'U12'!G68) | B8: =IF('U12'!I68="","",'U12'!I68) | C8: =#REF! -> #REF! | D8: =#REF! -> #REF! | E8: =#REF! -> #REF!
A9: =IF('U12'!G79="","",'U12'!G79) | B9: =IF('U12'!I79="","",'U12'!I79) | C9: =#REF! -> #REF! | D9: =#REF! -> #REF! | E9: =#REF! -> #REF!
A10: =IF('U12'!G90="","",'U12'!G90) | B10: =IF('U12'!I90="","",'U12'!I90) | C10: =#REF! -> #REF! | D10: =#REF! -> #REF! | E10: =#REF! -> #REF!
A11: =IF('U12'!G101="","",'U12'!G101) | B11: =IF('U12'!I101="","",'U12'!I101) | C11: =#REF! -> #REF! | D11: =#REF! -> #REF! | E11: =#REF! -> #REF!
A12: =IF('U12'!G112="","",'U12'!G112) | B12: =IF('U12'!I112="","",'U12'!I112) | C12: =#REF! -> #REF! | D12: =#REF! -> #REF! | E12: =#REF! -> #REF!
A13: =IF('U12'!G123="","",'U12'!G123) | B13: =IF('U12'!I123="","",'U12'!I123) | C13: =#REF! -> #REF! | D13: =#REF! -> #REF! | E13: =#REF! -> #REF!
A14: =IF('U12'!G134="","",'U12'!G134) | B14: =IF('U12'!I134="","",'U12'!I134) | C14: =#REF! -> #REF! | D14: =#REF! -> #REF! | E14: =#REF! -> #REF!
A15: =IF('U12'!G145="","",'U12'!G145) | B15: =IF('U12'!I145="","",'U12'!I145) | C15: =#REF! -> #REF! | D15: =#REF! -> #REF! | E15: =#REF! -> #REF!
A16: =IF('U12'!G156="","",'U12'!G156) | B16: =IF('U12'!I156="","",'U12'!I156) | C16: =#REF! -> #REF! | D16: =#REF! -> #REF! | E16: =#REF! -> #REF!
A17: =IF('U12'!G167="","",'U12'!G167) | B17: =IF('U12'!I167="","",'U12'!I167) | C17: =#REF! -> #REF! | D17: =#REF! -> #REF! | E17: =#REF! -> #REF!
