Workbook

Sheet Hinweise
B2: Erläuterungen zum Ausfüllen der Meldedatei
B4: Bitte jede Altersklasse in das entsprechende Tabellenblatt eintragen!
B5: Bitte nur Name, Vorname, Jahrgang, Geschlecht, Teamname und Verein eintragen (d.h. Spalten C,D,E,F,G,H)!
B6: Pro Team bitte namentlich einen Riegenführer melden (Spalte M und N).
B7: Bitte auf die zulässigen Jahrgänge achten!

Sheet U8
A1: # | B1: StNr | C1: Name | D1: Vorname | E1: Jahrgang | F1: Geschlecht | G1: Team | H1: Verein | I1: Riege | J1: U8 | M1: Name | N1: Vorname
A2: 1 | J2: Team 1 | L2: Riegenführer
A3: 2 | I3: =IF(C3<> "",I$2,"") | L3: Riegenführer
A4: 3 | H4: =IF(C4<> "",H3,"") | I4: =IF(C4<> "",I$2,"") | L4: Riegenführer
A5: 4 | G5: =IF(C5<> "",G2,"") | H5: =IF(C5<> "",H4,"") | I5: =IF(C5<> "",I$2,"") | L5: Riegenführer
A6: 5 | G6: =IF(C6<> "",G2,"") | H6: =IF(C6<> "",H5,"") | I6: =IF(C6<> "",I$2,"") | L6: Riegenführer
A7: 6 | G7: =IF(C7<> "",G2,"") | H7: =IF(C7<> "",H6,"") | I7: =IF(C7<> "",I$2,"") | L7: Riegenführer
A8: 7 | G8: =IF(C8<> "",G2,"") | H8: =IF(C8<> "",H7,"") | I8: =IF(C8<> "",I$2,"") | L8: Riegenführer
A9: 8 | G9: =IF(C9<> "",G2,"") | H9: =IF(C9<> "",H8,"") | I9: =IF(C9<> "",I$2,"") | L9: Riegenführer
A10: 9 | G10: =IF(C10<> "",G2,"") | H10: =IF(C10<> "",H9,"") | I10: =IF(C10<> "",I$2,"") | L10: Riegenführer
A11: 10 | G11: =IF(C11<> "",G2,"") | H11: =IF(C11<> "",H10,"") | I11: =IF(C11<> "",I$2,"") | L11: Riegenführer
A12: 11 | G12: =IF(C12<> "",G2,"") | H12: =IF(C12<> "",H11,"") | I12: =IF(C12<> "",I$2,"") | L12: Riegenführer
A13: 1 | J13: Team 2
A14: 2 | G14: =IF(C14<> "",G13,"") | I14: =IF(C14<> "",I$13,"") | L14: Jahrgänge 2012/2013 (2014 möglich)
A15: 3 | G15: =IF(C15<> "",G13,"") | I15: =IF(C15<> "",I$13,"")
A16: 4 | G16: =IF(C16<> "",G13,"") | I16: =IF(C16<> "",I$13,"")
A17: 5 | G17: =IF(C17<> "",G13,"") | I17: =IF(C17<> "",I$13,"")
A18: 6 | G18: =IF(C18<> "",G13,"") | I18: =IF(C18<> "",I$13,"")
A19: 7 | G19: =IF(C19<> "",G13,"") | I19: =IF(C19<> "",I$13,"")
A20: 8 | G20: =IF(C20<> "",G13,"") | I20: =IF(C20<> "",I$13,"")
A21: 9 | G21: =IF(C21<> "",G13,"") | I21: =IF(C21<> "",I$13,"")
A22: 10 | G22: =IF(C22<> "",G13,"") | I22: =IF(C22<> "",I$13,"")
A23: 11 | G23: =IF(C23<> "",G13,"") | I23: =IF(C23<> "",I$13,"")
A24: 1 | J24: Team 3
A25: 2 | G25: =IF(C25<> "",G24,"") | I25: =IF(C25<> "",I$24,"")
A26: 3 | G26: =IF(C26<> "",G24,"") | I26: =IF(C26<> "",I$24,"")
A27: 4 | G27: =IF(C27<> "",G24,"") | I27: =IF(C27<> "",I$24,"")
A28: 5 | G28: =IF(C28<> "",G24,"") | I28: =IF(C28<> "",I$24,"")
A29: 6 | G29: =IF(C29<> "",G24,"") | I29: =IF(C29<> "",I$24,"")
A30: 7 | G30: =IF(C30<> "",G24,"") | I30: =IF(C30<> "",I$24,"")
A31: 8 | G31: =IF(C31<> "",G24,"") | I31: =IF(C31<> "",I$24,"")
A32: 9 | G32: =IF(C32<> "",G24,"") | I32: =IF(C32<> "",I$24,"")
A33: 10 | G33: =IF(C33<> "",G24,"") | I33: =IF(C33<> "",I$24,"")
A34: 11 | G34: =IF(C34<> "",G24,"") | I34: =IF(C34<> "",I$24,"")
A35: 1 | J35: Team 4
A36: 2 | G36: =IF(C36<> "",G35,"") | I36: =IF(C36<> "",I$35,"")
A37: 3 | G37: =IF(C37<> "",G35,"") | I37: =IF(C37<> "",I$35,"")
A38: 4 | G38: =IF(C38<> "",G35,"") | I38: =IF(C38<> "",I$35,"")
A39: 5 | G39: =IF(C39<> "",G35,"") | I39: =IF(C39<> "",I$35,"")
A40: 6 | G40: =IF(C40<> "",G35,"") | I40: =IF(C40<> "",I$35,"")
...

Sheet U10
A1: # | B1: StNr | C1: Name | D1: Vorname | E1: Jahrgang | F1: Geschlecht | G1: Team | H1: Verein | I1: Riege | J1: U10 | M1: Name | N1: Vorname
A2: 1 | J2: Team 1 | L2: Riegenführer
A3: 2 | G3: =IF(C3<> "",G2,"") | H3: =IF(C3<> "",H2,"") | I3: =IF(C3<> "",I$2,"") | L3: Riegenführer
A4: 3 | G4: =IF(C4<> "",G2,"") | H4: =IF(C4<> "",H3,"") | I4: =IF(C4<> "",I$2,"") | L4: Riegenführer
A5: 4 | G5: =IF(C5<> "",G2,"") | H5: =IF(C5<> "",H4,"") | I5: =IF(C5<> "",I$2,"") | L5: Riegenführer
A6: 5 | G6: =IF(C6<> "",G2,"") | H6: =IF(C6<> "",H5,"") | I6: =IF(C6<> "",I$2,"") | L6: Riegenführer
A7: 6 | G7: =IF(C7<> "",G2,"") | H7: =IF(C7<> "",H6,"") | I7: =IF(C7<> "",I$2,"") | L7: Riegenführer
A8: 7 | G8: =IF(C8<> "",G2,"") | H8: =IF(C8<> "",H7,"") | I8: =IF(C8<> "",I$2,"") | L8: Riegenführer
A9: 8 | G9: =IF(C9<> "",G2,"") | H9: =IF(C9<> "",H8,"") | I9: =IF(C9<> "",I$2,"") | L9: Riegenführer
A10: 9 | G10: =IF(C10<> "",G2,"") | H10: =IF(C10<> "",H9,"") | I10: =IF(C10<> "",I$2,"") | L10: Riegenführer
A11: 10 | G11: =IF(C11<> "",G2,"") | H11: =IF(C11<> "",H10,"") | I11: =IF(C11<> "",I$2,"") | L11: Riegenführer
A12: 11 | G12: =IF(C12<> "",G2,"") | H12: =IF(C12<> "",H11,"") | I12: =IF(C12<> "",I$2,"") | L12: Riegenführer
A13: 1 | J13: Team 2
A14: 2 | G14: =IF(C14<> "",G13,"") | I14: =IF(C14<> "",I$13,"") | L14: Jahrgänge 2010/2011 (2012 möglich)
A15: 3 | G15: =IF(C15<> "",G13,"") | I15: =IF(C15<> "",I$13,"")
A16: 4 | G16: =IF(C16<> "",G13,"") | I16: =IF(C16<> "",I$13,"")
A17: 5 | G17: =IF(C17<> "",G13,"") | I17: =IF(C17<> "",I$13,"")
A18: 6 | G18: =IF(C18<> "",G13,"") | I18: =IF(C18<> "",I$13,"")
A19: 7 | G19: =IF(C19<> "",G13,"") | I19: =IF(C19<> "",I$13,"")
A20: 8 | G20: =IF(C20<> "",G13,"") | I20: =IF(C20<> "",I$13,"")
A21: 9 | G21: =IF(C21<> "",G13,"") | I21: =IF(C21<> "",I$13,"")
A22: 10 | G22: =IF(C22<> "",G13,"") | I22: =IF(C22<> "",I$13,"")
A23: 11 | G23: =IF(C23<> "",G13,"") | I23: =IF(C23<> "",I$13,"")
A24: 1 | J24: Team 3
A25: 2 | G25: =IF(C25<> "",G24,"") | I25: =IF(C25<> "",I$24,"")
A26: 3 | G26: =IF(C26<> "",G24,"") | I26: =IF(C26<> "",I$24,"")
A27: 4 | G27: =IF(C27<> "",G24,"") | I27: =IF(C27<> "",I$24,"")
A28: 5 | G28: =IF(C28<> "",G24,"") | I28: =IF(C28<> "",I$24,"")
A29: 6 | G29: =IF(C29<> "",G24,"") | I29: =IF(C29<> "",I$24,"")
A30: 7 | G30: =IF(C30<> "",G24,"") | I30: =IF(C30<> "",I$24,"")
A31: 8 | G31: =IF(C31<> "",G24,"") | I31: =IF(C31<> "",I$24,"")
A32: 9 | G32: =IF(C32<> "",G24,"") | I32: =IF(C32<> "",I$24,"")
A33: 10 | G33: =IF(C33<> "",G24,"") | I33: =IF(C33<> "",I$24,"")
A34: 11 | G34: =IF(C34<> "",G24,"") | I34: =IF(C34<> "",I$24,"")
A35: 1 | J35: Team 4
A36: 2 | G36: =IF(C36<> "",G35,"") | I36: =IF(C36<> "",I$35,"")
A37: 3 | G37: =IF(C37<> "",G35,"") | I37: =IF(C37<> "",I$35,"")
A38: 4 | G38: =IF(C38<> "",G35,"") | I38: =IF(C38<> "",I$35,"")
A39: 5 | G39: =IF(C39<> "",G35,"") | I39: =IF(C39<> "",I$35,"")
A40: 6 | G40: =IF(C40<> "",G35,"") | I40: =IF(C40<> "",I$35,"")
...

Sheet U12
A1: # | B1: StNr | C1: Name | D1: Vorname | E1: Jahrgang | F1: Geschlecht | G1: Team | H1: Verein | I1: Riege | J1: U12 | M1: Name | N1: Vorname
A2: 1 | J2: Team 1 | L2: Riegenführer
A3: 2 | G3: =IF(C3<> "",G2,"") | H3: =IF(C3<> "",H2,"") | I3: =IF(C3<> "",I$2,"") | L3: Riegenführer
A4: 3 | G4: =IF(C4<> "",G2,"") | H4: =IF(C4<> "",H3,"") | I4: =IF(C4<> "",I$2,"") | L4: Riegenführer
A5: 4 | G5: =IF(C5<> "",G2,"") | H5: =IF(C5<> "",H4,"") | I5: =IF(C5<> "",I$2,"") | L5: Riegenführer
A6: 5 | G6: =IF(C6<> "",G2,"") | H6: =IF(C6<> "",H5,"") | I6: =IF(C6<> "",I$2,"") | L6: Riegenführer
A7: 6 | G7: =IF(C7<> "",G2,"") | H7: =IF(C7<> "",H6,"") | I7: =IF(C7<> "",I$2,"") | L7: Riegenführer
A8: 7 | G8: =IF(C8<> "",G2,"") | H8: =IF(C8<> "",H7,"") | I8: =IF(C8<> "",I$2,"") | L8: Riegenführer
A9: 8 | G9: =IF(C9<> "",G2,"") | H9: =IF(C9<> "",H8,"") | I9: =IF(C9<> "",I$2,"") | L9: Riegenführer
A10: 9 | G10: =IF(C10<> "",G2,"") | H10: =IF(C10<> "",H9,"") | I10: =IF(C10<> "",I$2,"") | L10: Riegenführer
A11: 10 | G11: =IF(C11<> "",G2,"") | H11: =IF(C11<> "",H10,"") | I11: =IF(C11<> "",I$2,"") | L11: Riegenführer
A12: 11 | G12: =IF(C12<> "",G2,"") | H12: =IF(C12<> "",H11,"") | I12: =IF(C12<> "",I$2,"") | L12: Riegenführer
A13: 1 | J13: Team 2
A14: 2 | G14: =IF(C14<> "",G13,"") | I14: =IF(C14<> "",I$13,"") | L14: Jahrgänge 2008/2009 (2010 möglich)
A15: 3 | G15: =IF(C15<> "",G13,"") | I15: =IF(C15<> "",I$13,"")
A16: 4 | G16: =IF(C16<> "",G13,"") | I16: =IF(C16<> "",I$13,"")
A17: 5 | G17: =IF(C17<> "",G13,"") | I17: =IF(C17<> "",I$13,"")
A18: 6 | G18: =IF(C18<> "",G13,"") | I18: =IF(C18<> "",I$13,"")
A19: 7 | G19: =IF(C19<> "",G13,"") | I19: =IF(C19<> "",I$13,"")
A20: 8 | G20: =IF(C20<> "",G13,"") | I20: =IF(C20<> "",I$13,"")
A21: 9 | G21: =IF(C21<> "",G13,"") | I21: =IF(C21<> "",I$13,"")
A22: 10 | G22: =IF(C22<> "",G13,"") | I22: =IF(C22<> "",I$13,"")
A23: 11 | G23: =IF(C23<> "",G13,"") | I23: =IF(C23<> "",I$13,"")
A24: 1 | J24: Team 3
A25: 2 | G25: =IF(C25<> "",G24,"") | I25: =IF(C25<> "",I$24,"")
A26: 3 | G26: =IF(C26<> "",G24,"") | I26: =IF(C26<> "",I$24,"")
A27: 4 | G27: =IF(C27<> "",G24,"") | I27: =IF(C27<> "",I$24,"")
A28: 5 | G28: =IF(C28<> "",G24,"") | I28: =IF(C28<> "",I$24,"")
A29: 6 | G29: =IF(C29<> "",G24,"") | I29: =IF(C29<> "",I$24,"")
A30: 7 | G30: =IF(C30<> "",G24,"") | I30: =IF(C30<> "",I$24,"")
A31: 8 | G31: =IF(C31<> "",G24,"") | I31: =IF(C31<> "",I$24,"")
A32: 9 | G32: =IF(C32<> "",G24,"") | I32: =IF(C32<> "",I$24,"")
A33: 10 | G33: =IF(C33<> "",G24,"") | I33: =IF(C33<> "",I$24,"")
A34: 11 | G34: =IF(C34<> "",G24,"") | I34: =IF(C34<> "",I$24,"")
A35: 1 | J35: Team 4
A36: 2 | G36: =IF(C36<> "",G35,"") | I36: =IF(C36<> "",I$35,"")
A37: 3 | G37: =IF(C37<> "",G35,"") | I37: =IF(C37<> "",I$35,"")
A38: 4 | G38: =IF(C38<> "",G35,"") | I38: =IF(C38<> "",I$35,"")
A39: 5 | G39: =IF(C39<> "",G35,"") | I39: =IF(C39<> "",I$35,"")
A40: 6 | G40: =IF(C40<> "",G35,"") | I40: =IF(C40<> "",I$35,"")
...

Sheet Hilfe
A1: {=IF(ROWS($1:1)>SUBTOTAL(3,#REF!),"",SMALL(IF(SUBTOTAL(3,INDIRECT("'Einzelwertung U12'!G"&ROW($2:$177))),#REF!),ROWS($1:1)))} -> #REF! | B1: {=IF(ROWS($1:1)>SUBTOTAL(3,#REF!),"",SMALL(IF(SUBTOTAL(3,INDIRECT("'Einzelwertung U12'!I"&ROW($2:$177))),#REF!),ROWS($1:1)))} -> #REF! | C1: {=IF(ROWS($1:1)>SUBTOTAL(3,#REF!),"",SMALL(IF(SUBTOTAL(3,INDIRECT("'Einzelwertung U12'!K"&ROW($2:$177))),#REF!),ROWS($1:1)))} -> #REF! | D1: {=IF(ROWS($1:1)>SUBTOTAL(3,#REF!),"",SMALL(IF(SUBTOTAL(3,INDIRECT("'Einzelwertung U12'!M"&ROW($2:$177))),#REF!),ROWS($1:1)))} -> #REF! | E1: {=IF(ROWS($1:1)>SUBTOTAL(3,#REF!),"",SMALL(IF(SUBTOTAL(3,INDIRECT("'Einzelwertung U12'!O"&ROW($2:$177))),#REF!),ROWS($1:1)))} -> #REF! | F1: {=IF(ROWS($1:1)>SUBTOTAL(3,#REF!),"",SMALL(IF(SUBTOTAL(3,INDIRECT("'Einzelwertung U12'!Q"&ROW($2:$177))),#REF!),ROWS($1:1)))} -> #REF! | G1: {=IF(ROWS($1:1)>SUBTOTAL(3,#REF!),"",IF(OR(A1<>"",B1<>"",C1<>"",D1<>"",E1<>"",F1<>""),SMALL(IF(SUBTOTAL(3,INDIRECT("'Einzelwertung U12'!S"&ROW($2:$177))),#REF!),ROWS($1:1)),""))} -> #REF!
A2: {=IF(ROWS($1:2)>SUBTOTAL(3,#REF!),"",SMALL(IF(SUBTOTAL(3,INDIRECT("'Einzelwertung U12'!G"&ROW($2:$177))),#REF!),ROWS($1:2)))} -> #REF! | B2: {=IF(ROWS($1:2)>SUBTOTAL(3,#REF!),"",SMALL(IF(SUBTOTAL(3,INDIRECT("'Einzelwertung U12'!I"&ROW($2:$177))),#REF!),ROWS($1:2)))} -> #REF! | C2: {=IF(ROWS($1:2)>SUBTOTAL(3,#REF!),"",SMALL(IF(SUBTOTAL(3,INDIRECT("'Einzelwertung U12'!K"&ROW($2:$177))),#REF!),ROWS($1:2)))} -> #REF! | D2: {=IF(ROWS($1:2)>SUBTOTAL(3,#REF!),"",SMALL(IF(SUBTOTAL(3,INDIRECT("'Einzelwertung U12'!M"&ROW($2:$177))),#REF!),ROWS($1:2)))} -> #REF! | E2: {=IF(ROWS($1:2)>SUBTOTAL(3,#REF!),"",SMALL(IF(SUBTOTAL(3,INDIRECT("'Einzelwertung U12'!O"&ROW($2:$177))),#REF!),ROWS($1:2)))} -> #REF! | F2: {=IF(ROWS($1:2)>SUBTOTAL(3,#REF!),"",SMALL(IF(SUBTOTAL(3,INDIRECT("'Einzelwertung U12'!Q"&ROW($2:$177))),#REF!),ROWS($1:2)))} -> #REF! | G2: {=IF(ROWS($1:2)>SUBTOTAL(3,#REF!),"",IF(OR(A2<>"",B2<>"",C2<>"",D2<>"",E2<>"",F2<>""),SMALL(IF(SUBTOTAL(3,INDIRECT("'Einzelwertung U12'!S"&ROW($2:$177))),#REF!),ROWS($1:2)),""))} -> #REF!
A3: {=IF(ROWS($1:3)>SUBTOTAL(3,#REF!),"",SMALL(IF(SUBTOTAL(3,INDIRECT("'Einzelwertung U12'!G"&ROW($2:$177))),#REF!),ROWS($1:3)))} -> #REF! | B3: {=IF(ROWS($1:3)>SUBTOTAL(3,#REF!),"",SMALL(IF(SUBTOTAL(3,INDIRECT("'Einzelwertung U12'!I"&ROW($2:$177))),#REF!),ROWS($1:3)))} -> #REF! | C3: {=IF(ROWS($1:3)>SUBTOTAL(3,#REF!),"",SMALL(IF(SUBTOTAL(3,INDIRECT("'Einzelwertung U12'!K"&ROW($2:$177))),#REF!),ROWS($1:3)))} -> #REF! | D3: {=IF(ROWS($1:3)>SUBTOTAL(3,#REF!),"",SMALL(IF(SUBTOTAL(3,INDIRECT("'Einzelwertung U12'!M"&ROW($2:$177))),#REF!),ROWS($1:3)))} -> #REF! | E3: {=IF(ROWS($1:3)>SUBTOTAL(3,#REF!),"",SMALL(IF(SUBTOTAL(3,INDIRECT("'Einzelwertung U12'!O"&ROW($2:$177))),#REF!),ROWS($1:3)))} -> #REF! | F3: {=IF(ROWS($1:3)>SUBTOTAL(3,#REF!),"",SMALL(IF(SUBTOTAL(3,INDIRECT("'Einzelwertung U12'!Q"&ROW($2:$177))),#REF!),ROWS($1:3)))} -> #REF! | G3: {=IF(ROWS($1:3)>SUBTOTAL(3,#REF!),"",IF(OR(A3<>"",B3<>"",C3<>"",D3<>"",E3<>"",F3<>""),SMALL(IF(SUBTOTAL(3,INDIRECT("'Einzelwertung U12'!S"&ROW($2:$177))),#REF!),ROWS($1:3)),""))} -> #REF!
A4: {=IF(ROWS($1:4)>SUBTOTAL(3,#REF!),"",SMALL(IF(SUBTOTAL(3,INDIRECT("'Einzelwertung U12'!G"&ROW($2:$177))),#REF!),ROWS($1:4)))} -> #REF! | B4: {=IF(ROWS($1:4)>SUBTOTAL(3,#REF!),"",SMALL(IF(SUBTOTAL(3,INDIRECT("'Einzelwertung U12'!I"&ROW($2:$177))),#REF!),ROWS($1:4)))} -> #REF! | C4: {=IF(ROWS($1:4)>SUBTOTAL(3,#REF!),"",SMALL(IF(SUBTOTAL(3,INDIRECT("'Einzelwertung U12'!K"&ROW($2:$177))),#REF!),ROWS($1:4)))} -> #REF! | D4: {=IF(ROWS($1:4)>SUBTOTAL(3,#REF!),"",SMALL(IF(SUBTOTAL(3,INDIRECT("'Einzelwertung U12'!M"&ROW($2:$177))),#REF!),ROWS($1:4)))} -> #REF! | E4: {=IF(ROWS($1:4)>SUBTOTAL(3,#REF!),"",SMALL(IF(SUBTOTAL(3,INDIRECT("'Einzelwertung U12'!O"&ROW($2:$177))),#REF!),ROWS($1:4)))} -> #REF! | F4: {=IF(ROWS($1:4)>SUBTOTAL(3,#REF!),"",SMALL(IF(SUBTOTAL(3,INDIRECT("'Einzelwertung U12'!Q"&ROW($2:$177))),#REF!),ROWS($1:4)))} -> #REF! | G4: {=IF(ROWS($1:4)>SUBTOTAL(3,#REF!),"",IF(OR(A4<>"",B4<>"",C4<>"",D4<>"",E4<>"",F4<>""),SMALL(IF(SUBTOTAL(3,INDIRECT("'Einzelwertung U12'!S"&ROW($2:$177))),#REF!),ROWS($1:4)),""))} -> #REF!
A5: {=IF(ROWS($1:5)>SUBTOTAL(3,#REF!),"",SMALL(IF(SUBTOTAL(3,INDIRECT("'Einzelwertung U12'!G"&ROW($2:$177))),#REF!),ROWS($1:5)))} -> #REF! | B5: {=IF(ROWS($1:5)>SUBTOTAL(3,#REF!),"",SMALL(IF(SUBTOTAL(3,INDIRECT("'Einzelwertung U12'!I"&ROW($2:$177))),#REF!),ROWS($1:5)))} -> #REF! | C5: {=IF(ROWS($1:5)>SUBTOTAL(3,#REF!),"",SMALL(IF(SUBTOTAL(3,INDIRECT("'Einzelwertung U12'!K"&ROW($2:$177))),#REF!),ROWS($1:5)))} -> #REF! | D5: {=IF(ROWS($1:5)>SUBTOTAL(3,#REF!),"",SMALL(IF(SUBTOTAL(3,INDIRECT("'Einzelwertung U12'!M"&ROW($2:$177))),#REF!),ROWS($1:5)))} -> #REF! | E5: {=IF(ROWS($1:5)>SUBTOTAL(3,#REF!),"",SMALL(IF(SUBTOTAL(3,INDIRECT("'Einzelwertung U12'!O"&ROW($2:$177))),#REF!),ROWS($1:5)))} -> #REF! | F5: {=IF(ROWS($1:5)>SUBTOTAL(3,#REF!),"",SMALL(IF(SUBTOTAL(3,INDIRECT("'Einzelwertung U12'!Q"&ROW($2:$177))),#REF!),ROWS($1:5)))} -> #REF! | G5: {=IF(ROWS($1:5)>SUBTOTAL(3,#REF!),"",IF(OR(A5<>"",B5<>"",C5<>"",D5<>"",E5<>"",F5<>""),SMALL(IF(SUBTOTAL(3,INDIRECT("'Einzelwertung U12'!S"&ROW($2:$177))),#REF!),ROWS($1:5)),""))} -> #REF!
A6: {=IF(ROWS($1:6)>SUBTOTAL(3,#REF!),"",SMALL(IF(SUBTOTAL(3,INDIRECT("'Einzelwertung U12'!G"&ROW($2:$177))),#REF!),ROWS($1:6)))} -> #REF! | B6: {=IF(ROWS($1:6)>SUBTOTAL(3,#REF!),"",SMALL(IF(SUBTOTAL(3,INDIRECT("'Einzelwertung U12'!I"&ROW($2:$177))),#REF!),ROWS($1:6)))} -> #REF! | C6: {=IF(ROWS($1:6)>SUBTOTAL(3,#REF!),"",SMALL(IF(SUBTOTAL(3,INDIRECT("'Einzelwertung U12'!K"&ROW($2:$177))),#REF!),ROWS($1:6)))} -> #REF! | D6: {=IF(ROWS($1:6)>SUBTOTAL(3,#REF!),"",SMALL(IF(SUBTOTAL(3,INDIRECT("'Einzelwertung U12'!M"&ROW($2:$177))),#REF!),ROWS($1:6)))} -> #REF! | E6: {=IF(ROWS($1:6)>SUBTOTAL(3,#REF!),"",SMALL(IF(SUBTOTAL(3,INDIRECT("'Einzelwertung U12'!O"&ROW($2:$177))),#REF!),ROWS($1:6)))} -> #REF! | F6: {=IF(ROWS($1:6)>SUBTOTAL(3,#REF!),"",SMALL(IF(SUBTOTAL(3,INDIRECT("'Einzelwertung U12'!Q"&ROW($2:$177))),#REF!),ROWS($1:6)))} -> #REF! | G6: {=IF(ROWS($1:6)>SUBTOTAL(3,#REF!),"",IF(OR(A6<>"",B6<>"",C6<>"",D6<>"",E6<>"",F6<>""),SMALL(IF(SUBTOTAL(3,INDIRECT("'Einzelwertung U12'!S"&ROW($2:$177))),#REF!),ROWS($1:6)),""))} -> #REF!
A7: {=IF(ROWS($1:7)>SUBTOTAL(3,#REF!),"",SMALL(IF(SUBTOTAL(3,INDIRECT("'Einzelwertung U12'!G"&ROW($2:$177))),#REF!),ROWS($1:7)))} -> #REF! | B7: {=IF(ROWS($1:7)>SUBTOTAL(3,#REF!),"",SMALL(IF(SUBTOTAL(3,INDIRECT("'Einzelwertung U12'!I"&ROW($2:$177))),#REF!),ROWS($1:7)))} -> #REF! | C7: {=IF(ROWS($1:7)>SUBTOTAL(3,#REF!),"",SMALL(IF(SUBTOTAL(3,INDIRECT("'Einzelwertung U12'!K"&ROW($2:$177))),#REF!),ROWS($1:7)))} -> #REF! | D7: {=IF(ROWS($1:7)>SUBTOTAL(3,#REF!),"",SMALL(IF(SUBTOTAL(3,INDIRECT("'Einzelwertung U12'!M"&ROW($2:$177))),#REF!),ROWS($1:7)))} -> #REF! | E7: {=IF(ROWS($1:7)>SUBTOTAL(3,#REF!),"",SMALL(IF(SUBTOTAL(3,INDIRECT("'Einzelwertung U12'!O"&ROW($2:$177))),#REF!),ROWS($1:7)))} -> #REF! | F7: {=IF(ROWS($1:7)>SUBTOTAL(3,#REF!),"",SMALL(IF(SUBTOTAL(3,INDIRECT("'Einzelwertung U12'!Q"&ROW($2:$177))),#REF!),ROWS($1:7)))} -> #REF! | G7: {=IF(ROWS($1:7)>SUBTOTAL(3,#REF!),"",IF(OR(A7<>"",B7<>"",C7<>"",D7<>"",E7<>"",F7<>""),SMALL(IF(SUBTOTAL(3,INDIRECT("'Einzelwertung U12'!S"&ROW($2:$177))),#REF!),ROWS($1:7)),""))} -> #REF!
A8: {=IF(ROWS($1:8)>SUBTOTAL(3,#REF!),"",SMALL(IF(SUBTOTAL(3,INDIRECT("'Einzelwertung U12'!G"&ROW($2:$177))),#REF!),ROWS($1:8)))} -> #REF! | B8: {=IF(ROWS($1:8)>SUBTOTAL(3,#REF!),"",SMALL(IF(SUBTOTAL(3,INDIRECT("'Einzelwertung U12'!I"&ROW($2:$177))),#REF!),ROWS($1:8)))} -> #REF! | C8: {=IF(ROWS($1:8)>SUBTOTAL(3,#REF!),"",SMALL(IF(SUBTOTAL(3,INDIRECT("'Einzelwertung U12'!K"&ROW($2:$177))),#REF!),ROWS($1:8)))} -> #REF! | D8: {=IF(ROWS($1:8)>SUBTOTAL(3,#REF!),"",SMALL(IF(SUBTOTAL(3,INDIRECT("'Einzelwertung U12'!M"&ROW($2:$177))),#REF!),ROWS($1:8)))} -> #REF! | E8: {=IF(ROWS($1:8)>SUBTOTAL(3,#REF!),"",SMALL(IF(SUBTOTAL(3,INDIRECT("'Einzelwertung U12'!O"&ROW($2:$177))),#REF!),ROWS($1:8)))} -> #REF! | F8: {=IF(ROWS($1:8)>SUBTOTAL(3,#REF!),"",SMALL(IF(SUBTOTAL(3,INDIRECT("'Einzelwertung U12'!Q"&ROW($2:$177))),#REF!),ROWS($1:8)))} -> #REF! | G8: {=IF(ROWS($1:8)>SUBTOTAL(3,#REF!),"",IF(OR(A8<>"",B8<>"",C8<>"",D8<>"",E8<>"",F8<>""),SMALL(IF(SUBTOTAL(3,INDIRECT("'Einzelwertung U12'!S"&ROW($2:$177))),#REF!),ROWS($1:8)),""))} -> #REF!
A9: {=IF(ROWS($1:9)>SUBTOTAL(3,#REF!),"",SMALL(IF(SUBTOTAL(3,INDIRECT("'Einzelwertung U12'!G"&ROW($2:$177))),#REF!),ROWS($1:9)))} -> #REF! | B9: {=IF(ROWS($1:9)>SUBTOTAL(3,#REF!),"",SMALL(IF(SUBTOTAL(3,INDIRECT("'Einzelwertung U12'!I"&ROW($2:$177))),#REF!),ROWS($1:9)))} -> #REF! | C9: {=IF(ROWS($1:9)>SUBTOTAL(3,#REF!),"",SMALL(IF(SUBTOTAL(3,INDIRECT("'Einzelwertung U12'!K"&ROW($2:$177))),#REF!),ROWS($1:9)))} -> #REF! | D9: {=IF(ROWS($1:9)>SUBTOTAL(3,#REF!),"",SMALL(IF(SUBTOTAL(3,INDIRECT("'Einzelwertung U12'!M"&ROW($2:$177))),#REF!),ROWS($1:9)))} -> #REF! | E9: {=IF(ROWS($1:9)>SUBTOTAL(3,#REF!),"",SMALL(IF(SUBTOTAL(3,INDIRECT("'Einzelwertung U12'!O"&ROW($2:$177))),#REF!),ROWS($1:9)))} -> #REF! | F9: {=IF(ROWS($1:9)>SUBTOTAL(3,#REF!),"",SMALL(IF(SUBTOTAL(3,INDIRECT("'Einzelwertung U12'!Q"&ROW($2:$177))),#REF!),ROWS($1:9)))} -> #REF! | G9: {=IF(ROWS($1:9)>SUBTOTAL(3,#REF!),"",IF(OR(A9<>"",B9<>"",C9<>"",D9<>"",E9<>"",F9<>""),SMALL(IF(SUBTOTAL(3,INDIRECT("'Einzelwertung U12'!S"&ROW($2:$177))),#REF!),ROWS($1:9)),""))} -> #REF!
A10: {=IF(ROWS($1:10)>SUBTOTAL(3,#REF!),"",SMALL(IF(SUBTOTAL(3,INDIRECT("'Einzelwertung U12'!G"&ROW($2:$177))),#REF!),ROWS($1:10)))} -> #REF! | B10: {=IF(ROWS($1:10)>SUBTOTAL(3,#REF!),"",SMALL(IF(SUBTOTAL(3,INDIRECT("'Einzelwertung U12'!I"&ROW($2:$177))),#REF!),ROWS($1:10)))} -> #REF! | C10: {=IF(ROWS($1:10)>SUBTOTAL(3,#REF!),"",SMALL(IF(SUBTOTAL(3,INDIRECT("'Einzelwertung U12'!K"&ROW($2:$177))),#REF!),ROWS($1:10)))} -> #REF! | D10: {=IF(ROWS($1:10)>SUBTOTAL(3,#REF!),"",SMALL(IF(SUBTOTAL(3,INDIRECT("'Einzelwertung U12'!M"&ROW($2:$177))),#REF!),ROWS($1:10)))} -> #REF! | E10: {=IF(ROWS($1:10)>SUBTOTAL(3,#REF!),"",SMALL(IF(SUBTOTAL(3,INDIRECT("'Einzelwertung U12'!O"&ROW($2:$177))),#REF!),ROWS($1:10)))} -> #REF! | F10: {=IF(ROWS($1:10)>SUBTOTAL(3,#REF!),"",SMALL(IF(SUBTOTAL(3,INDIRECT("'Einzelwertung U12'!Q"&ROW($2:$177))),#REF!),ROWS($1:10)))} -> #REF! | G10: {=IF(ROWS($1:10)>SUBTOTAL(3,#REF!),"",IF(OR(A10<>"",B10<>"",C10<>"",D10<>"",E10<>"",F10<>""),SMALL(IF(SUBTOTAL(3,INDIRECT("'Einzelwertung U12'!S"&ROW($2:$177))),#REF!),ROWS($1:10)),""))} -> #REF!
A11: {=IF(ROWS($1:11)>SUBTOTAL(3,#REF!),"",SMALL(IF(SUBTOTAL(3,INDIRECT("'Einzelwertung U12'!G"&ROW($2:$177))),#REF!),ROWS($1:11)))} -> #REF! | B11: {=IF(ROWS($1:11)>SUBTOTAL(3,#REF!),"",SMALL(IF(SUBTOTAL(3,INDIRECT("'Einzelwertung U12'!I"&ROW($2:$177))),#REF!),ROWS($1:11)))} -> #REF! | C11: {=IF(ROWS($1:11)>SUBTOTAL(3,#REF!),"",SMALL(IF(SUBTOTAL(3,INDIRECT("'Einzelwertung U12'!K"&ROW($2:$177))),#REF!),ROWS($1:11)))} -> #REF! | D11: {=IF(ROWS($1:11)>SUBTOTAL(3,#REF!),"",SMALL(IF(SUBTOTAL(3,INDIRECT("'Einzelwertung U12'!M"&ROW($2:$177))),#REF!),ROWS($1:11)))} -> #REF! | E11: {=IF(ROWS($1:11)>SUBTOTAL(3,#REF!),"",SMALL(IF(SUBTOTAL(3,INDIRECT("'Einzelwertung U12'!O"&ROW($2:$177))),#REF!),ROWS($1:11)))} -> #REF! | F11: {=IF(ROWS($1:11)>SUBTOTAL(3,#REF!),"",SMALL(IF(SUBTOTAL(3,INDIRECT("'Einzelwertung U12'!Q"&ROW($2:$177))),#REF!),ROWS($1:11)))} -> #REF! | G11: {=IF(ROWS($1:11)>SUBTOTAL(3,#REF!),"",IF(OR(A11<>"",B11<>"",C11<>"",D11<>"",E11<>"",F11<>""),SMALL(IF(SUBTOTAL(3,INDIRECT("'Einzelwertung U12'!S"&ROW($2:$177))),#REF!),ROWS($1:11)),""))} -> #REF!
A12: {=IF(ROWS($1:12)>SUBTOTAL(3,#REF!),"",SMALL(IF(SUBTOTAL(3,INDIRECT("'Einzelwertung U12'!G"&ROW($2:$177))),#REF!),ROWS($1:12)))} -> #REF! | B12: {=IF(ROWS($1:12)>SUBTOTAL(3,#REF!),"",SMALL(IF(SUBTOTAL(3,INDIRECT("'Einzelwertung U12'!I"&ROW($2:$177))),#REF!),ROWS($1:12)))} -> #REF! | C12: {=IF(ROWS($1:12)>SUBTOTAL(3,#REF!),"",SMALL(IF(SUBTOTAL(3,INDIRECT("'Einzelwertung U12'!K"&ROW($2:$177))),#REF!),ROWS($1:12)))} -> #REF! | D12: {=IF(ROWS($1:12)>SUBTOTAL(3,#REF!),"",SMALL(IF(SUBTOTAL(3,INDIRECT("'Einzelwertung U12'!M"&ROW($2:$177))),#REF!),ROWS($1:12)))} -> #REF! | E12: {=IF(ROWS($1:12)>SUBTOTAL(3,#REF!),"",SMALL(IF(SUBTOTAL(3,INDIRECT("'Einzelwertung U12'!O"&ROW($2:$177))),#REF!),ROWS($1:12)))} -> #REF! | F12: {=IF(ROWS($1:12)>SUBTOTAL(3,#REF!),"",SMALL(IF(SUBTOTAL(3,INDIRECT("'Einzelwertung U12'!Q"&ROW($2:$177))),#REF!),ROWS($1:12)))} -> #REF! | G12: {=IF(ROWS($1:12)>SUBTOTAL(3,#REF!),"",IF(OR(A12<>"",B12<>"",C12<>"",D12<>"",E12<>"",F12<>""),SMALL(IF(SUBTOTAL(3,INDIRECT("'Einzelwertung U12'!S"&ROW($2:$177))),#REF!),ROWS($1:12)),""))} -> #REF!
A13: {=IF(ROWS($1:13)>SUBTOTAL(3,#REF!),"",SMALL(IF(SUBTOTAL(3,INDIRECT("'Einzelwertung U12'!G"&ROW($2:$177))),#REF!),ROWS($1:13)))} -> #REF! | B13: {=IF(ROWS($1:13)>SUBTOTAL(3,#REF!),"",SMALL(IF(SUBTOTAL(3,INDIRECT("'Einzelwertung U12'!I"&ROW($2:$177))),#REF!),ROWS($1:13)))} -> #REF! | C13: {=IF(ROWS($1:13)>SUBTOTAL(3,#REF!),"",SMALL(IF(SUBTOTAL(3,INDIRECT("'Einzelwertung U12'!K"&ROW($2:$177))),#REF!),ROWS($1:13)))} -> #REF! | D13: {=IF(ROWS($1:13)>SUBTOTAL(3,#REF!),"",SMALL(IF(SUBTOTAL(3,INDIRECT("'Einzelwertung U12'!M"&ROW($2:$177))),#REF!),ROWS($1:13)))} -> #REF! | E13: {=IF(ROWS($1:13)>SUBTOTAL(3,#REF!),"",SMALL(IF(SUBTOTAL(3,INDIRECT("'Einzelwertung U12'!O"&ROW($2:$177))),#REF!),ROWS($1:13)))} -> #REF! | F13: {=IF(ROWS($1:13)>SUBTOTAL(3,#REF!),"",SMALL(IF(SUBTOTAL(3,INDIRECT("'Einzelwertung U12'!Q"&ROW($2:$177))),#REF!),ROWS($1:13)))} -> #REF! | G13: {=IF(ROWS($1:13)>SUBTOTAL(3,#REF!),"",IF(OR(A13<>"",B13<>"",C13<>"",D13<>"",E13<>"",F13<>""),SMALL(IF(SUBTOTAL(3,INDIRECT("'Einzelwertung U12'!S"&ROW($2:$177))),#REF!),ROWS($1:13)),""))} -> #REF!
A14: {=IF(ROWS($1:14)>SUBTOTAL(3,#REF!),"",SMALL(IF(SUBTOTAL(3,INDIRECT("'Einzelwertung U12'!G"&ROW($2:$177))),#REF!),ROWS($1:14)))} -> #REF! | B14: {=IF(ROWS($1:14)>SUBTOTAL(3,#REF!),"",SMALL(IF(SUBTOTAL(3,INDIRECT("'Einzelwertung U12'!I"&ROW($2:$177))),#REF!),ROWS($1:14)))} -> #REF! | C14: {=IF(ROWS($1:14)>SUBTOTAL(3,#REF!),"",SMALL(IF(SUBTOTAL(3,INDIRECT("'Einzelwertung U12'!K"&ROW($2:$177))),#REF!),ROWS($1:14)))} -> #REF! | D14: {=IF(ROWS($1:14)>SUBTOTAL(3,#REF!),"",SMALL(IF(SUBTOTAL(3,INDIRECT("'Einzelwertung U12'!M"&ROW($2:$177))),#REF!),ROWS($1:14)))} -> #REF! | E14: {=IF(ROWS($1:14)>SUBTOTAL(3,#REF!),"",SMALL(IF(SUBTOTAL(3,INDIRECT("'Einzelwertung U12'!O"&ROW($2:$177))),#REF!),ROWS($1:14)))} -> #REF! | F14: {=IF(ROWS($1:14)>SUBTOTAL(3,#REF!),"",SMALL(IF(SUBTOTAL(3,INDIRECT("'Einzelwertung U12'!Q"&ROW($2:$177))),#REF!),ROWS($1:14)))} -> #REF! | G14: {=IF(ROWS($1:14)>SUBTOTAL(3,#REF!),"",IF(OR(A14<>"",B14<>"",C14<>"",D14<>"",E14<>"",F14<>""),SMALL(IF(SUBTOTAL(3,INDIRECT("'Einzelwertung U12'!S"&ROW($2:$177))),#REF!),ROWS($1:14)),""))} -> #REF!
A15: {=IF(ROWS($1:15)>SUBTOTAL(3,#REF!),"",SMALL(IF(SUBTOTAL(3,INDIRECT("'Einzelwertung U12'!G"&ROW($2:$177))),#REF!),ROWS($1:15)))} -> #REF! | B15: {=IF(ROWS($1:15)>SUBTOTAL(3,#REF!),"",SMALL(IF(SUBTOTAL(3,INDIRECT("'Einzelwertung U12'!I"&ROW($2:$177))),#REF!),ROWS($1:15)))} -> #REF! | C15: {=IF(ROWS($1:15)>SUBTOTAL(3,#REF!),"",SMALL(IF(SUBTOTAL(3,INDIRECT("'Einzelwertung U12'!K"&ROW($2:$177))),#REF!),ROWS($1:15)))} -> #REF! | D15: {=IF(ROWS($1:15)>SUBTOTAL(3,#REF!),"",SMALL(IF(SUBTOTAL(3,INDIRECT("'Einzelwertung U12'!M"&ROW($2:$177))),#REF!),ROWS($1:15)))} -> #REF! | E15: {=IF(ROWS($1:15)>SUBTOTAL(3,#REF!),"",SMALL(IF(SUBTOTAL(3,INDIRECT("'Einzelwertung U12'!O"&ROW($2:$177))),#REF!),ROWS($1:15)))} -> #REF! | F15: {=IF(ROWS($1:15)>SUBTOTAL(3,#REF!),"",SMALL(IF(SUBTOTAL(3,INDIRECT("'Einzelwertung U12'!Q"&ROW($2:$177))),#REF!),ROWS($1:15)))} -> #REF! | G15: {=IF(ROWS($1:15)>SUBTOTAL(3,#REF!),"",IF(OR(A15<>"",B15<>"",C15<>"",D15<>"",E15<>"",F15<>""),SMALL(IF(SUBTOTAL(3,INDIRECT("'Einzelwertung U12'!S"&ROW($2:$177))),#REF!),ROWS($1:15)),""))} -> #REF!
A16: {=IF(ROWS($1:16)>SUBTOTAL(3,#REF!),"",SMALL(IF(SUBTOTAL(3,INDIRECT("'Einzelwertung U12'!G"&ROW($2:$177))),#REF!),ROWS($1:16)))} -> #REF! | B16: {=IF(ROWS($1:16)>SUBTOTAL(3,#REF!),"",SMALL(IF(SUBTOTAL(3,INDIRECT("'Einzelwertung U12'!I"&ROW($2:$177))),#REF!),ROWS($1:16)))} -> #REF! | C16: {=IF(ROWS($1:16)>SUBTOTAL(3,#REF!),"",SMALL(IF(SUBTOTAL(3,INDIRECT("'Einzelwertung U12'!K"&ROW($2:$177))),#REF!),ROWS($1:16)))} -> #REF! | D16: {=IF(ROWS($1:16)>SUBTOTAL(3,#REF!),"",SMALL(IF(SUBTOTAL(3,INDIRECT("'Einzelwertung U12'!M"&ROW($2:$177))),#REF!),ROWS($1:16)))} -> #REF! | E16: {=IF(ROWS($1:16)>SUBTOTAL(3,#REF!),"",SMALL(IF(SUBTOTAL(3,INDIRECT("'Einzelwertung U12'!O"&ROW($2:$177))),#REF!),ROWS($1:16)))} -> #REF! | F16: {=IF(ROWS($1:16)>SUBTOTAL(3,#REF!),"",SMALL(IF(SUBTOTAL(3,INDIRECT("'Einzelwertung U12'!Q"&ROW($2:$177))),#REF!),ROWS($1:16)))} -> #REF! | G16: {=IF(ROWS($1:16)>SUBTOTAL(3,#REF!),"",IF(OR(A16<>"",B16<>"",C16<>"",D16<>"",E16<>"",F16<>""),SMALL(IF(SUBTOTAL(3,INDIRECT("'Einzelwertung U12'!S"&ROW($2:$177))),#REF!),ROWS($1:16)),""))} -> #REF!
A17: {=IF(ROWS($1:17)>SUBTOTAL(3,#REF!),"",SMALL(IF(SUBTOTAL(3,INDIRECT("'Einzelwertung U12'!G"&ROW($2:$177))),#REF!),ROWS($1:17)))} -> #REF! | B17: {=IF(ROWS($1:17)>SUBTOTAL(3,#REF!),"",SMALL(IF(SUBTOTAL(3,INDIRECT("'Einzelwertung U12'!I"&ROW($2:$177))),#REF!),ROWS($1:17)))} -> #REF! | C17: {=IF(ROWS($1:17)>SUBTOTAL(3,#REF!),"",SMALL(IF(SUBTOTAL(3,INDIRECT("'Einzelwertung U12'!K"&ROW($2:$177))),#REF!),ROWS($1:17)))} -> #REF! | D17: {=IF(ROWS($1:17)>SUBTOTAL(3,#REF!),"",SMALL(IF(SUBTOTAL(3,INDIRECT("'Einzelwertung U12'!M"&ROW($2:$177))),#REF!),ROWS($1:17)))} -> #REF! | E17: {=IF(ROWS($1:17)>SUBTOTAL(3,#REF!),"",SMALL(IF(SUBTOTAL(3,INDIRECT("'Einzelwertung U12'!O"&ROW($2:$177))),#REF!),ROWS($1:17)))} -> #REF! | F17: {=IF(ROWS($1:17)>SUBTOTAL(3,#REF!),"",SMALL(IF(SUBTOTAL(3,INDIRECT("'Einzelwertung U12'!Q"&ROW($2:$177))),#REF!),ROWS($1:17)))} -> #REF! | G17: {=IF(ROWS($1:17)>SUBTOTAL(3,#REF!),"",IF(OR(A17<>"",B17<>"",C17<>"",D17<>"",E17<>"",F17<>""),SMALL(IF(SUBTOTAL(3,INDIRECT("'Einzelwertung U12'!S"&ROW($2:$177))),#REF!),ROWS($1:17)),""))} -> #REF!
A18: {=IF(ROWS($1:18)>SUBTOTAL(3,#REF!),"",SMALL(IF(SUBTOTAL(3,INDIRECT("'Einzelwertung U12'!G"&ROW($2:$177))),#REF!),ROWS($1:18)))} -> #REF! | B18: {=IF(ROWS($1:18)>SUBTOTAL(3,#REF!),"",SMALL(IF(SUBTOTAL(3,INDIRECT("'Einzelwertung U12'!I"&ROW($2:$177))),#REF!),ROWS($1:18)))} -> #REF! | C18: {=IF(ROWS($1:18)>SUBTOTAL(3,#REF!),"",SMALL(IF(SUBTOTAL(3,INDIRECT("'Einzelwertung U12'!K"&ROW($2:$177))),#REF!),ROWS($1:18)))} -> #REF! | D18: {=IF(ROWS($1:18)>SUBTOTAL(3,#REF!),"",SMALL(IF(SUBTOTAL(3,INDIRECT("'Einzelwertung U12'!M"&ROW($2:$177))),#REF!),ROWS($1:18)))} -> #REF! | E18: {=IF(ROWS($1:18)>SUBTOTAL(3,#REF!),"",SMALL(IF(SUBTOTAL(3,INDIRECT("'Einzelwertung U12'!O"&ROW($2:$177))),#REF!),ROWS($1:18)))} -> #REF! | F18: {=IF(ROWS($1:18)>SUBTOTAL(3,#REF!),"",SMALL(IF(SUBTOTAL(3,INDIRECT("'Einzelwertung U12'!Q"&ROW($2:$177))),#REF!),ROWS($1:18)))} -> #REF! | G18: {=IF(ROWS($1:18)>SUBTOTAL(3,#REF!),"",IF(OR(A18<>"",B18<>"",C18<>"",D18<>"",E18<>"",F18<>""),SMALL(IF(SUBTOTAL(3,INDIRECT("'Einzelwertung U12'!S"&ROW($2:$177))),#REF!),ROWS($1:18)),""))} -> #REF!
A19: {=IF(ROWS($1:19)>SUBTOTAL(3,#REF!),"",SMALL(IF(SUBTOTAL(3,INDIRECT("'Einzelwertung U12'!G"&ROW($2:$177))),#REF!),ROWS($1:19)))} -> #REF! | B19: {=IF(ROWS($1:19)>SUBTOTAL(3,#REF!),"",SMALL(IF(SUBTOTAL(3,INDIRECT("'Einzelwertung U12'!I"&ROW($2:$177))),#REF!),ROWS($1:19)))} -> #REF! | C19: {=IF(ROWS($1:19)>SUBTOTAL(3,#REF!),"",SMALL(IF(SUBTOTAL(3,INDIRECT("'Einzelwertung U12'!K"&ROW($2:$177))),#REF!),ROWS($1:19)))} -> #REF! | D19: {=IF(ROWS($1:19)>SUBTOTAL(3,#REF!),"",SMALL(IF(SUBTOTAL(3,INDIRECT("'Einzelwertung U12'!M"&ROW($2:$177))),#REF!),ROWS($1:19)))} -> #REF! | E19: {=IF(ROWS($1:19)>SUBTOTAL(3,#REF!),"",SMALL(IF(SUBTOTAL(3,INDIRECT("'Einzelwertung U12'!O"&ROW($2:$177))),#REF!),ROWS($1:19)))} -> #REF! | F19: {=IF(ROWS($1:19)>SUBTOTAL(3,#REF!),"",SMALL(IF(SUBTOTAL(3,INDIRECT("'Einzelwertung U12'!Q"&ROW($2:$177))),#REF!),ROWS($1:19)))} -> #REF! | G19: {=IF(ROWS($1:19)>SUBTOTAL(3,#REF!),"",IF(OR(A19<>"",B19<>"",C19<>"",D19<>"",E19<>"",F19<>""),SMALL(IF(SUBTOTAL(3,INDIRECT("'Einzelwertung U12'!S"&ROW($2:$177))),#REF!),ROWS($1:19)),""))} -> #REF!
A20: {=IF(ROWS($1:20)>SUBTOTAL(3,#REF!),"",SMALL(IF(SUBTOTAL(3,INDIRECT("'Einzelwertung U12'!G"&ROW($2:$177))),#REF!),ROWS($1:20)))} -> #REF! | B20: {=IF(ROWS($1:20)>SUBTOTAL(3,#REF!),"",SMALL(IF(SUBTOTAL(3,INDIRECT("'Einzelwertung U12'!I"&ROW($2:$177))),#REF!),ROWS($1:20)))} -> #REF! | C20: {=IF(ROWS($1:20)>SUBTOTAL(3,#REF!),"",SMALL(IF(SUBTOTAL(3,INDIRECT("'Einzelwertung U12'!K"&ROW($2:$177))),#REF!),ROWS($1:20)))} -> #REF! | D20: {=IF(ROWS($1:20)>SUBTOTAL(3,#REF!),"",SMALL(IF(SUBTOTAL(3,INDIRECT("'Einzelwertung U12'!M"&ROW($2:$177))),#REF!),ROWS($1:20)))} -> #REF! | E20: {=IF(ROWS($1:20)>SUBTOTAL(3,#REF!),"",SMALL(IF(SUBTOTAL(3,INDIRECT("'Einzelwertung U12'!O"&ROW($2:$177))),#REF!),ROWS($1:20)))} -> #REF! | F20: {=IF(ROWS($1:20)>SUBTOTAL(3,#REF!),"",SMALL(IF(SUBTOTAL(3,INDIRECT("'Einzelwertung U12'!Q"&ROW($2:$177))),#REF!),ROWS($1:20)))} -> #REF! | G20: {=IF(ROWS($1:20)>SUBTOTAL(3,#REF!),"",IF(OR(A20<>"",B20<>"",C20<>"",D20<>"",E20<>"",F20<>""),SMALL(IF(SUBTOTAL(3,INDIRECT("'Einzelwertung U12'!S"&ROW($2:$177))),#REF!),ROWS($1:20)),""))} -> #REF!
A21: {=IF(ROWS($1:21)>SUBTOTAL(3,#REF!),"",SMALL(IF(SUBTOTAL(3,INDIRECT("'Einzelwertung U12'!G"&ROW($2:$177))),#REF!),ROWS($1:21)))} -> #REF! | B21: {=IF(ROWS($1:21)>SUBTOTAL(3,#REF!),"",SMALL(IF(SUBTOTAL(3,INDIRECT("'Einzelwertung U12'!I"&ROW($2:$177))),#REF!),ROWS($1:21)))} -> #REF! | C21: {=IF(ROWS($1:21)>SUBTOTAL(3,#REF!),"",SMALL(IF(SUBTOTAL(3,INDIRECT("'Einzelwertung U12'!K"&ROW($2:$177))),#REF!),ROWS($1:21)))} -> #REF! | D21: {=IF(ROWS($1:21)>SUBTOTAL(3,#REF!),"",SMALL(IF(SUBTOTAL(3,INDIRECT("'Einzelwertung U12'!M"&ROW($2:$177))),#REF!),ROWS($1:21)))} -> #REF! | E21: {=IF(ROWS($1:21)>SUBTOTAL(3,#REF!),"",SMALL(IF(SUBTOTAL(3,INDIRECT("'Einzelwertung U12'!O"&ROW($2:$177))),#REF!),ROWS($1:21)))} -> #REF! | F21: {=IF(ROWS($1:21)>SUBTOTAL(3,#REF!),"",SMALL(IF(SUBTOTAL(3,INDIRECT("'Einzelwertung U12'!Q"&ROW($2:$177))),#REF!),ROWS($1:21)))} -> #REF! | G21: {=IF(ROWS($1:21)>SUBTOTAL(3,#REF!),"",IF(OR(A21<>"",B21<>"",C21<>"",D21<>"",E21<>"",F21<>""),SMALL(IF(SUBTOTAL(3,INDIRECT("'Einzelwertung U12'!S"&ROW($2:$177))),#REF!),ROWS($1:21)),""))} -> #REF!
A22: {=IF(ROWS($1:22)>SUBTOTAL(3,#REF!),"",SMALL(IF(SUBTOTAL(3,INDIRECT("'Einzelwertung U12'!G"&ROW($2:$177))),#REF!),ROWS($1:22)))} -> #REF! | B22: {=IF(ROWS($1:22)>SUBTOTAL(3,#REF!),"",SMALL(IF(SUBTOTAL(3,INDIRECT("'Einzelwertung U12'!I"&ROW($2:$177))),#REF!),ROWS($1:22)))} -> #REF! | C22: {=IF(ROWS($1:22)>SUBTOTAL(3,#REF!),"",SMALL(IF(SUBTOTAL(3,INDIRECT("'Einzelwertung U12'!K"&ROW($2:$177))),#REF!),ROWS($1:22)))} -> #REF! | D22: {=IF(ROWS($1:22)>SUBTOTAL(3,#REF!),"",SMALL(IF(SUBTOTAL(3,INDIRECT("'Einzelwertung U12'!M"&ROW($2:$177))),#REF!),ROWS($1:22)))} -> #REF! | E22: {=IF(ROWS($1:22)>SUBTOTAL(3,#REF!),"",SMALL(IF(SUBTOTAL(3,INDIRECT("'Einzelwertung U12'!O"&ROW($2:$177))),#REF!),ROWS($1:22)))} -> #REF! | F22: {=IF(ROWS($1:22)>SUBTOTAL(3,#REF!),"",SMALL(IF(SUBTOTAL(3,INDIRECT("'Einzelwertung U12'!Q"&ROW($2:$177))),#REF!),ROWS($1:22)))} -> #REF! | G22: {=IF(ROWS($1:22)>SUBTOTAL(3,#REF!),"",IF(OR(A22<>"",B22<>"",C22<>"",D22<>"",E22<>"",F22<>""),SMALL(IF(SUBTOTAL(3,INDIRECT("'Einzelwertung U12'!S"&ROW($2:$177))),#REF!),ROWS($1:22)),""))} -> #REF!
A23: {=IF(ROWS($1:23)>SUBTOTAL(3,#REF!),"",SMALL(IF(SUBTOTAL(3,INDIRECT("'Einzelwertung U12'!G"&ROW($2:$177))),#REF!),ROWS($1:23)))} -> #REF! | B23: {=IF(ROWS($1:23)>SUBTOTAL(3,#REF!),"",SMALL(IF(SUBTOTAL(3,INDIRECT("'Einzelwertung U12'!I"&ROW($2:$177))),#REF!),ROWS($1:23)))} -> #REF! | C23: {=IF(ROWS($1:23)>SUBTOTAL(3,#REF!),"",SMALL(IF(SUBTOTAL(3,INDIRECT("'Einzelwertung U12'!K"&ROW($2:$177))),#REF!),ROWS($1:23)))} -> #REF! | D23: {=IF(ROWS($1:23)>SUBTOTAL(3,#REF!),"",SMALL(IF(SUBTOTAL(3,INDIRECT("'Einzelwertung U12'!M"&ROW($2:$177))),#REF!),ROWS($1:23)))} -> #REF! | E23: {=IF(ROWS($1:23)>SUBTOTAL(3,#REF!),"",SMALL(IF(SUBTOTAL(3,INDIRECT("'Einzelwertung U12'!O"&ROW($2:$177))),#REF!),ROWS($1:23)))} -> #REF! | F23: {=IF(ROWS($1:23)>SUBTOTAL(3,#REF!),"",SMALL(IF(SUBTOTAL(3,INDIRECT("'Einzelwertung U12'!Q"&ROW($2:$177))),#REF!),ROWS($1:23)))} -> #REF! | G23: {=IF(ROWS($1:23)>SUBTOTAL(3,#REF!),"",IF(OR(A23<>"",B23<>"",C23<>"",D23<>"",E23<>"",F23<>""),SMALL(IF(SUBTOTAL(3,INDIRECT("'Einzelwertung U12'!S"&ROW($2:$177))),#REF!),ROWS($1:23)),""))} -> #REF!
A24: {=IF(ROWS($1:24)>SUBTOTAL(3,#REF!),"",SMALL(IF(SUBTOTAL(3,INDIRECT("'Einzelwertung U12'!G"&ROW($2:$177))),#REF!),ROWS($1:24)))} -> #REF! | B24: {=IF(ROWS($1:24)>SUBTOTAL(3,#REF!),"",SMALL(IF(SUBTOTAL(3,INDIRECT("'Einzelwertung U12'!I"&ROW($2:$177))),#REF!),ROWS($1:24)))} -> #REF! | C24: {=IF(ROWS($1:24)>SUBTOTAL(3,#REF!),"",SMALL(IF(SUBTOTAL(3,INDIRECT("'Einzelwertung U12'!K"&ROW($2:$177))),#REF!),ROWS($1:24)))} -> #REF! | D24: {=IF(ROWS($1:24)>SUBTOTAL(3,#REF!),"",SMALL(IF(SUBTOTAL(3,INDIRECT("'Einzelwertung U12'!M"&ROW($2:$177))),#REF!),ROWS($1:24)))} -> #REF! | E24: {=IF(ROWS($1:24)>SUBTOTAL(3,#REF!),"",SMALL(IF(SUBTOTAL(3,INDIRECT("'Einzelwertung U12'!O"&ROW($2:$177))),#REF!),ROWS($1:24)))} -> #REF! | F24: {=IF(ROWS($1:24)>SUBTOTAL(3,#REF!),"",SMALL(IF(SUBTOTAL(3,INDIRECT("'Einzelwertung U12'!Q"&ROW($2:$177))),#REF!),ROWS($1:24)))} -> #REF! | G24: {=IF(ROWS($1:24)>SUBTOTAL(3,#REF!),"",IF(OR(A24<>"",B24<>"",C24<>"",D24<>"",E24<>"",F24<>""),SMALL(IF(SUBTOTAL(3,INDIRECT("'Einzelwertung U12'!S"&ROW($2:$177))),#REF!),ROWS($1:24)),""))} -> #REF!
A25: {=IF(ROWS($1:25)>SUBTOTAL(3,#REF!),"",SMALL(IF(SUBTOTAL(3,INDIRECT("'Einzelwertung U12'!G"&ROW($2:$177))),#REF!),ROWS($1:25)))} -> #REF! | B25: {=IF(ROWS($1:25)>SUBTOTAL(3,#REF!),"",SMALL(IF(SUBTOTAL(3,INDIRECT("'Einzelwertung U12'!I"&ROW($2:$177))),#REF!),ROWS($1:25)))} -> #REF! | C25: {=IF(ROWS($1:25)>SUBTOTAL(3,#REF!),"",SMALL(IF(SUBTOTAL(3,INDIRECT("'Einzelwertung U12'!K"&ROW($2:$177))),#REF!),ROWS($1:25)))} -> #REF! | D25: {=IF(ROWS($1:25)>SUBTOTAL(3,#REF!),"",SMALL(IF(SUBTOTAL(3,INDIRECT("'Einzelwertung U12'!M"&ROW($2:$177))),#REF!),ROWS($1:25)))} -> #REF! | E25: {=IF(ROWS($1:25)>SUBTOTAL(3,#REF!),"",SMALL(IF(SUBTOTAL(3,INDIRECT("'Einzelwertung U12'!O"&ROW($2:$177))),#REF!),ROWS($1:25)))} -> #REF! | F25: {=IF(ROWS($1:25)>SUBTOTAL(3,#REF!),"",SMALL(IF(SUBTOTAL(3,INDIRECT("'Einzelwertung U12'!Q"&ROW($2:$177))),#REF!),ROWS($1:25)))} -> #REF! | G25: {=IF(ROWS($1:25)>SUBTOTAL(3,#REF!),"",IF(OR(A25<>"",B25<>"",C25<>"",D25<>"",E25<>"",F25<>""),SMALL(IF(SUBTOTAL(3,INDIRECT("'Einzelwertung U12'!S"&ROW($2:$177))),#REF!),ROWS($1:25)),""))} -> #REF!
A26: {=IF(ROWS($1:26)>SUBTOTAL(3,#REF!),"",SMALL(IF(SUBTOTAL(3,INDIRECT("'Einzelwertung U12'!G"&ROW($2:$177))),#REF!),ROWS($1:26)))} -> #REF! | B26: {=IF(ROWS($1:26)>SUBTOTAL(3,#REF!),"",SMALL(IF(SUBTOTAL(3,INDIRECT("'Einzelwertung U12'!I"&ROW($2:$177))),#REF!),ROWS($1:26)))} -> #REF! | C26: {=IF(ROWS($1:26)>SUBTOTAL(3,#REF!),"",SMALL(IF(SUBTOTAL(3,INDIRECT("'Einzelwertung U12'!K"&ROW($2:$177))),#REF!),ROWS($1:26)))} -> #REF! | D26: {=IF(ROWS($1:26)>SUBTOTAL(3,#REF!),"",SMALL(IF(SUBTOTAL(3,INDIRECT("'Einzelwertung U12'!M"&ROW($2:$177))),#REF!),ROWS($1:26)))} -> #REF! | E26: {=IF(ROWS($1:26)>SUBTOTAL(3,#REF!),"",SMALL(IF(SUBTOTAL(3,INDIRECT("'Einzelwertung U12'!O"&ROW($2:$177))),#REF!),ROWS($1:26)))} -> #REF! | F26: {=IF(ROWS($1:26)>SUBTOTAL(3,#REF!),"",SMALL(IF(SUBTOTAL(3,INDIRECT("'Einzelwertung U12'!Q"&ROW($2:$177))),#REF!),ROWS($1:26)))} -> #REF! | G26: {=IF(ROWS($1:26)>SUBTOTAL(3,#REF!),"",IF(OR(A26<>"",B26<>"",C26<>"",D26<>"",E26<>"",F26<>""),SMALL(IF(SUBTOTAL(3,INDIRECT("'Einzelwertung U12'!S"&ROW($2:$177))),#REF!),ROWS($1:26)),""))} -> #REF!
A27: {=IF(ROWS($1:27)>SUBTOTAL(3,#REF!),"",SMALL(IF(SUBTOTAL(3,INDIRECT("'Einzelwertung U12'!G"&ROW($2:$177))),#REF!),ROWS($1:27)))} -> #REF! | B27: {=IF(ROWS($1:27)>SUBTOTAL(3,#REF!),"",SMALL(IF(SUBTOTAL(3,INDIRECT("'Einzelwertung U12'!I"&ROW($2:$177))),#REF!),ROWS($1:27)))} -> #REF! | C27: {=IF(ROWS($1:27)>SUBTOTAL(3,#REF!),"",SMALL(IF(SUBTOTAL(3,INDIRECT("'Einzelwertung U12'!K"&ROW($2:$177))),#REF!),ROWS($1:27)))} -> #REF! | D27: {=IF(ROWS($1:27)>SUBTOTAL(3,#REF!),"",SMALL(IF(SUBTOTAL(3,INDIRECT("'Einzelwertung U12'!M"&ROW($2:$177))),#REF!),ROWS($1:27)))} -> #REF! | E27: {=IF(ROWS($1:27)>SUBTOTAL(3,#REF!),"",SMALL(IF(SUBTOTAL(3,INDIRECT("'Einzelwertung U12'!O"&ROW($2:$177))),#REF!),ROWS($1:27)))} -> #REF! | F27: {=IF(ROWS($1:27)>SUBTOTAL(3,#REF!),"",SMALL(IF(SUBTOTAL(3,INDIRECT("'Einzelwertung U12'!Q"&ROW($2:$177))),#REF!),ROWS($1:27)))} -> #REF! | G27: {=IF(ROWS($1:27)>SUBTOTAL(3,#REF!),"",IF(OR(A27<>"",B27<>"",C27<>"",D27<>"",E27<>"",F27<>""),SMALL(IF(SUBTOTAL(3,INDIRECT("'Einzelwertung U12'!S"&ROW($2:$177))),#REF!),ROWS($1:27)),""))} -> #REF!
A28: {=IF(ROWS($1:28)>SUBTOTAL(3,#REF!),"",SMALL(IF(SUBTOTAL(3,INDIRECT("'Einzelwertung U12'!G"&ROW($2:$177))),#REF!),ROWS($1:28)))} -> #REF! | B28: {=IF(ROWS($1:28)>SUBTOTAL(3,#REF!),"",SMALL(IF(SUBTOTAL(3,INDIRECT("'Einzelwertung U12'!I"&ROW($2:$177))),#REF!),ROWS($1:28)))} -> #REF! | C28: {=IF(ROWS($1:28)>SUBTOTAL(3,#REF!),"",SMALL(IF(SUBTOTAL(3,INDIRECT("'Einzelwertung U12'!K"&ROW($2:$177))),#REF!),ROWS($1:28)))} -> #REF! | D28: {=IF(ROWS($1:28)>SUBTOTAL(3,#REF!),"",SMALL(IF(SUBTOTAL(3,INDIRECT("'Einzelwertung U12'!M"&ROW($2:$177))),#REF!),ROWS($1:28)))} -> #REF! | E28: {=IF(ROWS($1:28)>SUBTOTAL(3,#REF!),"",SMALL(IF(SUBTOTAL(3,INDIRECT("'Einzelwertung U12'!O"&ROW($2:$177))),#REF!),ROWS($1:28)))} -> #REF! | F28: {=IF(ROWS($1:28)>SUBTOTAL(3,#REF!),"",SMALL(IF(SUBTOTAL(3,INDIRECT("'Einzelwertung U12'!Q"&ROW($2:$177))),#REF!),ROWS($1:28)))} -> #REF! | G28: {=IF(ROWS($1:28)>SUBTOTAL(3,#REF!),"",IF(OR(A28<>"",B28<>"",C28<>"",D28<>"",E28<>"",F28<>""),SMALL(IF(SUBTOTAL(3,INDIRECT("'Einzelwertung U12'!S"&ROW($2:$177))),#REF!),ROWS($1:28)),""))} -> #REF!
A29: {=IF(ROWS($1:29)>SUBTOTAL(3,#REF!),"",SMALL(IF(SUBTOTAL(3,INDIRECT("'Einzelwertung U12'!G"&ROW($2:$177))),#REF!),ROWS($1:29)))} -> #REF! | B29: {=IF(ROWS($1:29)>SUBTOTAL(3,#REF!),"",SMALL(IF(SUBTOTAL(3,INDIRECT("'Einzelwertung U12'!I"&ROW($2:$177))),#REF!),ROWS($1:29)))} -> #REF! | C29: {=IF(ROWS($1:29)>SUBTOTAL(3,#REF!),"",SMALL(IF(SUBTOTAL(3,INDIRECT("'Einzelwertung U12'!K"&ROW($2:$177))),#REF!),ROWS($1:29)))} -> #REF! | D29: {=IF(ROWS($1:29)>SUBTOTAL(3,#REF!),"",SMALL(IF(SUBTOTAL(3,INDIRECT("'Einzelwertung U12'!M"&ROW($2:$177))),#REF!),ROWS($1:29)))} -> #REF! | E29: {=IF(ROWS($1:29)>SUBTOTAL(3,#REF!),"",SMALL(IF(SUBTOTAL(3,INDIRECT("'Einzelwertung U12'!O"&ROW($2:$177))),#REF!),ROWS($1:29)))} -> #REF! | F29: {=IF(ROWS($1:29)>SUBTOTAL(3,#REF!),"",SMALL(IF(SUBTOTAL(3,INDIRECT("'Einzelwertung U12'!Q"&ROW($2:$177))),#REF!),ROWS($1:29)))} -> #REF! | G29: {=IF(ROWS($1:29)>SUBTOTAL(3,#REF!),"",IF(OR(A29<>"",B29<>"",C29<>"",D29<>"",E29<>"",F29<>""),SMALL(IF(SUBTOTAL(3,INDIRECT("'Einzelwertung U12'!S"&ROW($2:$177))),#REF!),ROWS($1:29)),""))} -> #REF!
A30: {=IF(ROWS($1:30)>SUBTOTAL(3,#REF!),"",SMALL(IF(SUBTOTAL(3,INDIRECT("'Einzelwertung U12'!G"&ROW($2:$177))),#REF!),ROWS($1:30)))} -> #REF! | B30: {=IF(ROWS($1:30)>SUBTOTAL(3,#REF!),"",SMALL(IF(SUBTOTAL(3,INDIRECT("'Einzelwertung U12'!I"&ROW($2:$177))),#REF!),ROWS($1:30)))} -> #REF! | C30: {=IF(ROWS($1:30)>SUBTOTAL(3,#REF!),"",SMALL(IF(SUBTOTAL(3,INDIRECT("'Einzelwertung U12'!K"&ROW($2:$177))),#REF!),ROWS($1:30)))} -> #REF! | D30: {=IF(ROWS($1:30)>SUBTOTAL(3,#REF!),"",SMALL(IF(SUBTOTAL(3,INDIRECT("'Einzelwertung U12'!M"&ROW($2:$177))),#REF!),ROWS($1:30)))} -> #REF! | E30: {=IF(ROWS($1:30)>SUBTOTAL(3,#REF!),"",SMALL(IF(SUBTOTAL(3,INDIRECT("'Einzelwertung U12'!O"&ROW($2:$177))),#REF!),ROWS($1:30)))} -> #REF! | F30: {=IF(ROWS($1:30)>SUBTOTAL(3,#REF!),"",SMALL(IF(SUBTOTAL(3,INDIRECT("'Einzelwertung U12'!Q"&ROW($2:$177))),#REF!),ROWS($1:30)))} -> #REF! | G30: {=IF(ROWS($1:30)>SUBTOTAL(3,#REF!),"",IF(OR(A30<>"",B30<>"",C30<>"",D30<>"",E30<>"",F30<>""),SMALL(IF(SUBTOTAL(3,INDIRECT("'Einzelwertung U12'!S"&ROW($2:$177))),#REF!),ROWS($1:30)),""))} -> #REF!
A31: {=IF(ROWS($1:31)>SUBTOTAL(3,#REF!),"",SMALL(IF(SUBTOTAL(3,INDIRECT("'Einzelwertung U12'!G"&ROW($2:$177))),#REF!),ROWS($1:31)))} -> #REF! | B31: {=IF(ROWS($1:31)>SUBTOTAL(3,#REF!),"",SMALL(IF(SUBTOTAL(3,INDIRECT("'Einzelwertung U12'!I"&ROW($2:$177))),#REF!),ROWS($1:31)))} -> #REF! | C31: {=IF(ROWS($1:31)>SUBTOTAL(3,#REF!),"",SMALL(IF(SUBTOTAL(3,INDIRECT("'Einzelwertung U12'!K"&ROW($2:$177))),#REF!),ROWS($1:31)))} -> #REF! | D31: {=IF(ROWS($1:31)>SUBTOTAL(3,#REF!),"",SMALL(IF(SUBTOTAL(3,INDIRECT("'Einzelwertung U12'!M"&ROW($2:$177))),#REF!),ROWS($1:31)))} -> #REF! | E31: {=IF(ROWS($1:31)>SUBTOTAL(3,#REF!),"",SMALL(IF(SUBTOTAL(3,INDIRECT("'Einzelwertung U12'!O"&ROW($2:$177))),#REF!),ROWS($1:31)))} -> #REF! | F31: {=IF(ROWS($1:31)>SUBTOTAL(3,#REF!),"",SMALL(IF(SUBTOTAL(3,INDIRECT("'Einzelwertung U12'!Q"&ROW($2:$177))),#REF!),ROWS($1:31)))} -> #REF! | G31: {=IF(ROWS($1:31)>SUBTOTAL(3,#REF!),"",IF(OR(A31<>"",B31<>"",C31<>"",D31<>"",E31<>"",F31<>""),SMALL(IF(SUBTOTAL(3,INDIRECT("'Einzelwertung U12'!S"&ROW($2:$177))),#REF!),ROWS($1:31)),""))} -> #REF!
A32: {=IF(ROWS($1:32)>SUBTOTAL(3,#REF!),"",SMALL(IF(SUBTOTAL(3,INDIRECT("'Einzelwertung U12'!G"&ROW($2:$177))),#REF!),ROWS($1:32)))} -> #REF! | B32: {=IF(ROWS($1:32)>SUBTOTAL(3,#REF!),"",SMALL(IF(SUBTOTAL(3,INDIRECT("'Einzelwertung U12'!I"&ROW($2:$177))),#REF!),ROWS($1:32)))} -> #REF! | C32: {=IF(ROWS($1:32)>SUBTOTAL(3,#REF!),"",SMALL(IF(SUBTOTAL(3,INDIRECT("'Einzelwertung U12'!K"&ROW($2:$177))),#REF!),ROWS($1:32)))} -> #REF! | D32: {=IF(ROWS($1:32)>SUBTOTAL(3,#REF!),"",SMALL(IF(SUBTOTAL(3,INDIRECT("'Einzelwertung U12'!M"&ROW($2:$177))),#REF!),ROWS($1:32)))} -> #REF! | E32: {=IF(ROWS($1:32)>SUBTOTAL(3,#REF!),"",SMALL(IF(SUBTOTAL(3,INDIRECT("'Einzelwertung U12'!O"&ROW($2:$177))),#REF!),ROWS($1:32)))} -> #REF! | F32: {=IF(ROWS($1:32)>SUBTOTAL(3,#REF!),"",SMALL(IF(SUBTOTAL(3,INDIRECT("'Einzelwertung U12'!Q"&ROW($2:$177))),#REF!),ROWS($1:32)))} -> #REF! | G32: {=IF(ROWS($1:32)>SUBTOTAL(3,#REF!),"",IF(OR(A32<>"",B32<>"",C32<>"",D32<>"",E32<>"",F32<>""),SMALL(IF(SUBTOTAL(3,INDIRECT("'Einzelwertung U12'!S"&ROW($2:$177))),#REF!),ROWS($1:32)),""))} -> #REF!
A33: {=IF(ROWS($1:33)>SUBTOTAL(3,#REF!),"",SMALL(IF(SUBTOTAL(3,INDIRECT("'Einzelwertung U12'!G"&ROW($2:$177))),#REF!),ROWS($1:33)))} -> #REF! | B33: {=IF(ROWS($1:33)>SUBTOTAL(3,#REF!),"",SMALL(IF(SUBTOTAL(3,INDIRECT("'Einzelwertung U12'!I"&ROW($2:$177))),#REF!),ROWS($1:33)))} -> #REF! | C33: {=IF(ROWS($1:33)>SUBTOTAL(3,#REF!),"",SMALL(IF(SUBTOTAL(3,INDIRECT("'Einzelwertung U12'!K"&ROW($2:$177))),#REF!),ROWS($1:33)))} -> #REF! | D33: {=IF(ROWS($1:33)>SUBTOTAL(3,#REF!),"",SMALL(IF(SUBTOTAL(3,INDIRECT("'Einzelwertung U12'!M"&ROW($2:$177))),#REF!),ROWS($1:33)))} -> #REF! | E33: {=IF(ROWS($1:33)>SUBTOTAL(3,#REF!),"",SMALL(IF(SUBTOTAL(3,INDIRECT("'Einzelwertung U12'!O"&ROW($2:$177))),#REF!),ROWS($1:33)))} -> #REF! | F33: {=IF(ROWS($1:33)>SUBTOTAL(3,#REF!),"",SMALL(IF(SUBTOTAL(3,INDIRECT("'Einzelwertung U12'!Q"&ROW($2:$177))),#REF!),ROWS($1:33)))} -> #REF! | G33: {=IF(ROWS($1:33)>SUBTOTAL(3,#REF!),"",IF(OR(A33<>"",B33<>"",C33<>"",D33<>"",E33<>"",F33<>""),SMALL(IF(SUBTOTAL(3,INDIRECT("'Einzelwertung U12'!S"&ROW($2:$177))),#REF!),ROWS($1:33)),""))} -> #REF!
A34: {=IF(ROWS($1:34)>SUBTOTAL(3,#REF!),"",SMALL(IF(SUBTOTAL(3,INDIRECT("'Einzelwertung U12'!G"&ROW($2:$177))),#REF!),ROWS($1:34)))} -> #REF! | B34: {=IF(ROWS($1:34)>SUBTOTAL(3,#REF!),"",SMALL(IF(SUBTOTAL(3,INDIRECT("'Einzelwertung U12'!I"&ROW($2:$177))),#REF!),ROWS($1:34)))} -> #REF! | C34: {=IF(ROWS($1:34)>SUBTOTAL(3,#REF!),"",SMALL(IF(SUBTOTAL(3,INDIRECT("'Einzelwertung U12'!K"&ROW($2:$177))),#REF!),ROWS($1:34)))} -> #REF! | D34: {=IF(ROWS($1:34)>SUBTOTAL(3,#REF!),"",SMALL(IF(SUBTOTAL(3,INDIRECT("'Einzelwertung U12'!M"&ROW($2:$177))),#REF!),ROWS($1:34)))} -> #REF! | E34: {=IF(ROWS($1:34)>SUBTOTAL(3,#REF!),"",SMALL(IF(SUBTOTAL(3,INDIRECT("'Einzelwertung U12'!O"&ROW($2:$177))),#REF!),ROWS($1:34)))} -> #REF! | F34: {=IF(ROWS($1:34)>SUBTOTAL(3,#REF!),"",SMALL(IF(SUBTOTAL(3,INDIRECT("'Einzelwertung U12'!Q"&ROW($2:$177))),#REF!),ROWS($1:34)))} -> #REF! | G34: {=IF(ROWS($1:34)>SUBTOTAL(3,#REF!),"",IF(OR(A34<>"",B34<>"",C34<>"",D34<>"",E34<>"",F34<>""),SMALL(IF(SUBTOTAL(3,INDIRECT("'Einzelwertung U12'!S"&ROW($2:$177))),#REF!),ROWS($1:34)),""))} -> #REF!
A35: {=IF(ROWS($1:35)>SUBTOTAL(3,#REF!),"",SMALL(IF(SUBTOTAL(3,INDIRECT("'Einzelwertung U12'!G"&ROW($2:$177))),#REF!),ROWS($1:35)))} -> #REF! | B35: {=IF(ROWS($1:35)>SUBTOTAL(3,#REF!),"",SMALL(IF(SUBTOTAL(3,INDIRECT("'Einzelwertung U12'!I"&ROW($2:$177))),#REF!),ROWS($1:35)))} -> #REF! | C35: {=IF(ROWS($1:35)>SUBTOTAL(3,#REF!),"",SMALL(IF(SUBTOTAL(3,INDIRECT("'Einzelwertung U12'!K"&ROW($2:$177))),#REF!),ROWS($1:35)))} -> #REF! | D35: {=IF(ROWS($1:35)>SUBTOTAL(3,#REF!),"",SMALL(IF(SUBTOTAL(3,INDIRECT("'Einzelwertung U12'!M"&ROW($2:$177))),#REF!),ROWS($1:35)))} -> #REF! | E35: {=IF(ROWS($1:35)>SUBTOTAL(3,#REF!),"",SMALL(IF(SUBTOTAL(3,INDIRECT("'Einzelwertung U12'!O"&ROW($2:$177))),#REF!),ROWS($1:35)))} -> #REF! | F35: {=IF(ROWS($1:35)>SUBTOTAL(3,#REF!),"",SMALL(IF(SUBTOTAL(3,INDIRECT("'Einzelwertung U12'!Q"&ROW($2:$177))),#REF!),ROWS($1:35)))} -> #REF! | G35: {=IF(ROWS($1:35)>SUBTOTAL(3,#REF!),"",IF(OR(A35<>"",B35<>"",C35<>"",D35<>"",E35<>"",F35<>""),SMALL(IF(SUBTOTAL(3,INDIRECT("'Einzelwertung U12'!S"&ROW($2:$177))),#REF!),ROWS($1:35)),""))} -> #REF!
A36: {=IF(ROWS($1:36)>SUBTOTAL(3,#REF!),"",SMALL(IF(SUBTOTAL(3,INDIRECT("'Einzelwertung U12'!G"&ROW($2:$177))),#REF!),ROWS($1:36)))} -> #REF! | B36: {=IF(ROWS($1:36)>SUBTOTAL(3,#REF!),"",SMALL(IF(SUBTOTAL(3,INDIRECT("'Einzelwertung U12'!I"&ROW($2:$177))),#REF!),ROWS($1:36)))} -> #REF! | C36: {=IF(ROWS($1:36)>SUBTOTAL(3,#REF!),"",SMALL(IF(SUBTOTAL(3,INDIRECT("'Einzelwertung U12'!K"&ROW($2:$177))),#REF!),ROWS($1:36)))} -> #REF! | D36: {=IF(ROWS($1:36)>SUBTOTAL(3,#REF!),"",SMALL(IF(SUBTOTAL(3,INDIRECT("'Einzelwertung U12'!M"&ROW($2:$177))),#REF!),ROWS($1:36)))} -> #REF! | E36: {=IF(ROWS($1:36)>SUBTOTAL(3,#REF!),"",SMALL(IF(SUBTOTAL(3,INDIRECT("'Einzelwertung U12'!O"&ROW($2:$177))),#REF!),ROWS($1:36)))} -> #REF! | F36: {=IF(ROWS($1:36)>SUBTOTAL(3,#REF!),"",SMALL(IF(SUBTOTAL(3,INDIRECT("'Einzelwertung U12'!Q"&ROW($2:$177))),#REF!),ROWS($1:36)))} -> #REF! | G36: {=IF(ROWS($1:36)>SUBTOTAL(3,#REF!),"",IF(OR(A36<>"",B36<>"",C36<>"",D36<>"",E36<>"",F36<>""),SMALL(IF(SUBTOTAL(3,INDIRECT("'Einzelwertung U12'!S"&ROW($2:$177))),#REF!),ROWS($1:36)),""))} -> #REF!
A37: {=IF(ROWS($1:37)>SUBTOTAL(3,#REF!),"",SMALL(IF(SUBTOTAL(3,INDIRECT("'Einzelwertung U12'!G"&ROW($2:$177))),#REF!),ROWS($1:37)))} -> #REF! | B37: {=IF(ROWS($1:37)>SUBTOTAL(3,#REF!),"",SMALL(IF(SUBTOTAL(3,INDIRECT("'Einzelwertung U12'!I"&ROW($2:$177))),#REF!),ROWS($1:37)))} -> #REF! | C37: {=IF(ROWS($1:37)>SUBTOTAL(3,#REF!),"",SMALL(IF(SUBTOTAL(3,INDIRECT("'Einzelwertung U12'!K"&ROW($2:$177))),#REF!),ROWS($1:37)))} -> #REF! | D37: {=IF(ROWS($1:37)>SUBTOTAL(3,#REF!),"",SMALL(IF(SUBTOTAL(3,INDIRECT("'Einzelwertung U12'!M"&ROW($2:$177))),#REF!),ROWS($1:37)))} -> #REF! | E37: {=IF(ROWS($1:37)>SUBTOTAL(3,#REF!),"",SMALL(IF(SUBTOTAL(3,INDIRECT("'Einzelwertung U12'!O"&ROW($2:$177))),#REF!),ROWS($1:37)))} -> #REF! | F37: {=IF(ROWS($1:37)>SUBTOTAL(3,#REF!),"",SMALL(IF(SUBTOTAL(3,INDIRECT("'Einzelwertung U12'!Q"&ROW($2:$177))),#REF!),ROWS($1:37)))} -> #REF! | G37: {=IF(ROWS($1:37)>SUBTOTAL(3,#REF!),"",IF(OR(A37<>"",B37<>"",C37<>"",D37<>"",E37<>"",F37<>""),SMALL(IF(SUBTOTAL(3,INDIRECT("'Einzelwertung U12'!S"&ROW($2:$177))),#REF!),ROWS($1:37)),""))} -> #REF!
A38: {=IF(ROWS($1:38)>SUBTOTAL(3,#REF!),"",SMALL(IF(SUBTOTAL(3,INDIRECT("'Einzelwertung U12'!G"&ROW($2:$177))),#REF!),ROWS($1:38)))} -> #REF! | B38: {=IF(ROWS($1:38)>SUBTOTAL(3,#REF!),"",SMALL(IF(SUBTOTAL(3,INDIRECT("'Einzelwertung U12'!I"&ROW($2:$177))),#REF!),ROWS($1:38)))} -> #REF! | C38: {=IF(ROWS($1:38)>SUBTOTAL(3,#REF!),"",SMALL(IF(SUBTOTAL(3,INDIRECT("'Einzelwertung U12'!K"&ROW($2:$177))),#REF!),ROWS($1:38)))} -> #REF! | D38: {=IF(ROWS($1:38)>SUBTOTAL(3,#REF!),"",SMALL(IF(SUBTOTAL(3,INDIRECT("'Einzelwertung U12'!M"&ROW($2:$177))),#REF!),ROWS($1:38)))} -> #REF! | E38: {=IF(ROWS($1:38)>SUBTOTAL(3,#REF!),"",SMALL(IF(SUBTOTAL(3,INDIRECT("'Einzelwertung U12'!O"&ROW($2:$177))),#REF!),ROWS($1:38)))} -> #REF! | F38: {=IF(ROWS($1:38)>SUBTOTAL(3,#REF!),"",SMALL(IF(SUBTOTAL(3,INDIRECT("'Einzelwertung U12'!Q"&ROW($2:$177))),#REF!),ROWS($1:38)))} -> #REF! | G38: {=IF(ROWS($1:38)>SUBTOTAL(3,#REF!),"",IF(OR(A38<>"",B38<>"",C38<>"",D38<>"",E38<>"",F38<>""),SMALL(IF(SUBTOTAL(3,INDIRECT("'Einzelwertung U12'!S"&ROW($2:$177))),#REF!),ROWS($1:38)),""))} -> #REF!
A39: {=IF(ROWS($1:39)>SUBTOTAL(3,#REF!),"",SMALL(IF(SUBTOTAL(3,INDIRECT("'Einzelwertung U12'!G"&ROW($2:$177))),#REF!),ROWS($1:39)))} -> #REF! | B39: {=IF(ROWS($1:39)>SUBTOTAL(3,#REF!),"",SMALL(IF(SUBTOTAL(3,INDIRECT("'Einzelwertung U12'!I"&ROW($2:$177))),#REF!),ROWS($1:39)))} -> #REF! | C39: {=IF(ROWS($1:39)>SUBTOTAL(3,#REF!),"",SMALL(IF(SUBTOTAL(3,INDIRECT("'Einzelwertung U12'!K"&ROW($2:$177))),#REF!),ROWS($1:39)))} -> #REF! | D39: {=IF(ROWS($1:39)>SUBTOTAL(3,#REF!),"",SMALL(IF(SUBTOTAL(3,INDIRECT("'Einzelwertung U12'!M"&ROW($2:$177))),#REF!),ROWS($1:39)))} -> #REF! | E39: {=IF(ROWS($1:39)>SUBTOTAL(3,#REF!),"",SMALL(IF(SUBTOTAL(3,INDIRECT("'Einzelwertung U12'!O"&ROW($2:$177))),#REF!),ROWS($1:39)))} -> #REF! | F39: {=IF(ROWS($1:39)>SUBTOTAL(3,#REF!),"",SMALL(IF(SUBTOTAL(3,INDIRECT("'Einzelwertung U12'!Q"&ROW($2:$177))),#REF!),ROWS($1:39)))} -> #REF! | G39: {=IF(ROWS($1:39)>SUBTOTAL(3,#REF!),"",IF(OR(A39<>"",B39<>"",C39<>"",D39<>"",E39<>"",F39<>""),SMALL(IF(SUBTOTAL(3,INDIRECT("'Einzelwertung U12'!S"&ROW($2:$177))),#REF!),ROWS($1:39)),""))} -> #REF!
A40: {=IF(ROWS($1:40)>SUBTOTAL(3,#REF!),"",SMALL(IF(SUBTOTAL(3,INDIRECT("'Einzelwertung U12'!G"&ROW($2:$177))),#REF!),ROWS($1:40)))} -> #REF! | B40: {=IF(ROWS($1:40)>SUBTOTAL(3,#REF!),"",SMALL(IF(SUBTOTAL(3,INDIRECT("'Einzelwertung U12'!I"&ROW($2:$177))),#REF!),ROWS($1:40)))} -> #REF! | C40: {=IF(ROWS($1:40)>SUBTOTAL(3,#REF!),"",SMALL(IF(SUBTOTAL(3,INDIRECT("'Einzelwertung U12'!K"&ROW($2:$177))),#REF!),ROWS($1:40)))} -> #REF! | D40: {=IF(ROWS($1:40)>SUBTOTAL(3,#REF!),"",SMALL(IF(SUBTOTAL(3,INDIRECT("'Einzelwertung U12'!M"&ROW($2:$177))),#REF!),ROWS($1:40)))} -> #REF! | E40: {=IF(ROWS($1:40)>SUBTOTAL(3,#REF!),"",SMALL(IF(SUBTOTAL(3,INDIRECT("'Einzelwertung U12'!O"&ROW($2:$177))),#REF!),ROWS($1:40)))} -> #REF! | F40: {=IF(ROWS($1:40)>SUBTOTAL(3,#REF!),"",SMALL(IF(SUBTOTAL(3,INDIRECT("'Einzelwertung U12'!Q"&ROW($2:$177))),#REF!),ROWS($1:40)))} -> #REF! | G40: {=IF(ROWS($1:40)>SUBTOTAL(3,#REF!),"",IF(OR(A40<>"",B40<>"",C40<>"",D40<>"",E40<>"",F40<>""),SMALL(IF(SUBTOTAL(3,INDIRECT("'Einzelwertung U12'!S"&ROW($2:$177))),#REF!),ROWS($1:40)),""))} -> #REF!
...

Sheet Teams U8
A1: Team | B1: Riege | C1: Veranstaltungsname | D1: Datum | E1: Ort
A2: =IF('U8'!G2="","",'U8'!G2) | B2: =IF('U8'!I2="","",'U8'!I2) | C2: =#REF! -> #REF! | D2: =#REF! -> #REF! | E2: =#REF! -> #REF!
A3: =IF('U8'!G13="","",'U8'!G13) | B3: =IF('U8'!I13="","",'U8'!I13) | C3: =#REF! -> #REF! | D3: =#REF! -> #REF! | E3: =#REF! -> #REF!
A4: =IF('U8'!G24="","",'U8'!G24) | B4: =IF('U8'!I24="","",'U8'!I24) | C4: =#REF! -> #REF! | D4: =#REF! -> #REF! | E4: =#REF! -> #REF!
A5: =IF('U8'!G35="","",'U8'!G35) | B5: =IF('U8'!I35="","",'U8'!I35) | C5: =#REF! -> #REF! | D5: =#REF! -> #REF! | E5: =#REF! -> #REF!
A6: =IF('U8'!G46="","",'U8'!G46) | B6: =IF('U8'!I46="","",'U8'!I46) | C6: =#REF! -> #REF! | D6: =#REF! -> #REF! | E6: =#REF! -> #REF!
A7: =IF('U8'!G57="","",'U8'!G57) | B7: =IF('U8'!I57="","",'U8'!I57) | C7: =#REF! -> #REF! | D7: =#REF! -> #REF! | E7: =#REF! -> #REF!
A8: =IF('U8'!G68="","",'U8'!G68) | B8: =IF('U8'!I68="","",'U8'!I68) | C8: =#REF! -> #REF! | D8: =#REF! -> #REF! | E8: =#REF! -> #REF!
A9: =IF('U8'!G79="","",'U8'!G79) | B9: =IF('U8'!I79="","",'U8'!I79) | C9: =#REF! -> #REF! | D9: =#REF! -> #REF! | E9: =#REF! -> #REF!
A10: =IF('U8'!G90="","",'U8'!G90) | B10: =IF('U8'!I90="","",'U8'!I90) | C10: =#REF! -> #REF! | D10: =#REF! -> #REF! | E10: =#REF! -> #REF!
A11: =IF('U8'!G101="","",'U8'!G101) | B11: =IF('U8'!I101="","",'U8'!I101) | C11: =#REF! -> #REF! | D11: =#REF! -> #REF! | E11: =#REF! -> #REF!
A12: =IF('U8'!G112="","",'U8'!G112) | B12: =IF('U8'!I112="","",'U8'!I112) | C12: =#REF! -> #REF! | D12: =#REF! -> #REF! | E12: =#REF! -> #REF!
A13: =IF('U8'!G123="","",'U8'!G123) | B13: =IF('U8'!I123="","",'U8'!I123) | C13: =#REF! -> #REF! | D13: =#REF! -> #REF! | E13: =#REF! -> #REF!
A14: =IF('U8'!G134="","",'U8'!G134) | B14: =IF('U8'!I134="","",'U8'!I134) | C14: =#REF! -> #REF! | D14: =#REF! -> #REF! | E14: =#REF! -> #REF!
A15: =IF('U8'!G145="","",'U8'!G145) | B15: =IF('U8'!I145="","",'U8'!I145) | C15: =#REF! -> #REF! | D15: =#REF! -> #REF! | E15: =#REF! -> #REF!
A16: =IF('U8'!G156="","",'U8'!G156) | B16: =IF('U8'!I156="","",'U8'!I156) | C16: =#REF! -> #REF! | D16: =#REF! -> #REF! | E16: =#REF! -> #REF!
A17: =IF('U8'!G167="","",'U8'!G167) | B17: =IF('U8'!I167="","",'U8'!I167) | C17: =#REF! -> #REF! | D17: =#REF! -> #REF! | E17: =#REF! -> #REF!

Sheet Teams U10
A1: Team | B1: Riege | C1: Veranstaltungsname | D1: Datum | E1: Ort
A2: =IF('U10'!G2="","",'U10'!G2) | B2: =IF('U10'!I2="","",'U10'!I2) | C2: =#REF! -> #REF! | D2: =#REF! -> #REF! | E2: =#REF! -> #REF!
A3: =IF('U10'!G13="","",'U10'!G13) | B3: =IF('U10'!I13="","",'U10'!I13) | C3: =#REF! -> #REF! | D3: =#REF! -> #REF! | E3: =#REF! -> #REF!
A4: =IF('U10'!G24="","",'U10'!G24) | B4: =IF('U10'!I24="","",'U10'!I24) | C4: =#REF! -> #REF! | D4: =#REF! -> #REF! | E4: =#REF! -> #REF!
A5: =IF('U10'!G35="","",'U10'!G35) | B5: =IF('U10'!I35="","",'U10'!I35) | C5: =#REF! -> #REF! | D5: =#REF! -> #REF! | E5: =#REF! -> #REF!
A6: =IF('U10'!G46="","",'U10'!G46) | B6: =IF('U10'!I46="","",'U10'!I46) | C6: =#REF! -> #REF! | D6: =#REF! -> #REF! | E6: =#REF! -> #REF!
A7: =IF('U10'!G57="","",'U10'!G57) | B7: =IF('U10'!I57="","",'U10'!I57) | C7: =#REF! -> #REF! | D7: =#REF! -> #REF! | E7: =#REF! -> #REF!
A8: =IF('U10'!G68="","",'U10'!G68) | B8: =IF('U10'!I68="","",'U10'!I68) | C8: =#REF! -> #REF! | D8: =#REF! -> #REF! | E8: =#REF! -> #REF!
A9: =IF('U10'!G79="","",'U10'!G79) | B9: =IF('U10'!I79="","",'U10'!I79) | C9: =#REF! -> #REF! | D9: =#REF! -> #REF! | E9: =#REF! -> #REF!
A10: =IF('U10'!G90="","",'U10'!G90) | B10: =IF('U10'!I90="","",'U10'!I90) | C10: =#REF! -> #REF! | D10: =#REF! -> #REF! | E10: =#REF! -> #REF!
A11: =IF('U10'!G101="","",'U10'!G101) | B11: =IF('U10'!I101="","",'U10'!I101) | C11: =#REF! -> #REF! | D11: =#REF! -> #REF! | E11: =#REF! -> #REF!
A12: =IF('U10'!G112="","",'U10'!G112) | B12: =IF('U10'!I112="","",'U10'!I112) | C12: =#REF! -> #REF! | D12: =#REF! -> #REF! | E12: =#REF! -> #REF!
A13: =IF('U10'!G123="","",'U10'!G123) | B13: =IF('U10'!I123="","",'U10'!I123) | C13: =#REF! -> #REF! | D13: =#REF! -> #REF! | E13: =#REF! -> #REF!
A14: =IF('U10'!G134="","",'U10'!G134) | B14: =IF('U10'!I134="","",'U10'!I134) | C14: =#REF! -> #REF! | D14: =#REF! -> #REF! | E14: =#REF! -> #REF!
A15: =IF('U10'!G145="","",'U10'!G145) | B15: =IF('U10'!I145="","",'U10'!I145) | C15: =#REF! -> #REF! | D15: =#REF! -> #REF! | E15: =#REF! -> #REF!
A16: =IF('U10'!G156="","",'U10'!G156) | B16: =IF('U10'!I156="","",'U10'!I156) | C16: =#REF! -> #REF! | D16: =#REF! -> #REF! | E16: =#REF! -> #REF!
A17: =IF('U10'!G167="","",'U10'!G167) | B17: =IF('U10'!I167="","",'U10'!I167) | C17: =#REF! -> #REF! | D17: =#REF! -> #REF! | E17: =#REF! -> #REF!

Sheet Teams U12
A1: Team | B1: Riege | C1: Veranstaltungsname | D1: Datum | E1: Ort
A2: =IF('U12'!G2="","",'U12'!G2) | B2: =IF('U12'!I2="","",'U12'!I2) | C2: =#REF! -> #REF! | D2: =#REF! -> #REF! | E2: =#REF! -> #REF!
A3: =IF('U12'!G13="","",'U12'!G13) | B3: =IF('U12'!I13="","",'U12'!I13) | C3: =#REF! -> #REF! | D3: =#REF! -> #REF! | E3: =#REF! -> #REF!
A4: =IF('U12'!G24="","",'U12'!G24) | B4: =IF('U12'!I24="","",'U12'!I24) | C4: =#REF! -> #REF! | D4: =#REF! -> #REF! | E4: =#REF! -> #REF!
A5: =IF('U12'!G35="","",'U12'!G35) | B5: =IF('U12'!I35="","",'U12'!I35) | C5: =#REF! -> #REF! | D5: =#REF! -> #REF! | E5: =#REF! -> #REF!
A6: =IF('U12'!G46="","",'U12'!G46) | B6: =IF('U12'!I46="","",'U12'!I46) | C6: =#REF! -> #REF! | D6: =#REF! -> #REF! | E6: =#REF! -> #REF!
A7: =IF('U12'!G57="","",'U12'!G57) | B7: =IF('U12'!I57="","",'U12'!I57) | C7: =#REF! -> #REF! | D7: =#REF! -> #REF! | E7: =#REF! -> #REF!
A8: =IF('U12'!G68="","",'U12'!G68) | B8: =IF('U12'!I68="","",'U12'!I68) | C8: =#REF! -> #REF! | D8: =#REF! -> #REF! | E8: =#REF! -> #REF!
A9: =IF('U12'!G79="","",'U12'!G79) | B9: =IF('U12'!I79="","",'U12'!I79) | C9: =#REF! -> #REF! | D9: =#REF! -> #REF! | E9: =#REF! -> #REF!
A10: =IF('U12'!G90="","",'U12'!G90) | B10: =IF('U12'!I90="","",'U12'!I90) | C10: =#REF! -> #REF! | D10: =#REF! -> #REF! | E10: =#REF! -> #REF!
A11: =IF('U12'!G101="","",'U12'!G101) | B11: =IF('U12'!I101="","",'U12'!I101) | C11: =#REF! -> #REF! | D11: =#REF! -> #REF! | E11: =#REF! -> #REF!
A12: =IF('U12'!G112="","",'U12'!G112) | B12: =IF('U12'!I112="","",'U12'!I112) | C12: =#REF! -> #REF! | D12: =#REF! -> #REF! | E12: =#REF! -> #REF!
A13: =IF('U12'!G123="","",'U12'!G123) | B13: =IF('U12'!I123="","",'U12'!I123) | C13: =#REF! -> #REF! | D13: =#REF! -> #REF! | E13: =#REF! -> #REF!
A14: =IF('U12'!G134="","",'U12'!G134) | B14: =IF('U12'!I134="","",'U12'!I134) | C14: =#REF! -> #REF! | D14: =#REF! -> #REF! | E14: =#REF! -> #REF!
A15: =IF('U12'!G145="","",'U12'!G145) | B15: =IF('U12'!I145="","",'U12'!I145) | C15: =#REF! -> #REF! | D15: =#REF! -> #REF! | E15: =#REF! -> #REF!
A16: =IF('U12'!G156="","",'U12'!G156) | B16: =IF('U12'!I156="","",'U12'!I156) | C16: =#REF! -> #REF! | D16: =#REF! -> #REF! | E16: =#REF! -> #REF!
A17: =IF('U12'!G167="","",'U12'!G167) | B17: =IF('U12'!I167="","",'U12'!I167) | C17: =#REF! -> #REF! | D17: =#REF! -> #REF! | E17: =#REF! -> #REF!
